BEGIN:VCALENDAR
VERSION:2.0
PRODID:-//One Way Street Tokyo - ECPv6.6.2//NONSGML v1.0//EN
CALSCALE:GREGORIAN
METHOD:PUBLISH
X-ORIGINAL-URL:https://one-way-street.com/ja
X-WR-CALDESC:One Way Street Tokyo のイベント
REFRESH-INTERVAL;VALUE=DURATION:PT1H
X-Robots-Tag:noindex
X-PUBLISHED-TTL:PT1H
BEGIN:VTIMEZONE
TZID:Asia/Tokyo
BEGIN:STANDARD
TZOFFSETFROM:+0900
TZOFFSETTO:+0900
TZNAME:JST
DTSTART:20260101T000000
END:STANDARD
END:VTIMEZONE
BEGIN:VEVENT
DTSTART;TZID=Asia/Tokyo:20260301T143000
DTEND;TZID=Asia/Tokyo:20260301T180000
DTSTAMP:20260423T033452
CREATED:20260214T101900Z
LAST-MODIFIED:20260220T103103Z
UID:9940-1772375400-1772388000@one-way-street.com
SUMMARY:[:zh]Asian Talk 217　燃烧吧！我们的小宇宙[:ja]Asian Talk 217　燃えろ！俺たちの小宇宙（コスモ）[:]
DESCRIPTION:【イベントテーマ】\nAsian Talk 217\n燃えろ！俺たちの小宇宙（コスモ）\n—『聖闘士星矢』から見る中国の海外テレビアニメ導入史（1979-1992）\n  \n【イベント紹介】\n「君は、小宇宙（コスモ）を感じたことがあるか？」 \n**聖闘士星矢は、日本の漫画家・車田正美**の最も影響力のある代表作である。70年代生まれ、80年代生まれの世代にとって、「星座」「聖衣（クロス）」「小宇宙（コスモ）」という言葉を聞くだけで、たちまち鮮やかな情景が脳裏によみがえる。これは私たちの少年時代に最も愛読した“鎧系”漫画であり、1990年に最初の単行本が私たちの視野に入って以来、聖闘士との縁はすでに40年近くに及んでいる。 \n1992年、『聖闘士星矢』のアニメが各家庭のテレビ画面に登場したとき、私たちの情熱は完全に点火された。漫画からアニメへと喜びがこれほど迅速に広がった例は稀であり、本作は中国の翻訳・吹替アニメ史において、まさに「犹抱琵琶半遮面、千呼万唤始出来」と形容できる、待ち望まれてようやく姿を現した特別な作品となった。 \nもし70年代生まれ、80年代生まれ、さらには90年代生まれにまで共鳴をもたらすアニメがあるとすれば、それは間違いなく『聖闘士星矢』であろう。 \n本作の誕生から40年を迎える今、「作品はいかにして創られたのか」を主軸に据えつつ、中国における海外アニメ導入の発展の軌跡を織り交ぜながら、個人の記憶を時代という座標の中に置き直して捉え直す機会としたい。なぜあの頃、私たちはあれほど夢中になったのか。あの色彩豊かな画面と生き生きとしたキャラクターたちは、いかにして一台のテレビ、一冊の漫画、一度の回し読み、そして放課後の語らいの中で、一世代の共有された記憶となっていったのか。 \nさあ、再び歓声渦巻く銀河戦争（ギャラクシアンウォーズ）の舞台へ戻ろう。 \n再び聖域（サンクチュアリ）の黄金十二宮へ挑み、 \n再びポセイドンの海底神殿へ赴き、 \nそして再び嘆きの壁の前で、ともに祈ろう。 \n \n  \n【ゲスト紹介】\n \n張翼 \n80年代生まれのプログラマー。\n「far far away」や「long long ago」といった、どこか遠い昔や彼方を感じさせるものすべてをこよなく愛する。 \n本業のかたわら、20世紀80〜90年代のアニメ関連書籍の導入および翻訳に携わり、これまでに\n『トランスフォーマー・ビジュアル』、\n『ドラゴンボール 超画集』、\n『聖闘士星矢 アニメ・コスモ』\nなどを手がけている。 \n  \n【関連書籍】\n \n『燃えろ！俺の小宇宙（コスモ）――〈聖闘士星矢〉公式資料集』 \n編著：木村斉史\n翻訳：張翼 \n『燃えろ！俺の小宇宙（コスモ）――〈聖闘士星矢〉アニメ公式資料集』は、中国本土で正式に導入された初の聖闘士星矢テレビアニメ公式設定資料集である。 \n本書は東映アニメーションの正式な許諾を受けて刊行されており、このクラシックシリーズのアニメ設定、キャラクター、そして聖衣（クロス）を体系的に振り返る決定版資料として広く評価されている。 \n  \n【イベント情報】\nゲスト：張翼 \n日時：2026年3月1日（日）14:30〜16:00 \n会場：単向街書店・東京銀座店\n東京都中央区銀座1-6-1 \n形式：中国語によるトークイベント（日本語要訳）・全席自由（40席） \n参加費：￥1\,500｜年会員無料 \n※本イベントは全席自由席となっており、指定席はございません。ご来場順にお好きなお席をお選びいただけます。 \n———————————————————————————————————— \n【参加予約】 \n下記リンクをクリックして予約ページへお進みいただき、イベント注意事項をよくお読みのうえ、必要事項をご記入ください。 \n参加費はイベント当日、1階カウンターにてお支払いください。 \nhttps://forms.gle/BMrLXJVB8SipZmxg7 \n  \n【当日券】 \nイベント当日、1階カウンターにてご購入ください。 \n  \n【単向街書店・東京銀座店 年会員】 \n単向街書店・東京銀座店の年会員の方は、本イベントに無料でご参加いただけます。 \n下記リンクをクリックして予約ページへお進みいただき、イベント注意事項をよくお読みのうえ、必要事項をご記入ください。 \nイベント当日は、有効な会員カードをスタッフにご提示ください。会員確認後、ご入場いただけます。 \nhttps://forms.gle/BMrLXJVB8SipZmxg7 \n———————————————————————————————————— \nご来店の皆さまへ \nイベント開始時刻の30分前よりご入場いただけます。 \nご不明な点がございましたら、いつでもお電話（03-6263-0116）にてお問い合わせください。 \n———————————————————————————————————— \n\n\n\n\n\n\n\n\n【QRコードを読み取って単向街書店・東京銀座店年会員になる】 \n\n\n\n\n\n\n\n\n \n◎年会員　会費：33\,000円／年（税込） \n【会員特典】 \n1．専用年会員カードの発行 \n2．全ドリンク無料券12枚進呈 \n3．書店イベントへの無料参加 \n4．簡体字中国語書籍のご購入が30％OFF（7割引）
URL:https://one-way-street.com/ja/event/asian-talk-217/
LOCATION:One Way Street Tokyo\, 東京都中央区銀座1丁目6−1\, 東京\, Japan
ATTACH;FMTTYPE=image/png:https://one-way-street.com/wp-content/uploads/2026/02/26.3.1圣斗士张中）.png
END:VEVENT
END:VCALENDAR