BEGIN:VCALENDAR
VERSION:2.0
PRODID:-//One Way Street Tokyo - ECPv6.6.2//NONSGML v1.0//EN
CALSCALE:GREGORIAN
METHOD:PUBLISH
X-WR-CALNAME:One Way Street Tokyo
X-ORIGINAL-URL:https://one-way-street.com/ja
X-WR-CALDESC:One Way Street Tokyo のイベント
REFRESH-INTERVAL;VALUE=DURATION:PT1H
X-Robots-Tag:noindex
X-PUBLISHED-TTL:PT1H
BEGIN:VTIMEZONE
TZID:Asia/Tokyo
BEGIN:STANDARD
TZOFFSETFROM:+0900
TZOFFSETTO:+0900
TZNAME:JST
DTSTART:20250101T000000
END:STANDARD
END:VTIMEZONE
BEGIN:VEVENT
DTSTART;TZID=Asia/Tokyo:20251129T143000
DTEND;TZID=Asia/Tokyo:20251129T160000
DTSTAMP:20260423T111211
CREATED:20251118T092450Z
LAST-MODIFIED:20251118T105101Z
UID:9603-1764426600-1764432000@one-way-street.com
SUMMARY:[:zh]Asian Talk 197 用一年的环球旅行，寻找中日古建筑的不同 《速写本上的世界》东京单向街书店分享会[:]
DESCRIPTION:申し訳ありません、このコンテンツはただ今　中文　のみです。
URL:https://one-way-street.com/ja/event/asian-talk-197/
LOCATION:One Way Street Tokyo\, 東京都中央区銀座1丁目6−1\, 東京\, Japan
ATTACH;FMTTYPE=image/png:https://one-way-street.com/wp-content/uploads/2025/11/2025年11月29日-2.png
END:VEVENT
END:VCALENDAR