BEGIN:VCALENDAR
VERSION:2.0
PRODID:-//One Way Street Tokyo - ECPv6.6.2//NONSGML v1.0//EN
CALSCALE:GREGORIAN
METHOD:PUBLISH
X-ORIGINAL-URL:https://one-way-street.com/ja
X-WR-CALDESC:One Way Street Tokyo のイベント
REFRESH-INTERVAL;VALUE=DURATION:PT1H
X-Robots-Tag:noindex
X-PUBLISHED-TTL:PT1H
BEGIN:VTIMEZONE
TZID:Asia/Tokyo
BEGIN:STANDARD
TZOFFSETFROM:+0900
TZOFFSETTO:+0900
TZNAME:JST
DTSTART:20250101T000000
END:STANDARD
END:VTIMEZONE
BEGIN:VEVENT
DTSTART;VALUE=DATE:20251027
DTEND;VALUE=DATE:20251103
DTSTAMP:20260423T100559
CREATED:20251015T094608Z
LAST-MODIFIED:20251024T113743Z
UID:9166-1761523200-1762127999@one-way-street.com
SUMMARY:[:zh]【艺术空间】ある画家の記録ーー都市と幻想[:ja]【アートスペース】 ある画家の記録 都市と幻想[:]
DESCRIPTION:【アートスペース】\nある画家の記録\n都市と幻想\n  \n【展示情報】\n2025.10.27-11.02 \n作者：孟崢（モウ・ソウ） \n場所：東京都中央区銀座1-6-1　単向街書店 \n無料入場 \n  \n【アーティスト】\n \n孟崢（モウ・ソウ） \n2001年生まれ。 \n中国・鄭州大学卒業。 \n現在、東京造形大学大学院アニメーション専攻修士1年に在学し、アニメーション作家として活動しています。 \n  \n\n2024年初め、「画家」をテーマにしたアニメーションの構想を始めました。制作を進めるうちに、自分の中の「画家」のイメージが映像作品の影響を強く受けていることに気づきました。 \n同年7月に日本へ来て、開かれた芸術環境と都市の華やかさに触れ、創作の意味を改めて考えるようになりました。その中で、初期にフランスへ留学した日本人画家たちの記録に出会い、彼らの探求や葛藤に共感しました。 \n本展では、「画家」と「都市」の関係を考える中で生まれたイメージや絵画を展示しています。 \n\n \n  
URL:https://one-way-street.com/ja/event/exhibition-20251027/
LOCATION:One Way Street Tokyo\, 東京都中央区銀座1丁目6−1\, 東京\, Japan
ATTACH;FMTTYPE=image/jpeg:https://one-way-street.com/wp-content/uploads/2025/10/cgi-bin_mmwebwx-bin_webwxgetmsgimg__MsgID7182262116073128211skey@crypt_2b6780f2_1961b70a06f2ec786856054f0eacf22fmmweb_appidwx_webfilehelper-scaled.jpg
END:VEVENT
END:VCALENDAR