BEGIN:VCALENDAR
VERSION:2.0
PRODID:-//One Way Street Tokyo - ECPv6.6.2//NONSGML v1.0//EN
CALSCALE:GREGORIAN
METHOD:PUBLISH
X-WR-CALNAME:One Way Street Tokyo
X-ORIGINAL-URL:https://one-way-street.com/ja
X-WR-CALDESC:One Way Street Tokyo のイベント
REFRESH-INTERVAL;VALUE=DURATION:PT1H
X-Robots-Tag:noindex
X-PUBLISHED-TTL:PT1H
BEGIN:VTIMEZONE
TZID:Asia/Tokyo
BEGIN:STANDARD
TZOFFSETFROM:+0900
TZOFFSETTO:+0900
TZNAME:JST
DTSTART:20250101T000000
END:STANDARD
END:VTIMEZONE
BEGIN:VEVENT
DTSTART;TZID=Asia/Tokyo:20250824T143000
DTEND;TZID=Asia/Tokyo:20250824T180000
DTSTAMP:20260423T160726
CREATED:20250812T060050Z
LAST-MODIFIED:20250815T110149Z
UID:8589-1756045800-1756058400@one-way-street.com
SUMMARY:[:zh]知识IP商业体：从0到亿级粉丝的盈利架构设计[:]
DESCRIPTION:申し訳ありません、このコンテンツはただ今　中文　のみです。
URL:https://one-way-street.com/ja/event/20250824/
LOCATION:One Way Street Tokyo\, 東京都中央区銀座1丁目6−1\, 東京\, Japan
ATTACH;FMTTYPE=image/png:https://one-way-street.com/wp-content/uploads/2025/08/8.24品牌IP.png
END:VEVENT
END:VCALENDAR