BEGIN:VCALENDAR
VERSION:2.0
PRODID:-//One Way Street Tokyo - ECPv6.6.2//NONSGML v1.0//EN
CALSCALE:GREGORIAN
METHOD:PUBLISH
X-ORIGINAL-URL:https://one-way-street.com/ja
X-WR-CALDESC:One Way Street Tokyo のイベント
REFRESH-INTERVAL;VALUE=DURATION:PT1H
X-Robots-Tag:noindex
X-PUBLISHED-TTL:PT1H
BEGIN:VTIMEZONE
TZID:Asia/Tokyo
BEGIN:STANDARD
TZOFFSETFROM:+0900
TZOFFSETTO:+0900
TZNAME:JST
DTSTART:20250101T000000
END:STANDARD
END:VTIMEZONE
BEGIN:VEVENT
DTSTART;TZID=Asia/Tokyo:20250823T140000
DTEND;TZID=Asia/Tokyo:20250823T160000
DTSTAMP:20260423T160745
CREATED:20250817T025456Z
LAST-MODIFIED:20250817T092712Z
UID:8635-1755957600-1755964800@one-way-street.com
SUMMARY:[:zh]【东京有趣人类社区 × 东京单向街书店】开放式辩论赛[:]
DESCRIPTION:申し訳ありません、このコンテンツはただ今　中文　のみです。
URL:https://one-way-street.com/ja/event/20250823-2/
LOCATION:One Way Street Tokyo\, 東京都中央区銀座1丁目6−1\, 東京\, Japan
ATTACH;FMTTYPE=image/png:https://one-way-street.com/wp-content/uploads/2025/08/イベントポスター（2025年7月）-17.png
END:VEVENT
BEGIN:VEVENT
DTSTART;TZID=Asia/Tokyo:20250823T163000
DTEND;TZID=Asia/Tokyo:20250823T183000
DTSTAMP:20260423T160745
CREATED:20250811T143251Z
LAST-MODIFIED:20250813T055040Z
UID:8584-1755966600-1755973800@one-way-street.com
SUMMARY:[:zh]知识IP商业体：从0到亿级粉丝的盈利架构设计[:]
DESCRIPTION:申し訳ありません、このコンテンツはただ今　中文　のみです。
URL:https://one-way-street.com/ja/event/20250823/
LOCATION:One Way Street Tokyo\, 東京都中央区銀座1丁目6−1\, 東京\, Japan
ATTACH;FMTTYPE=image/png:https://one-way-street.com/wp-content/uploads/2025/08/8.23品牌IP.png
END:VEVENT
END:VCALENDAR