BEGIN:VCALENDAR
VERSION:2.0
PRODID:-//One Way Street Tokyo - ECPv6.6.2//NONSGML v1.0//EN
CALSCALE:GREGORIAN
METHOD:PUBLISH
X-ORIGINAL-URL:https://one-way-street.com/ja
X-WR-CALDESC:One Way Street Tokyo のイベント
REFRESH-INTERVAL;VALUE=DURATION:PT1H
X-Robots-Tag:noindex
X-PUBLISHED-TTL:PT1H
BEGIN:VTIMEZONE
TZID:Asia/Tokyo
BEGIN:STANDARD
TZOFFSETFROM:+0900
TZOFFSETTO:+0900
TZNAME:JST
DTSTART:20240101T000000
END:STANDARD
END:VTIMEZONE
BEGIN:VEVENT
DTSTART;TZID=Asia/Tokyo:20241123T143000
DTEND;TZID=Asia/Tokyo:20241123T160000
DTSTAMP:20260424T052458
CREATED:20241111T042621Z
LAST-MODIFIED:20241111T054648Z
UID:6229-1732372200-1732377600@one-way-street.com
SUMMARY:[:zh]Asian Talk 113 日本创业的探索与实践 ——日本90后女性创业者从零到一的创业分享[:]
DESCRIPTION:申し訳ありません、このコンテンツはただ今　中文　のみです。
URL:https://one-way-street.com/ja/event/asian-talk113/
LOCATION:One Way Street Tokyo\, 東京都中央区銀座1丁目6−1\, 東京\, Japan
ATTACH;FMTTYPE=image/png:https://one-way-street.com/wp-content/uploads/2024/11/AT113-POSTER.png
END:VEVENT
BEGIN:VEVENT
DTSTART;TZID=Asia/Tokyo:20241123T180000
DTEND;TZID=Asia/Tokyo:20241123T200000
DTSTAMP:20260424T052458
CREATED:20241119T053936Z
LAST-MODIFIED:20241120T105912Z
UID:6306-1732384800-1732392000@one-way-street.com
SUMMARY:[:zh]【LI-PI】Soul of the Joker 小丑的灵魂之乐[:ja]【LI-PI】Soul of the Joker[:]
DESCRIPTION:【イベントテーマ】 \nSoul of the Joker\n  \n【ゲストプロフィール】 \n \nDJ・馬遲 \nLi-Pi Records創始者、レコードプレヤーデザインナー、レコード発行 \n  \nBartender・Tero \n東京芸術大学音楽学科研究生、曽てバー自営者、アート関連企画 \n  \n【イベント情報】 \nDJ：Machi \nBartender：Tero \n日時：2024年11月23日（土）18:00-20:00 \n場所：単向街書店・東京銀座店 \n東京都中央区銀座1-6-1 \n費用：ワンドリンク入場 \n形式：レコード・カクテル・朗読・中日通訳有・全席自由 \n—————— \n参加申し込み方法：当日ご来場ください \n—————— \nお問い合わせ：インスタグラム公式アカウント、電話0362630116。 \n◎年間費会員33\,000円/年(税込) \n \n年間費会員申込コード \n【会員特典】 \n１、番号付き会員カード \n2、ドリンク無料券12枚の進呈 \n3、イベント無料参加 \n4、中国語書籍（簡体）3割引 \n  \n【イベント紹介】 \n悲劇、喜劇、正劇、そして茶番劇が、静かな生活の中に溶け込んでいる。スポットライトの下で開かれた日記が、初めて異国で読み上げられ、旧の希望、及び新の生活が語られる。 \n美しい女性は、ネット上の注目を避けるために、SNS上では親しい友人に対して異なるシェアのタグを真剣に付けている。「ハハ」(妻)だけが大好きな兄猫はあっという間に「オトナ」になってきたが、「チチ」(夫)のことはまだまだ受け入れられない。サーカスを取材する記者は笑い転げ、カラフルなズボンを履いて子供たちに追いかけられる。 \n決心しよう！元の安定を捨て、大笑い！ \n映画『Joker: Folie à Deux』に深く感銘を受けたDJ馬遲は、映画の中でカバーされた100年にわたる一連のオリジナル曲のレコードを探し出して、書店で流す。ソウルミュージックは、異なる時代に生きる不安に陥った人々を勇気づけてきた。 \n初冬の少し寒い夜に、DJとBartenderは、 \n音楽とカクテルで二重の狂気を演じ、Jokerに変身！
URL:https://one-way-street.com/ja/event/soul-of-the-joker/
LOCATION:One Way Street Tokyo\, 東京都中央区銀座1丁目6−1\, 東京\, Japan
ATTACH;FMTTYPE=image/jpeg:https://one-way-street.com/wp-content/uploads/2024/11/adecdd44a23906f496e5de9aa6a6ba00.jpeg
END:VEVENT
END:VCALENDAR