BEGIN:VCALENDAR
VERSION:2.0
PRODID:-//One Way Street Tokyo - ECPv6.6.2//NONSGML v1.0//EN
CALSCALE:GREGORIAN
METHOD:PUBLISH
X-ORIGINAL-URL:https://one-way-street.com/ja
X-WR-CALDESC:One Way Street Tokyo のイベント
REFRESH-INTERVAL;VALUE=DURATION:PT1H
X-Robots-Tag:noindex
X-PUBLISHED-TTL:PT1H
BEGIN:VTIMEZONE
TZID:Asia/Tokyo
BEGIN:STANDARD
TZOFFSETFROM:+0900
TZOFFSETTO:+0900
TZNAME:JST
DTSTART:20240101T000000
END:STANDARD
END:VTIMEZONE
BEGIN:VEVENT
DTSTART;TZID=Asia/Tokyo:20240803T143000
DTEND;TZID=Asia/Tokyo:20240803T160000
DTSTAMP:20260424T102938
CREATED:20240720T032202Z
LAST-MODIFIED:20240723T075505Z
UID:5044-1722695400-1722700800@one-way-street.com
SUMMARY:[:zh]Asian Talk 074 如何选择高收益不动产[:ja]Asian Talk 074  儲かる不動産の選び方[:]
DESCRIPTION:【イベントテーマ】 \nAsian Talk 074 \n儲かる不動産の選び方 \n  \n【イベント詳細】 \nゲスト：株式会社フェルメス　酒井康夫 \n  \n日時：2024年8月3日（土）　14：30～16：00 \n場所：単向街書店・東京銀座店 \n東京都中央区銀座1-6-1 \n形式：日本語トーク・中国語通訳あり \n全席自由（40席） \n  \n—————— \n費用：1500円 \n単向街書店・銀座店の年間会員は無料 \n入場券事前購入：ポスターのQRコード、ホームページ \n当日券購入：店頭レジ \n—————— \n– \n【入場券事前購入】 \n上部「Get Tickets」のボタンをクリックし、購入画面へお進みください。 \nお客様都合での払戻しは一切承ることができませんのでご了承ください。 \n– \n【単向街書店・銀座店会員】 \n下部「Going」のボタンをクリックし、申込画面購入画面へお進みください。 \n—————— \nお問い合わせ：インスタグラム公式アカウント、電話0362630116。 \n◎単向街書店・銀座店会員　年会費33\,000円/年(税込) \n \n会員申込コード \n【会員特典】 \n１、番号付き会員カード \n2、ドリンク無料券12枚の進呈 \n3、イベント無料参加(一部を除く) \n4、中国語書籍（簡体）3割引 \n  \n【イベント紹介】 \n収益不動産投資の世界に飛び込み、収益物件を選ぶための秘密を解き明かしてみませんか？今回のイベントでは、不動産業界で20年以上の経験を持つ宅地建物取引士、酒井康夫さんをお迎えし、収益物件の選び方や信頼できる不動産業者の見極め方について詳しくお話しいただきます。 \nこのトークイベントでは、収益物件の種類や選び方、そして儲かる不動産の選び方など、収益物件を所有する際に知っておくべき重要なポイントを網羅します。初心者から経験豊富な投資家まで、全ての参加者が学び、実践できる内容が盛りだくさんです。 \n今すぐ参加を予約し、酒井康夫さんから直接学ぶ貴重なチャンスをお見逃しなく。専門家の指導を受けて、賢い不動産投資の方法をマスターし、成功への道を切り開きましょう。 \n  \n【ゲストプロフィール】 \n \n｜酒井 康夫\n \n株式会社フェルメス　執行役員 \n東京都出身、不動産業界歴20年以上、宅地建物取引主任士、３児の父
URL:https://one-way-street.com/ja/event/asian-talk-074/
LOCATION:One Way Street Tokyo\, 東京都中央区銀座1丁目6−1\, 東京\, Japan
ATTACH;FMTTYPE=image/png:https://one-way-street.com/wp-content/uploads/2024/07/991721446223_.pic_hd.png
END:VEVENT
BEGIN:VEVENT
DTSTART;TZID=Asia/Tokyo:20240803T180000
DTEND;TZID=Asia/Tokyo:20240803T200000
DTSTAMP:20260424T102938
CREATED:20240729T225339Z
LAST-MODIFIED:20240801T010906Z
UID:5109-1722708000-1722715200@one-way-street.com
SUMMARY:[:zh]Chanson Vinyl Soirée  巴黎香颂黑胶唱片之夜[:ja]Chanson Vinyl Soirée  シャンソンレコードの夜[:]
DESCRIPTION:【イベントテーマ】 \nChanson Vinyl Soirée \nシャンソンレコードの夜 \n  \n【イベント詳細】 \nDJ MaChi \nバーテンダー 謝 鵬斐 \n  \n2024年8月3日（土）18：00～20：00 \n会場：単向街書店・银座店 \nアドレス：東京都中央区銀座1−6−1 \nレコード・カクテル・朗読・中日通訳有・全席自由 \n  \n—————— \n費用：ワンドリンク入場 \n下部「Going」のボタンをクリックし、申込画面購入画面へお進みください。 \n—————— \n  \nお問い合わせ：インスタグラム公式アカウント、電話0362630116。 \n◎単向街書店・銀座店会員　年会費33\,000円/年(税込) \n \n会員申込コード \n【会員特典】 \n１、番号付き会員カード \n2、ドリンク無料券12枚の進呈 \n3、イベント無料参加(一部を除く) \n4、中国語書籍（簡体）3割引 \n  \n【イベント紹介】 \n2024年パリオリンピックが華々しく開幕しました。多彩な芸術が融合した開会式は、パリのロマンと自由を存分に感じさせるものでした。シャンソンは中世から現代まで歌い継がれ、その魅力は今も世の中に溢れているでしょう。この真夏の夜、グラスを手に取り、貴重な初版アナログレコードから流れてくる、赤・白・青のメロディーに耳を傾けましょう。 \n  \n \n  \n【ゲスト紹介】 \n \n｜馬遲　MaChi \nLi-Pi Records創始者、レコードプレヤーデザインナー、レコード発行 \n  \n【フランス語朗読・歌う者応募】 \nフランス語を話せる皆さん、私たちのパフォーマンスイベントにぜひご参加ください。詩、歌詞や散文の朗読、シャンソンの歌唱など、どちらも大歓迎です！参加をご希望の方は、DJ馬遅までDMでお申し込みください。お待ちしております！
URL:https://one-way-street.com/ja/event/lipi-chanson/
LOCATION:One Way Street Tokyo\, 東京都中央区銀座1丁目6−1\, 東京\, Japan
ATTACH;FMTTYPE=image/jpeg:https://one-way-street.com/wp-content/uploads/2024/07/2551722314180_.pic_hd.jpg
END:VEVENT
END:VCALENDAR