BEGIN:VCALENDAR
VERSION:2.0
PRODID:-//One Way Street Tokyo - ECPv6.6.2//NONSGML v1.0//EN
CALSCALE:GREGORIAN
METHOD:PUBLISH
X-WR-CALNAME:One Way Street Tokyo
X-ORIGINAL-URL:https://one-way-street.com/ja
X-WR-CALDESC:One Way Street Tokyo のイベント
REFRESH-INTERVAL;VALUE=DURATION:PT1H
X-Robots-Tag:noindex
X-PUBLISHED-TTL:PT1H
BEGIN:VTIMEZONE
TZID:Asia/Tokyo
BEGIN:STANDARD
TZOFFSETFROM:+0900
TZOFFSETTO:+0900
TZNAME:JST
DTSTART:20240101T000000
END:STANDARD
END:VTIMEZONE
BEGIN:VEVENT
DTSTART;TZID=Asia/Tokyo:20240615T143000
DTEND;TZID=Asia/Tokyo:20240615T163000
DTSTAMP:20260424T131046
CREATED:20240606T100609Z
LAST-MODIFIED:20240607T102539Z
UID:4608-1718461800-1718469000@one-way-street.com
SUMMARY:[:ja]Asian Talk 058 日本・韓国の都会と鉄道[:]
DESCRIPTION:【イベントテーマ】 \nAsian Talk 058 \n日本・韓国の都会と鉄道 \n  \nPart.1 私鉄会社と東京: 田園調布からスカイツリーまで \nPart.2 ソウル首都圏の交通革命：広域急行鉄道の失敗と教訓 \n  \n【イベント詳細】 \nゲスト：劉雨迪、金榮俊 KIM Youngjoon \n  \n日時：2024年6月15日（土）14:30-16:30 \n場所：単向街書店・東京銀座店 \n東京都中央区銀座1-6-1 \n形式：日本語トーク \n全席自由 \n—————— \n費用：1ドリンク \n単向街書店・銀座店の年間会員は無料 \n入場券事前購入：ポスターのQRコード、ホームページ \n当日券購入：店頭レジ \n—————— \n– \n【入場券事前購入】 \n上部「Get Tickets」のボタンをクリックし、購入画面へお進みください。 \nお客様都合での払戻しは一切承ることができませんのでご了承ください。 \n– \n【単向街書店・銀座店会員】 \n下部「Going」のボタンをクリックし、申込画面購入画面へお進みください。 \n—————— \nお問い合わせ：インスタグラム公式アカウント、電話0362630116。 \n◎単向街書店・銀座店会員　年会費33\,000円/年(税込) \n \n会員申込コード \n【会員特典】 \n１、番号付き会員カード \n2、ドリンク無料券12枚の進呈 \n3、イベント無料参加(一部を除く) \n4、中国語書籍（簡体）3割引 \n  \n【イベント紹介】 \n現代の都会生活における鉄道インフラの役割とは何でしょうか？日本と韓国の都市交通システムの発展は、市民の生活にどのような影響をもたらすのでしょうか？この度、銀座単向街書店は、劉雨迪氏と金榮俊氏をお招きし、日本と韓国の都会と鉄道に焦点を当てたトークイベントを開催します。東京の交通網の課題と成功事例やソウルの広域急行鉄道プロジェクトなど、多岐にわたるテーマについて議論します。都市の未来を共に考えるこの機会をお見逃しなく！ \n  \nPart.1 私鉄会社と東京: 田園調布からスカイツリーまで \n東京における生活の中で、私鉄会社の影響は至る所に存在する。100年前の田園調布や戦後のプリンスホテル、都民もよく訪れるディズニーランド、根津美術館、渋谷の再開発、そして東京スカイツリーもその影響だ。 \n多摩ニュータウンのような巨大開発がなぜ私鉄線路に依存しているのか。二大空港へ行くにはなぜ私鉄を乗ったほうが便利なのか。なぜ様々な業界で鉄道ブランドが存在するのか。JR東日本や東京メトロがなぜ東急などの大手私鉄と多くの共通点を持っているのか。本講座では学術的な研究に基づき、歴史の逸話を楽しく語りながら、100年以上にわたって私鉄会社が東京の生活に与えた影響とその理由を述べ、身近な場所に隠された文脈を議論する。 \n  \nPart.2 ソウル首都圏の交通革命：広域急行鉄道の失敗と教訓 \n韓国・ソウル首都圏は今や自由世界・先進国のメトロポリスの一つとしてその地位を確かなものにしている。しかし、韓国、特にソウルにおける平均通勤時間は非常に長く、quality of lifeに多大な悪影響を及ぼしている。このような状況を打開するため、ソウル市だけでなく、国の主導で「広域急行鐵道」という地下通勤高速鉄道の整備が進んでいるが、ルートの選定、そして需要予測の失敗など、様々な問題を抱えているのが現状である。 \nなぜソウル首都圏はこのような状況に置かれてしまったのか。その遠因は何なのか。果たしていつからこのような問題が起きていたのかもしくは問題の「芽」はいつ芽生え始めたのか。 \n博士研究をもとに、その壮絶な失敗と挫折の物語を紐解いていきたい。 \n  \n【ゲストプロフィール】 \n \n｜劉雨迪 \n早稻田大学 助教 \n  \n \n｜金榮俊 KIM Youngjoon \n東京大学大学院都市工学専攻博士課程在学中\n専門は植民地期（戦前）の韓国・ソウルの都市史及び交通史\nその他に趣味として、近代建築やマンホールの蓋などを記録し、自主出版している\n現在、一般財団法人森記念財団参加都市整備研究所で研究員として勤務中
URL:https://one-way-street.com/ja/event/asian-talk-058/
LOCATION:One Way Street Tokyo\, 東京都中央区銀座1丁目6−1\, 東京\, Japan
ATTACH;FMTTYPE=image/jpeg:https://one-way-street.com/wp-content/uploads/2024/06/5721717715146_.pic_.jpg
END:VEVENT
END:VCALENDAR