BEGIN:VCALENDAR
VERSION:2.0
PRODID:-//One Way Street Tokyo - ECPv6.6.2//NONSGML v1.0//EN
CALSCALE:GREGORIAN
METHOD:PUBLISH
X-ORIGINAL-URL:https://one-way-street.com/ja
X-WR-CALDESC:One Way Street Tokyo のイベント
REFRESH-INTERVAL;VALUE=DURATION:PT1H
X-Robots-Tag:noindex
X-PUBLISHED-TTL:PT1H
BEGIN:VTIMEZONE
TZID:Asia/Tokyo
BEGIN:STANDARD
TZOFFSETFROM:+0900
TZOFFSETTO:+0900
TZNAME:JST
DTSTART:20240101T000000
END:STANDARD
END:VTIMEZONE
BEGIN:VEVENT
DTSTART;TZID=Asia/Tokyo:20240609T143000
DTEND;TZID=Asia/Tokyo:20240609T160000
DTSTAMP:20260424T131107
CREATED:20240519T155851Z
LAST-MODIFIED:20240521T124827Z
UID:4376-1717943400-1717948800@one-way-street.com
SUMMARY:[:zh]Asian Talk 056  文化批评能改变社会吗？——从亚文化视角[:ja]Asian Talk 056  文化批評は社会を変える力を持つのか？——サブカルチャーの視点から[:]
DESCRIPTION:【イベントテーマ】 \nAsian Talk 056 \n文化批評は社会を変える力を持つのか？——サブカルチャーの視点から \n  \n【イベント詳細】 \nゲスト：宇野常寛 \n司会・通訳：Iken \n  \n日時：2024年6月9日（日）14:30-16:00 \n場所：単向街書店・東京銀座店 \n東京都中央区銀座1-6-1 \n形式：日本語トーク・中国語通訳あり \n全席自由 \n—————— \n費用：1500円 \n単向街書店・銀座店の年間会員は無料 \n入場券事前購入：ポスターのQRコード、ホームページ \n当日券購入：店頭レジ \n—————— \n– \n【入場券事前購入】 \n上部「Get Tickets」のボタンをクリックし、購入画面へお進みください。 \nお客様都合での払戻しは一切承ることができませんのでご了承ください。 \n– \n【単向街書店・銀座店会員】 \n下部「Going」のボタンをクリックし、申込画面購入画面へお進みください。 \n—————— \nお問い合わせ：インスタグラム公式アカウント、電話0362630116。 \n◎単向街書店・銀座店会員　年会費33\,000円/年(税込) \n \n会員申込コード \n【会員特典】 \n１、番号付き会員カード \n2、ドリンク無料券12枚の進呈 \n3、イベント無料参加(一部を除く) \n4、中国語書籍（簡体）3割引 \n  \n【イベント紹介】 \n社会を変える力は、理論にあるのでしょうか、それとも行動にあるのでしょうか？それとも、私たちは既に個人が社会を変えることができず、ただ社会に変えられるだけの状況にあるのでしょうか？ \n文化評論家である宇野常寛氏は、サブカルチャーの視点から私たちに新たな道を切り開こうとしています。彼は『若い読者のためのサブカルチャー論』において、戦後日本社会におけるアニメ、漫画、そしてオタク文化の発展を詳述しています。彼の見解によれば、これらの文化的および娯楽的な表現の背後には、戦後日本が急速な発展を遂げ、集団的な豊かさを享受し、その後アイデンティティの喪失と再発見の道を歩んできた歴史があります。 \n宇野氏は、社会の機構に潜む弱さや自己欺瞞を明らかにし、若い世代が社会に対して大胆に声を上げ、自分自身を貫く勇気を再び燃え立たせることを期待しています。 \n今回、銀座単向街書店は、宇野常寛氏をお招き、サブカルチャーの視点から文化批評と社会について、トークイベントを行います。ぜひお楽しみに！ \n  \n【ゲストプロフィール】 \n \n｜宇野 常寛（うの つねひろ） \n1978年生まれ。立命館大学文学部を卒業後、批評誌「PLANETS」創刊編集長に就任。ニュース番組や討論番組を中心に様々なメディアに出演。立教大学社会学部兼任講師も務める。 \n政治からサブカルチャー、メディアからライフスタイルまで、社会の時流をとらえた講演が可能。ラジオのパーソナリティや、テレビ番組でのコメンテーターの経験を活かし、独自の視点から切り込んだ面白く実践的な講演を行う。\n著書に『ゼロ年代の想像力』（早川書房）、『リトル・ピープルの時代』（幻冬舎）、大学入試頻出の『日本文化の論点』（筑摩書房）、『母性のディストピア』（集英社）、石破茂との対談『こんな日本をつくりたい』（太田出版）など多数。 \n  \n【関連作品】 \n \n  \n《给年轻读者的日本亚文化论》 \n作者：宇野常宽 \n译者：刘凯 \n漓江出版社 \n2023年7月
URL:https://one-way-street.com/ja/event/asian-talk-056/
LOCATION:One Way Street Tokyo\, 東京都中央区銀座1丁目6−1\, 東京\, Japan
ATTACH;FMTTYPE=image/png:https://one-way-street.com/wp-content/uploads/2024/05/48911716210509_.pic_hd.png
END:VEVENT
BEGIN:VEVENT
DTSTART;TZID=Asia/Tokyo:20240609T173000
DTEND;TZID=Asia/Tokyo:20240609T190000
DTSTAMP:20260424T131107
CREATED:20240602T072250Z
LAST-MODIFIED:20240602T082117Z
UID:4516-1717954200-1717959600@one-way-street.com
SUMMARY:[:zh]Asian Talk 065 许知远《意外的旅程》新书分享会 [:]
DESCRIPTION:申し訳ありません、このコンテンツはただ今　中文　のみです。
URL:https://one-way-street.com/ja/event/asian-talk-065-unexpected-journeys/
LOCATION:One Way Street Tokyo\, 東京都中央区銀座1丁目6−1\, 東京\, Japan
ATTACH;FMTTYPE=image/png:https://one-way-street.com/wp-content/uploads/2024/06/更新-意外的旅程海报9：16.png
END:VEVENT
END:VCALENDAR