BEGIN:VCALENDAR
VERSION:2.0
PRODID:-//One Way Street Tokyo - ECPv6.6.2//NONSGML v1.0//EN
CALSCALE:GREGORIAN
METHOD:PUBLISH
X-ORIGINAL-URL:https://one-way-street.com/ja
X-WR-CALDESC:One Way Street Tokyo のイベント
REFRESH-INTERVAL;VALUE=DURATION:PT1H
X-Robots-Tag:noindex
X-PUBLISHED-TTL:PT1H
BEGIN:VTIMEZONE
TZID:Asia/Tokyo
BEGIN:STANDARD
TZOFFSETFROM:+0900
TZOFFSETTO:+0900
TZNAME:JST
DTSTART:20240101T000000
END:STANDARD
END:VTIMEZONE
BEGIN:VEVENT
DTSTART;TZID=Asia/Tokyo:20240608T143000
DTEND;TZID=Asia/Tokyo:20240608T160000
DTSTAMP:20260424T131054
CREATED:20240506T060401Z
LAST-MODIFIED:20240520T012946Z
UID:4203-1717857000-1717862400@one-way-street.com
SUMMARY:[:zh]Asian Talk 055 日本社会如何理解刘慈欣的科幻小说？[:ja]Asian Talk 055 劉慈欣のSF小説が日本社会においてどのように捉えられているのか？ ——三体から、流浪地球、老神介護まで[:]
DESCRIPTION:【イベントテーマ】 \nAsian Talk 055 \n劉慈欣のSF小説が日本社会においてどのように捉えられているのか？ ——三体から、流浪地球、老神介護まで \n  \n【イベント詳細】 \nゲスト：大森望、郡司珠子 \n司会・通訳：張葉 \n日時：2024年6月8日（土）14:30-16:00 \n場所：単向街書店・東京銀座店 \n東京都中央区銀座1-6-1 \n形式：日本語トーク・中国語通訳あり \n全席自由 \n—————— \n費用：1500円 \n単向街書店・銀座店の年間会員は無料 \n入場券事前購入：ポスターのQRコード、ホームページ \n当日券購入：店頭レジ \n—————— \n– \n【入場券事前購入】 \n上部「Get Tickets」のボタンをクリックし、購入画面へお進みください。 \nお客様都合での払戻しは一切承ることができませんのでご了承ください。 \n– \n【単向街書店・銀座店会員】 \n下部「Going」のボタンをクリックし、申込画面購入画面へお進みください。 \n—————— \nお問い合わせ：インスタグラム公式アカウント、電話0362630116。 \n◎単向街書店・銀座店会員　年会費33\,000円/年(税込) \n \n会員申込コード \n【会員特典】 \n１、番号付き会員カード \n2、ドリンク無料券12枚の進呈 \n3、イベント無料参加(一部を除く) \n4、中国語書籍（簡体）3割引 \n  \n【イベント紹介】 \n世界累計発行部数2900万部の『三体』で世界中をあっと言わせた、中国ＳＦ作家・劉慈欣（リュウジキン）。 \nいま、地球や人類の未来を読むならこの方、という世界的な作家による短編集、人類の軌道上の地球では生きていけなくなった時代――を表題作で扱った『流浪地球』。神様が人類に扶養してもらわなければ生きていけなくなった時代――を表題作で扱った『老神介護』などが注目を浴びています。そのうち、『流浪地球』が映画化され、映画「流転の地球」シリーズは中国で大ヒットを記録しました。第2作、映画『流転の地球 ー太陽系脱出計画ー』は現在、全国公開中です。 \n劉慈欣が描いた壮大な物語において、危機に直面している人たちの反応は考えさせられるでしょう。このキャラクターはなぜこのような価値観を持っているのか？各国政府はどこまで連携できるのか？自分が登場人物ならば、どのような行動を取るのか？私たちの疑問に、ＳＦを通じて小説の形で一つの可能性を示してくれます。 \n一方で、作者は中国出身という背景を持っています。ある種、中国の価値観が物語に反映されていると考えられますが、それを通じて日本と中国、お互いの文化や価値観を知るきっかけとすることもできるでしょう。 \n今回、銀座単向街書店では、『三体』、『流浪地球』、『老神介護』など、劉慈欣の作品を翻訳した大森望さんをゲストに迎え、SFファンの皆さんとのトーク・交流イベントを開催します。これらの極上のエンタテインメント作品について、SFという枠を超えて交流する機会を、どうぞお見逃しなく。 \n\n\n\n\n\n\n\n\n\n\n\n  \n\n\n\n\n\n\n\n\n\n\n\n【ゲストプロフィール】 \n \n｜大森望 \n1961年生まれ、京都大学文学部卒。翻訳家・批評家。訳書に劉慈欣『三体』『三体Ⅱ黒暗森林』（ともに共訳）、テッド・チャン『息吹』（以上、早川書房）、コニー・ウィリス『ブラックアウト』『オール・クリア』、フィリップ・Ｋ・ディック『銀河の壺直し』『いたずらの問題』（以上、すべてハヤカワ文庫SF)、オルダス・ハクスリー『すばらしい新世界』（ハヤカワepi文庫）など多数。著書に『21世紀SF1000（1・2）』（ハヤカワ文庫JA)、『現代SF観光局』（河出書房）など。アンソロジストとしても活躍し、編著に《NOVA 書き下ろし日本ＳＦコレクション》（河出文庫）など。 \n  \n｜郡司珠子 \n角川文庫　編集者 \n『流浪地球』『老神介護』出版担当 \n  \n【関連作品】 \n \n『三体』 \n劉 慈欣（著） \n大森 望、光吉 さくら、ワン チャイ (翻訳) \n早川書房 \n2019年7月 \n  \n \n『流浪地球』 \n劉 慈欣 (著) \n大森 望、古市 雅子 (翻訳) \n角川文庫 \n2024年1月 \n  \n \n『老神介護』 \n劉 慈欣 (著) \n大森 望、古市 雅子 (翻訳) \n角川文庫 \n2024年1月
URL:https://one-way-street.com/ja/event/asian-talk-055/
LOCATION:One Way Street Tokyo\, 東京都中央区銀座1丁目6−1\, 東京\, Japan
ATTACH;FMTTYPE=image/png:https://one-way-street.com/wp-content/uploads/2024/05/「家事ラク」を実現するキッチン-1.png
END:VEVENT
END:VCALENDAR