BEGIN:VCALENDAR
VERSION:2.0
PRODID:-//One Way Street Tokyo - ECPv6.6.2//NONSGML v1.0//EN
CALSCALE:GREGORIAN
METHOD:PUBLISH
X-ORIGINAL-URL:https://one-way-street.com/ja
X-WR-CALDESC:One Way Street Tokyo のイベント
REFRESH-INTERVAL;VALUE=DURATION:PT1H
X-Robots-Tag:noindex
X-PUBLISHED-TTL:PT1H
BEGIN:VTIMEZONE
TZID:Asia/Tokyo
BEGIN:STANDARD
TZOFFSETFROM:+0900
TZOFFSETTO:+0900
TZNAME:JST
DTSTART:20240101T000000
END:STANDARD
END:VTIMEZONE
BEGIN:VEVENT
DTSTART;TZID=Asia/Tokyo:20240525T143000
DTEND;TZID=Asia/Tokyo:20240525T160000
DTSTAMP:20260424T160912
CREATED:20240505T035836Z
LAST-MODIFIED:20240507T235406Z
UID:4193-1716647400-1716652800@one-way-street.com
SUMMARY:[:zh]Asian Talk 051 Business Seminar 从税金的角度了解如何购入不动产[:ja]Asian Talk 051 不動産にかかる税金——税金からみる不動産購入のすすめ[:]
DESCRIPTION:【イベントテーマ】 \nAsian Talk 051 \nBusiness Seminar 不動産に かかる税金——税金からみる不動産購入のすすめ \n  \n【イベント詳細】 \nゲスト：酒井康夫 \n司会者：向蕾蕾 \n日時：2024年5月25日（土）14:30-16:00 \n場所：単向街書店・東京銀座店 \n東京都中央区銀座1-6-1 \n形式：日本語トーク・中国語通訳あり \n全席自由 \n  \n—————— \n費用：1500円 \n単向街書店・銀座店の年間会員は無料 \n  \n入場券事前購入：ポスターのQRコード、ホームページ \n当日券購入：店頭レジ \n—————— \n  \n– \n【入場券事前購入】 \n上部「Get Tickets」のボタンをクリックし、購入画面へお進みください。 \nお客様都合での払戻しは一切承ることができませんのでご了承ください。 \n– \n【単向街書店・銀座店会員】 \n下部「Going」のボタンをクリックし、申込画面購入画面へお進みください。 \n  \n—————— \nお問い合わせ：インスタグラム公式アカウント、電話0362630116。 \n  \n◎単向街書店・銀座店会員　年会費33\,000円/年(税込) \n \n会員申込コード \n【会員特典】 \n１、番号付き会員カード \n2、ドリンク無料券12枚の進呈 \n3、イベント無料参加(一部を除く) \n4、中国語書籍（簡体）3割引 \n  \n【イベント紹介】 \n\n\n\n\n\n\n\n\n\n\n\n\n今回のBusiness Seminarでは、宅地建物取引士として不動産業界で20年活躍している酒井康夫さんをお招きし、印紙税、登録免許税など不動産に係る税金及びそれらの税金からみる不動産購入のすすめについて、また収益物件を所有する際に知らなくてはならないことを今回のトークイベントでまとめてお話して頂きます。ぜひお楽しみに！ \n\n  \n\n\n\n\n\n\n\n\n\n\n\n【ゲストプロフィール】 \n \n｜酒井康夫 \n東京都出身。3人の子どもを持つ父でありながら、宅地建物取引士として不動産業界で20年活躍する。主に不動産の売買を手掛け、特殊な不動産の取り扱いに長けている。 \n  \n 
URL:https://one-way-street.com/ja/event/business-seminar-vol2/
LOCATION:One Way Street Tokyo\, 東京都中央区銀座1丁目6−1\, 東京\, Japan
ATTACH;FMTTYPE=image/png:https://one-way-street.com/wp-content/uploads/2024/05/3431714883982_.pic_.png
END:VEVENT
END:VCALENDAR