BEGIN:VCALENDAR
VERSION:2.0
PRODID:-//One Way Street Tokyo - ECPv6.6.2//NONSGML v1.0//EN
CALSCALE:GREGORIAN
METHOD:PUBLISH
X-ORIGINAL-URL:https://one-way-street.com/ja
X-WR-CALDESC:One Way Street Tokyo のイベント
REFRESH-INTERVAL;VALUE=DURATION:PT1H
X-Robots-Tag:noindex
X-PUBLISHED-TTL:PT1H
BEGIN:VTIMEZONE
TZID:Asia/Tokyo
BEGIN:STANDARD
TZOFFSETFROM:+0900
TZOFFSETTO:+0900
TZNAME:JST
DTSTART:20240101T000000
END:STANDARD
END:VTIMEZONE
BEGIN:VEVENT
DTSTART;TZID=Asia/Tokyo:20240519T143000
DTEND;TZID=Asia/Tokyo:20240519T160000
DTSTAMP:20260424T160922
CREATED:20240507T071857Z
LAST-MODIFIED:20240508T032039Z
UID:4213-1716129000-1716134400@one-way-street.com
SUMMARY:[:zh]Asian Talk 052 餐桌上的情绪管理，科学饮食和身心连接[:]
DESCRIPTION:申し訳ありません、このコンテンツはただ今　中文　のみです。
URL:https://one-way-street.com/ja/event/asian-talk-052/
LOCATION:One Way Street Tokyo\, 東京都中央区銀座1丁目6−1\, 東京\, Japan
ATTACH;FMTTYPE=image/png:https://one-way-street.com/wp-content/uploads/2024/05/5月19日（土）1430-1600.png
END:VEVENT
BEGIN:VEVENT
DTSTART;TZID=Asia/Tokyo:20240519T183000
DTEND;TZID=Asia/Tokyo:20240519T200000
DTSTAMP:20260424T160922
CREATED:20240508T000341Z
LAST-MODIFIED:20240512T040957Z
UID:4223-1716143400-1716148800@one-way-street.com
SUMMARY:[:zh]浮世之梦[:ja]浮世の夢[:]
DESCRIPTION:【イベントテーマ】 \n浮世の夢 \n  \n 単向街書店×Li-Pi Records共同企画【Young Creator】\n \n  \n【イベント詳細】 \n  \nゲスト \n岩川真澄（画家） \n松本波涛（代表取締役 浮世Whiskey） \n  \nDJ：馬遲 \n時間：2024年5月19日（日）18:30-20:00 \n場所：単向街書店・銀座店 \nアドレス：東京都中央区銀座1-6-1 \n—————— \n形式 \nトークセッション \nライブペイントx Record DJｘアートウイスキー \n—————— \n入場無料、ワンドリンク制（「浮世」ウィスキーを使ったカクテル） \n  \nイベントスケジュール： \n18:30~18:35 DJパフォーマンスでスタート \n18:35~19:15 ゲスト紹介、履歴・創作に関するトークセッション（10分/一人） \n19:15~19:25 お酒試飲、テーマカクテル注文 \n19:25~20:00ライブペイント×アナログDJ \n  \n【イベント紹介】 \n李白の詩『春の夜に桃李の園に宴するの序』にこんな一文がある：「而して浮世は夢のごとし、歓を為すこと幾何ぞ（中国語原文：而浮生若夢。為歓幾何。）」 \n「物事は永遠に移り変わり、追い求めても手にできる喜びはほんのわずか」と言う意味。このほんのわずかな喜びのために生きている我々。音楽を聴きながらグラスを手にして、お酒の香りに浸って思いを巡らせる喜び、言葉の代わりにメロディーを奏で、絵の具と感情をキャンバスにぶつける喜び、これらの喜びの瞬間をより多くの人に共感して頂ける日曜日の夜【浮世の夢】 \n美酒・絵画・音楽で様々な反応を起こし、味覚・視覚・聴覚が交じり合う新たな体験ができるような夢を、銀座単向街書店の2階スペースで一緒に味会いましょう。 \n  \n \n  \n■ライブペイント×アナログDJ \n画家の岩川真澄、北京最大のアナログレコードストア店長兼DJの馬遲、国籍も言葉も異なる初対面の2人のアーティストが、絵と音楽の新たな共感覚を求めるLIVEパフォーマンス音と絵が融け合う旅を味わおう！ \n  \n■「浮世」ウィスキーによる創作カクテル \nLi-Pi Recordsの専属バーテンダーが、芳醇で華やかな味わいをするお米ウィスキー「浮世」を使って、この場のアート作品と音楽をイメージするカクテルを創作 \n  \n【ゲスト紹介】 \n \n  \n｜岩川真澄 \n広島県出身。自然や野生動物とふれあう幼少を過ごす。 \n16歳でサックスを始め音大に進学するも中退。清水末寿の下でジャズを学び音楽活動をするのと並行して独学で絵を描きはじめる。 \n2013年、単身アメリカ・ニューヨークに渡る。 \nかつてアンディ・ウォーホルが所有し、ジャン＝ミシェル・バスキアが住んでいた部屋を借り、そこをアトリエとして創作活動を開始。 \nマンハッタン・NOHOで初個展【”BIG BANG”IN THE EAR】を開催。 \n2017年、ドイツベルリンへ拠点を移す。同年 個展【Sonnensamen】を開催。 \n2019年日本に帰国。夫でケーナ奏者である岩川光とのライブセッションも行うなど精力的に活動をしている。 \n「筆を走らせる、色をのせる時の血が騒ぐ感覚はSaxphoneを演奏することに通じるものがある。アーティストとしてのスタイルは音楽から得たものが大きい」と話すように、痺れるほどの波動の中で放たれる色、迷いのない旋律のように引かれる線は音楽を感じさせる。 \n  \n \n  \n｜馬遲 \n北京で有名なアートゾーン 798 芸術区にあるこの店は、2009 年に設立されて中国国内最大のレコードストアと言われる。成立してからアナログ文化の保護、支援活動に尽くしてきた。創始者である馬遲は、15年間アナログレコードを巡って活動し、中国の他、香港、台湾、日本、韓国はもちろん、アメリカ、ドイツまでの地域でも活動している。将来はロシアアナログ基地を開発予定。 2023年、香港の元キングソフト音楽プロデューサーであるMelvin Wong氏と協力し、レコードストア店内ライブハウス「MUSEUM」を立ち上げた。 \n  \n \n  \n｜松本波涛 \n代表取締役\n浮世Whiskey\n中華 由\n単向向街書店·銀座\n会所 粹 \n旅館 游雲亭 \n旅館 悠々亭 \n500年以上続く日本最古のお米の蒸留酒製法である「泡盛製法」を活かして、亜熱帯×お米のウィスキー【浮世】。亜熱帯の気候を駆使しれ塾生を繰り返す定めなく時を経て変化する、楽しめばなくなってしまう、その儚くも素晴らしい、唯一無二の味わいから、人と共に時ヲ刻み、香りはより芳醇で華やかに、味わいはより濃厚で甘み・旨みが増やしていく沖縄独自のライスウィスキー。 \nボトルラベルのデザイン文字は、スタジオジブリの鈴木敏夫氏が揮毫(きごう)され、そして印影には、宮崎駿監督がデザインされたトトロ落款(らっかん)を使用している。 \n「国際味覚審査機構（ITI）2023」で3つ星を獲得 \n「サン・フランシスコ・ワールド・スピリッツ・コンペティション（SFWSC）2023」銀賞を受賞 \n「東京ウイスキー＆スピリッツコンペティション（TWSC）2023」、「インターナショナル・スピリッツ・チャレンジ（ISC）2023」と連続で金賞を受賞し、三冠を達成。 \n 
URL:https://one-way-street.com/ja/event/ukiyonoyume/
LOCATION:One Way Street Tokyo\, 東京都中央区銀座1丁目6−1\, 東京\, Japan
ATTACH;FMTTYPE=image/png:https://one-way-street.com/wp-content/uploads/2024/05/WechatIMG845.png
END:VEVENT
END:VCALENDAR