BEGIN:VCALENDAR
VERSION:2.0
PRODID:-//One Way Street Tokyo - ECPv6.6.2//NONSGML v1.0//EN
CALSCALE:GREGORIAN
METHOD:PUBLISH
X-ORIGINAL-URL:https://one-way-street.com/ja
X-WR-CALDESC:One Way Street Tokyo のイベント
REFRESH-INTERVAL;VALUE=DURATION:PT1H
X-Robots-Tag:noindex
X-PUBLISHED-TTL:PT1H
BEGIN:VTIMEZONE
TZID:Asia/Tokyo
BEGIN:STANDARD
TZOFFSETFROM:+0900
TZOFFSETTO:+0900
TZNAME:JST
DTSTART:20240101T000000
END:STANDARD
END:VTIMEZONE
BEGIN:VEVENT
DTSTART;TZID=Asia/Tokyo:20240420T143000
DTEND;TZID=Asia/Tokyo:20240420T160000
DTSTAMP:20260424T203559
CREATED:20240409T110713Z
LAST-MODIFIED:20240412T020051Z
UID:4030-1713623400-1713628800@one-way-street.com
SUMMARY:[:ja]“建築家のプランは魔法のプラン”―本当にいい建築の作り方－[:]
DESCRIPTION:【イベントテーマ】 \n“建築家のプランは魔法のプラン” \n―本当にいい建築の作り方－ \n  \n【イベント詳細】 \nゲスト：後藤欽也 \n日時：2024年4月20日（土）14:30-16:00 \n場所：単向街書店・東京銀座店 \n東京都中央区銀座1-6-1 \n形式：日本語トーク・中国語通訳あり \n全席自由 \n—————— \n費用：3000円 \n単向街書店・銀座店の年間会員は1500円 \n入場券事前購入：ポスターのQRコード、ホームページ \n当日券購入：店頭レジ \n—————— \n– \n【入場券事前購入】 \n上部「Get Tickets」のボタンをクリックし、購入画面へお進みください。 \nお客様都合での払戻しは一切承ることができませんのでご了承ください。 \n– \n【単向街書店・銀座店会員】 \n下部「Going」のボタンをクリックし、申込画面購入画面へお進みください。 \n—————— \nお問い合わせ：インスタグラム公式アカウント、電話0362630116。 \n◎単向街書店・銀座店会員　年会費33\,000円/年(税込) \n \n会員申込コード \n【会員特典】 \n１、番号付き会員カード \n2、ドリンク無料券12枚の進呈 \n3、イベント無料参加(一部を除く) \n4、中国語書籍（簡体）3割引 \n  \n【イベント紹介】 \nある人との出会いが人生を変えることがある。 \n  \n建築においてもそうだろう。 \n後藤氏との出会いで、日々の暮らしは想像を超えた豊かさをもたらすかもしれない。 \n  \n  \n巷で見聞きする住環境にまつわる以下のうたい文句に後藤氏は異を唱え、彼が長い経験から習得した「本当に良い建築の４つの原則」「本当にいい建築をつくる４つの手順」を通して、建築の本質と常識を今回皆様にお話しします。参加者の方々の全ての疑問や悩みにできる限り向き合って対話をしたいと考えているため、今回は参加人数を10名に限定させていただきます。 \n  \n\nバリアフリー\n\n→バリアフリーではなくコミュニケーションフリー \n\n省エネ住宅\n\n→失うものも大きい \n\n健康住宅\n\n→温室の環境や、過保護の環境をつくる \n\n投資利回り5-10％\n\n→建築は財産 \n\n勉強に励みやすい子供部屋\n\n→有名中学に受かる子供の勉強の仕方 \n【本当に良い建築の４つの原則】 \n―1300年前の法隆寺・平等院を例に― \n安全性・快適性・明るい・楽しい \n【本当にいい建築をつくる４つの手順】 \n―ラーメン屋とカレー専門店を例に― \n設計士へ依頼・設計料はケチらない・明確なゴール・要求の具体化と選定 \n  \n【ゲストプロフィール】 \n \n｜後藤欽也 \n熊本県出身。1982 年国立有明高専卒業 1989 年 10 月株式会社デュ・ラン社設立 “本質に基づく戦略的デザインを自ら携わる商業施設”や“脳内革命”春山茂雄氏の病院クリニック等で幅広く 実証。 現在は横浜みなとみらいに本社・中国ではスーパーゼネコン北京建工集団北京市建築工程設計公司と業務提携、北京建工集団ビル内に事務所設立。 \n  \n受賞歴 \n中国昆明出口加工区国際コンペ 1 位入賞 \n道と暮らす家 第 16 回くまもとアートポリス推進賞受賞 渡邉総合内科クリニック/高森わたなべ薬局 \n第 19 回くまもとアートポリス推進賞選賞受賞など \n商店建築など多数掲載 \n2023 年 10 月「段差のある家に住めば⾧生きできる（幻冬舎）」出版 \n  \n \n  \n\n【関連作品】 \n \n『段差のある家に住めば長生きできる』 \n後藤 欽也 (著) \n幻冬舎 \n2023年10月 \n 
URL:https://one-way-street.com/ja/event/kinyagoto/
LOCATION:One Way Street Tokyo\, 東京都中央区銀座1丁目6−1\, 東京\, Japan
ATTACH;FMTTYPE=image/png:https://one-way-street.com/wp-content/uploads/2024/04/旁观者的30年历程-作为记者持续从内外观察中国与媒体报道的冲突-副本-1.png
END:VEVENT
END:VCALENDAR