BEGIN:VCALENDAR
VERSION:2.0
PRODID:-//One Way Street Tokyo - ECPv6.6.2//NONSGML v1.0//EN
CALSCALE:GREGORIAN
METHOD:PUBLISH
X-ORIGINAL-URL:https://one-way-street.com/ja
X-WR-CALDESC:One Way Street Tokyo のイベント
REFRESH-INTERVAL;VALUE=DURATION:PT1H
X-Robots-Tag:noindex
X-PUBLISHED-TTL:PT1H
BEGIN:VTIMEZONE
TZID:Asia/Tokyo
BEGIN:STANDARD
TZOFFSETFROM:+0900
TZOFFSETTO:+0900
TZNAME:JST
DTSTART:20240101T000000
END:STANDARD
END:VTIMEZONE
BEGIN:VEVENT
DTSTART;TZID=Asia/Tokyo:20240331T143000
DTEND;TZID=Asia/Tokyo:20240331T160000
DTSTAMP:20260424T203554
CREATED:20240309T035717Z
LAST-MODIFIED:20240312T035531Z
UID:3701-1711895400-1711900800@one-way-street.com
SUMMARY:[:zh]#Asian Talk 045 从字体排印的视角看世界[:]
DESCRIPTION:申し訳ありません、このコンテンツはただ今　中文　のみです。
URL:https://one-way-street.com/ja/event/the-world-through-the-lens-of-typography/
LOCATION:One Way Street Tokyo\, 東京都中央区銀座1丁目6−1\, 東京\, Japan
ATTACH;FMTTYPE=image/jpeg:https://one-way-street.com/wp-content/uploads/2024/03/1211710214726_.pic_.jpg
END:VEVENT
END:VCALENDAR