BEGIN:VCALENDAR
VERSION:2.0
PRODID:-//One Way Street Tokyo - ECPv6.6.2//NONSGML v1.0//EN
CALSCALE:GREGORIAN
METHOD:PUBLISH
X-WR-CALNAME:One Way Street Tokyo
X-ORIGINAL-URL:https://one-way-street.com/ja
X-WR-CALDESC:One Way Street Tokyo のイベント
REFRESH-INTERVAL;VALUE=DURATION:PT1H
X-Robots-Tag:noindex
X-PUBLISHED-TTL:PT1H
BEGIN:VTIMEZONE
TZID:Asia/Tokyo
BEGIN:STANDARD
TZOFFSETFROM:+0900
TZOFFSETTO:+0900
TZNAME:JST
DTSTART:20240101T000000
END:STANDARD
END:VTIMEZONE
BEGIN:VEVENT
DTSTART;TZID=Asia/Tokyo:20240323T143000
DTEND;TZID=Asia/Tokyo:20240323T160000
DTSTAMP:20260424T203534
CREATED:20240306T113438Z
LAST-MODIFIED:20240312T035010Z
UID:3667-1711204200-1711209600@one-way-street.com
SUMMARY:[:zh]飞得更高——环球飞行中国公民第一人陈玮的海外励志故事[:]
DESCRIPTION:申し訳ありません、このコンテンツはただ今　中文　のみです。
URL:https://one-way-street.com/ja/event/feidegenggao/
LOCATION:One Way Street Tokyo\, 東京都中央区銀座1丁目6−1\, 東京\, Japan
ATTACH;FMTTYPE=image/png:https://one-way-street.com/wp-content/uploads/2024/03/751709801684_.pic_.png
END:VEVENT
BEGIN:VEVENT
DTSTART;TZID=Asia/Tokyo:20240323T183000
DTEND;TZID=Asia/Tokyo:20240323T200000
DTSTAMP:20260424T203534
CREATED:20240312T150658Z
LAST-MODIFIED:20240316T021256Z
UID:3757-1711218600-1711224000@one-way-street.com
SUMMARY:[:ja]√音幻燈（ルートおとげんとう）——寻找Limeism的源流[:]
DESCRIPTION:【イベント紹介】 \nYoung Creator というテーマで、書店の場を借りて日中背景を持つ現役若い作家、ミュージシャン、アーティストを誘い、自分自身の創作ルート、作品について語り、現場パフォーマンスも行うイベントである。 \nイベント当日は作品をモチーフとするテーマカクテルを用意し、各ゲストがD Jとコラボする現場音楽パフォーマンスも行う。「その日その空間で生まれる新たな創作」という書店ならこそ提供できる源流から新たな可能性を探究する時間。 \n様々なアイディア、新しい内容・いのち生成できる土のような空間――単向街書店の２Fから若い作家たちを応援する「五感」を活かす面白い現場である。 \n  \n【√音幻燈（ルートおとげんとう）――　寻找Limeism的源流】 \n  \n18:30-18:35 （5分）演奏1曲 \n18:35-18:50（15分）Talk⭐️自己紹介（対談） \n18:50-19:05（15分）演奏3曲 \n19:05-19:15（10分）Talk⭐️音楽（映像） \n19:15-19:30（15分）休憩(DRINK追加) \n19:30-19:45（15分）Talk⭐️（本）　D Jとコラボ、ミュージシャン朗読とか。 \n19:45-20:00（15分）演奏3曲 \n20:00-20:05（5分）アンコール1曲 \n20:00-20:30（20分）交流・チェキ撮影 \n  \n【ゲスト紹介】 \n \n礼美（リーメイ）。作曲、ピアノ、歌。 \n活動名Limeismは「りーめいずむ」と読みます。 \n  \nシンガーソングライター。中国·北京テレビのボーカルコンテスト番組参加以来、音楽活動をスタートし、日本各地のライブやフェスにも出演。現在インターネット中心でライバーとしても活動しており、総フォロワー数は3.5万人超える。2023年12月、シングルC D「明日の天気」が徳間ジャパンよりリリース。 \n  \n \n馬遲 \nD J、莱蒎黑胶唱片店长 \n  \n北京でレコードストアを15年間経営。世界各地のアナログレコードを取り扱っているLi-Pi Recordsでは、異文化から生まれてきた音楽が日常を紡ぎ、人々の心を癒している。北京をはじめ、上海・東京でも拠点を展開中。 \n  \n【イベント情報】 \nゲスト：Limeism \n時間：2024年3月23日（土）18:30-20:00 \n会場：東京単向街書店・東京銀座店 \n住所：東京都中央区銀座1-6-1 \n形式：中国語・日本語 音楽ストーリートーク&アンプラグドライブ + DJコラボイベント \n入場料：1500日元 \nドリンク：1500日元 \n\nドリンクバック →1\,500円（お礼:ロゴのシール）\n物販（チェキ 1\,000円、CDやその他グッズ）\n上部「Get Tikets」のボタンをクリックし、購入画面へお進みください。 \n– \n単向街書店・銀座店の年間会員は無料 \n下部「Going」のボタンをクリックし、申込画面購入画面へお進みください。
URL:https://one-way-street.com/ja/event/limeism/
LOCATION:One Way Street Tokyo\, 東京都中央区銀座1丁目6−1\, 東京\, Japan
ATTACH;FMTTYPE=image/jpeg:https://one-way-street.com/wp-content/uploads/2024/03/5141710498653_.pic_.jpg
END:VEVENT
END:VCALENDAR