BEGIN:VCALENDAR
VERSION:2.0
PRODID:-//One Way Street Tokyo - ECPv6.6.2//NONSGML v1.0//EN
CALSCALE:GREGORIAN
METHOD:PUBLISH
X-WR-CALNAME:One Way Street Tokyo
X-ORIGINAL-URL:https://one-way-street.com/ja
X-WR-CALDESC:One Way Street Tokyo のイベント
REFRESH-INTERVAL;VALUE=DURATION:PT1H
X-Robots-Tag:noindex
X-PUBLISHED-TTL:PT1H
BEGIN:VTIMEZONE
TZID:Asia/Tokyo
BEGIN:STANDARD
TZOFFSETFROM:+0900
TZOFFSETTO:+0900
TZNAME:JST
DTSTART:20240101T000000
END:STANDARD
END:VTIMEZONE
BEGIN:VEVENT
DTSTART;TZID=Asia/Tokyo:20240316T130000
DTEND;TZID=Asia/Tokyo:20240316T143000
DTSTAMP:20260424T203534
CREATED:20240305T033332Z
LAST-MODIFIED:20240309T060607Z
UID:3651-1710594000-1710599400@one-way-street.com
SUMMARY:[:ja]親子で描く単向どうぶつ園 ー5色のクレヨンで無限の彩りをー[:]
DESCRIPTION:【イベント紹介】 \n“自由な想像と表現を抱きしめる”Series2は親子のお絵描き教室です。5色だけのクレヨンで、想像を膨らませ、自由に動物を描きましょう。実在する動物、空想の動物・・・描く動物は自由です。お父さんお母さんと相談しながら、おもいっきり子供たちの空想を描き出し、最後は壁に動物たちを飾って単向どうぶつ園をつくりましょう♪ \nお絵描きが苦手な子も、お絵描きが大好きな子も、経験豊富なイラストレーターの先生と一緒に楽しい時間を過ごしましょう♪ \n  \n【持ち物】 \n特になし \n  \n【ゲスト】 \n  \n \nナガイツトム\n（絵本作家、イラストレーター、画家、お絵かき先生）\n妹の美術の宿題を手伝い成績が良かったことをきっかけに絵を描き始める。 \n愛地球博や東京モーターショー、浦和レッズ埼玉スタジアム、スターバックスなどで展示やグッズ採用。\nWACOALやCASIOのキャラクター開発、ハローキティーやデビルマン、マジンガーZ、キューティーハニーとのコラボも手がける。\n朝日放送、テレビアニメ「マッドトイチャッティ」キャラクターデザイン、脚本担当。\n絵本「先生は、デビルマン」出版。\n子供達に「絵を描く時間は最高に楽しい!」をコンセプトに、動物の絵を描き街を動物園にするプロジェクトやお絵描き教室を展開。\n海外でも個展やライブペイント、壁画制作など幅広く活動中。 \n【イベント情報】 \nゲスト：ナガイツトム \n日時：2024年3月16日（土曜日） 13:00-14:30 \n店名：単向街書店　東京銀座店 \n住所：東京都中央区銀座1-6-1 \n形式：日本語イベント　全席自由 \n費用：1500円 \n上部「Get Tikets」のボタンをクリックし、購入画面へお進みください。 \n– \n単向街書店・銀座店の年間会員は無料 \n下部「Going」のボタンをクリックし、申込画面購入画面へお進みください。
URL:https://one-way-street.com/ja/event/5colour/
LOCATION:One Way Street Tokyo\, 東京都中央区銀座1丁目6−1\, 東京\, Japan
ATTACH;FMTTYPE=image/png:https://one-way-street.com/wp-content/uploads/2024/03/未命名的设计.png
END:VEVENT
BEGIN:VEVENT
DTSTART;TZID=Asia/Tokyo:20240316T150000
DTEND;TZID=Asia/Tokyo:20240316T173000
DTSTAMP:20260424T203534
CREATED:20240301T100948Z
LAST-MODIFIED:20240312T150610Z
UID:3617-1710601200-1710610200@one-way-street.com
SUMMARY:[:zh]Asian Talk 043#京都的生活方式—有茶的时光[:ja]Asian Talk 043#暮らしから京都を知る——お茶の時間[:]
DESCRIPTION:【イベント紹介】 \n京都の街並みには古くからの歴史が刻み込まれています。 \nいまの京の風物は日本の過去を反映しています。 \n西暦７９４年、京に首都が移され平安京が始まりました。 \n１７００以上の寺院、８００の神社、１７の世界文化遺産が \nあり、１年３６５日を通して休みなく祭りが開催される街…。 \n１２００年来、日本でこれほど魅力的な都市はほかに有りませんでした。 \n京都のような魅力に富んだ古都が世界中を探して見つけられるのか、私には想像すらできません。 \nここに住んでいると、毎朝ドアを開けると目に入る京都がまさに日常の一部になっています。 \n京での生活を理解していない人には、京都の美しさを理解することも、伝えることもできないと思います。 \n生活を通してしか、京都は開かれないのかも知れません。 \n  \n108 ギャラリーは、茶道にゆかりの深い大徳寺にほど近い、船岡山のふもとに位置し、そこは「平安京四神（玄武、青龍、朱雀、白虎）」の玄武が守る山といわれ、また古来より景勝の地として知られています。ギャラリーは二階建て、昭和初期の古民家をリノベーションした建物で、庭石、天井、ガラス戸、柱など、随所にこだわりのある意匠を見ることができます。二階からは古都を正面に望み、船岡山からはさわやかな風が届きます。108galleryは京の歴史にゆかり深いところを拠点にして、グローバルにアートを発信するカルチャーサロンです。日本の伝統文化と中国茶美学をつなぎ、創造するスペースとしてサロンを開設し、クリエイティブなアート活動を展開していきます。 \n  \n「茶」という字は「八十八」のうえに「十」が二つ並んでいるように見えることから「88＋10＋10＝108」となります。 \nこのことから108歳を「茶寿」と称することからも「茶」という字はとてもおめでたい長寿の意味になります。 \n　茶の木は生命力が旺盛で、その上精神的な飲み物とされており、お茶の道は、美しい人生を開く道となります。 \n　　2024年3月16日（土）15:30～17:00、京の文化と生活を愛する皆様を銀座一丁目の単向書店へご招待します。 \n京とライフスタイルのはじめ方をゲスト夫妻と共有して、一緒にお茶の時間を楽しみましょう。 \n  \n【ゲスト紹介】 \n \n楊暁茜 \n 建築士（中国）、国家一級評茶師、国家一級茶芸技師 \n国家茶館専業委員会高級評審員、国家職業技能鑑定高級考評員 \n中国天然香文化研究会副会長、煎茶道美風流 中国支部長 \n一般社団法人 アジア文化芸術教育交流機構常務理事、「108gallery」芸術サロン創立者 \n現在は京都に在住し、明代の文人茶文化の研究に取り組んでいる。 \n　李遠，中国出身，作家／学者 \n一般社団法人アジア文化教育交流機構代表理事，日本中小企業学会会員。 \n文化的な家庭に生まれ、過去には中国と日本の大学で勤務し、現在は京都に在住。 \n 2019年6月、中国で書籍《門里看京都（暮らしから京都を知る）》が出版される。 \n  \n  \n【図書紹介】 \n　　学術研究に慣れていた私は、まさかこの人生で京都に関するカジュアルな本を出版するとは思いませんでした。最初は中国の友人たちと よく京都の話をするだけでしたが、彼らに励まされて日記のように散らかった旅行記をネットに投稿しました。だんだんと京都のことを書くのが習慣になってきましたが、計画性は無くただ日常の生活で感じた想いを記しただけです。もしこの本のテーマを定めるとしたら、歴史好きの私が異国情緒あふれる古都・京都で中国文化のアイデンティティーを見つけ出すことができるかもしれないということ。この点から言っても、本書は従来のいわゆる旅行本とは違います。 \n　　京都は多くの観光名所の情報がネットで検索できるので、書きやすいと思われるかも知れません。でも実際には、京都の文章を書くのは難しい。「ある地域の文化を真に理解す唯一の方法は、時間をかけて洗練することだからだ。」作家の周作人氏がかつてこう言ったのを覚えています。毎日の生活で経験しなければ、日本のことは何も判りません。中国と日本の文化は似ているところも多いため、逆に理解するためのハードルが高まるだけで、この両国の違いが判らず無視しているひとが多いのも事実です。れにもかかわらず、京都を訪れた友人たちは京都を絶賛します。その理由は、「人生の旅はすべて精神的な自分の故郷を見つけることにある」からだとひそかに私は思っています。 \n【イベント情報】 \nゲスト：楊暁茜、李遠 \n日時：2024年3月16日（土曜日） 15:00-17:30 \n店名：単向街書店　東京銀座店 \n住所：東京都中央区銀座1-6-1 \n形式：中国語イベント　全席自由 \n費用：1500円 \n上部「Get Tikets」のボタンをクリックし、購入画面へお進みください。 \n– \n単向街書店・銀座店の年間会員は無料 \n下部「Going」のボタンをクリックし、申込画面購入画面へお進みください。
URL:https://one-way-street.com/ja/event/asian-talk-043/
LOCATION:One Way Street Tokyo\, 東京都中央区銀座1丁目6−1\, 東京\, Japan
ATTACH;FMTTYPE=image/png:https://one-way-street.com/wp-content/uploads/2024/03/旁观者的30年历程-作为记者持续从内外观察中国与媒体报道的冲突-.png
END:VEVENT
END:VCALENDAR