BEGIN:VCALENDAR
VERSION:2.0
PRODID:-//One Way Street Tokyo - ECPv6.6.2//NONSGML v1.0//EN
CALSCALE:GREGORIAN
METHOD:PUBLISH
X-WR-CALNAME:One Way Street Tokyo
X-ORIGINAL-URL:https://one-way-street.com/ja
X-WR-CALDESC:One Way Street Tokyo のイベント
REFRESH-INTERVAL;VALUE=DURATION:PT1H
X-Robots-Tag:noindex
X-PUBLISHED-TTL:PT1H
BEGIN:VTIMEZONE
TZID:Asia/Tokyo
BEGIN:STANDARD
TZOFFSETFROM:+0900
TZOFFSETTO:+0900
TZNAME:JST
DTSTART:20240101T000000
END:STANDARD
END:VTIMEZONE
BEGIN:VEVENT
DTSTART;TZID=Asia/Tokyo:20240308T190000
DTEND;TZID=Asia/Tokyo:20240308T203000
DTSTAMP:20260424T190143
CREATED:20240302T024201Z
LAST-MODIFIED:20240308T044515Z
UID:3630-1709924400-1709929800@one-way-street.com
SUMMARY:[:zh]Lipi Records：DIVA ミモザの日 ～国際女性デー3.8[:ja]Lipi Records：DIVA ミモザの日 ～国際女性デー3.8[:]
DESCRIPTION:DIVA ミモザの日💐\n～国際女性デー3.8\n@东京单向 \nイベント時間：3月8日 19:00〜20:30\n形式：レコードバー\n【★入場無料・別途１ドリンク🍹】\nDJ：馬遲 \n今年の3月8日、「女性」の定義をすべて脇に置き、演奏、描写、あるいはある種情感から、純粋に作品に触れ、感じ、彼女たちの創作、彼女たち自身のすべてを再考へーモミザの日。 \n音楽の歴史を振り返ると、数え切れないほどの巨匠がいるが、偉大な女性音楽家となると、その名前を口に出して言える人はほんの一握りである。 \n長い間、クラシック音楽界のジェンダー構成は男性が大半を占め、ジェンダー不平等や伝統的な社会規律の束縛により女性の作曲家や指揮者はあまり存在しなかった。それら女性の中には、男性ミュージシャンの栄光に隠れて生涯自分の瞬間を掴めなかった者もいれば、人生に追われ音楽キ​​ャリアを台無しにした者もいたが、時流に逆らって音楽史に輝かしい瞬間を残した者はほんのわずかだった。 \nブルース、ジャズ、ポップスなど時代の流れによって音楽の流れも変わりつつある現在、曾て「妻」、「助手」、「娘」という名称で活動していた女性ミュージシャンは、男女平等や女性活躍が進む現代社会になってから徐々に紹介され、人々に知られたり理解されたりしてきた。 \nさ、耳を傾けて。👂 \n——————————————— \n🎧Kathleen Battle 《Ombra Mai Fù》1987\n曲目：<Вокализ\, опус 34\, № 14 — произведение Сергея Рахманинова>\n🎧Roberta Flack 《Chapter Two》1970\n曲目：<Reverend Lee>\n🎧王韵壹《被遗忘的时光》2015\n曲目：<花火>\n……
URL:https://one-way-street.com/ja/event/event-lipi-recordsdiva/
LOCATION:One Way Street Tokyo\, 東京都中央区銀座1丁目6−1\, 東京\, Japan
ATTACH;FMTTYPE=image/jpeg:https://one-way-street.com/wp-content/uploads/2024/03/WechatIMG102.jpg
END:VEVENT
END:VCALENDAR