BEGIN:VCALENDAR
VERSION:2.0
PRODID:-//One Way Street Tokyo - ECPv6.6.2//NONSGML v1.0//EN
CALSCALE:GREGORIAN
METHOD:PUBLISH
X-WR-CALNAME:One Way Street Tokyo
X-ORIGINAL-URL:https://one-way-street.com/ja
X-WR-CALDESC:One Way Street Tokyo のイベント
REFRESH-INTERVAL;VALUE=DURATION:PT1H
X-Robots-Tag:noindex
X-PUBLISHED-TTL:PT1H
BEGIN:VTIMEZONE
TZID:Asia/Tokyo
BEGIN:STANDARD
TZOFFSETFROM:+0900
TZOFFSETTO:+0900
TZNAME:JST
DTSTART:20240101T000000
END:STANDARD
END:VTIMEZONE
BEGIN:VEVENT
DTSTART;TZID=Asia/Tokyo:20240224T143000
DTEND;TZID=Asia/Tokyo:20240224T160000
DTSTAMP:20260424T184916
CREATED:20240115T104047Z
LAST-MODIFIED:20240201T072354Z
UID:2812-1708785000-1708790400@one-way-street.com
SUMMARY:[:zh]#Asian Talk 041 如何在翻译中跨越文化壁垒 ——谈吉田修一长篇小说《国宝》翻译中的“归化”[:ja]#Asian Talk 041 翻訳によって異文化を乗り越える -吉田修一長編小説「国宝」翻訳者の試み-[:]
DESCRIPTION:【イベント紹介】 \n京劇は中国の国芸、歌舞伎は日本の国宝とされています。小説『国宝』は語り口調で歌舞伎役者の生きざまを描き、数々の演目が引用されており、歌舞伎の台詞や唱詞が多用されています。文化の壁を越えながら原作の読みやすさを保ちつつ、歌舞伎に馴染みのない、あるいは全く知らない中国の読者にも日本の読者に近い読書体験を提供することは、翻訳者にとって大きな挑戦です。 \n今回、単向街書店は『国宝』の翻訳者であり、NHK国際放送元中国語キャスターである伏怡琳氏をお招きし、この作品の翻訳時の詳細と裏話を共有していただきます。 \n  \n【活動情報】 \nゲスト：伏怡琳 \n日時：2024年2月24日（土）14:30-16:00 \n場所：単向街書店・東京銀座店 \n住所：東京都中央区銀座1-6-1 \n自由席：40席 \n参加費：1500円 \n単向街書店・東京銀座店の年間会員は無料 \n  \n【ゲストプロフィール】 \n \n伏怡琳 \n復旦大学日本語日本文学科卒業、早稲田大学文学研究科修士 \n日本文学翻訳家。『国宝』（吉田修一著）、『第七官界徘徊 : 尾崎翠短編小説集』、『侵入者』（安部公房著）、『ロックママ』（角田光代著）、『彼らは別の場所で自在に』（小川洋子著）、『阪急電車』（有川浩著）などを翻訳。 \n  \n【関連書籍】 \n著者：吉田修一 \n翻訳者：伏怡琳 \n出版社：上海人民出版社 \nブランド：世紀文景 \n芥川賞審査員としても知られる日本の著名作家、吉田修一が文壇デビュー20周年を記念して発表した長編大作。一人の歌舞伎役者の壮大な波乱に満ちた人生を綴っています。
URL:https://one-way-street.com/ja/event/gb_fyl/
LOCATION:One Way Street Tokyo\, 東京都中央区銀座1丁目6−1\, 東京\, Japan
ATTACH;FMTTYPE=image/png:https://one-way-street.com/wp-content/uploads/2024/01/AT041.png
END:VEVENT
END:VCALENDAR