BEGIN:VCALENDAR
VERSION:2.0
PRODID:-//One Way Street Tokyo - ECPv6.6.2//NONSGML v1.0//EN
CALSCALE:GREGORIAN
METHOD:PUBLISH
X-WR-CALNAME:One Way Street Tokyo
X-ORIGINAL-URL:https://one-way-street.com/ja
X-WR-CALDESC:One Way Street Tokyo のイベント
REFRESH-INTERVAL;VALUE=DURATION:PT1H
X-Robots-Tag:noindex
X-PUBLISHED-TTL:PT1H
BEGIN:VTIMEZONE
TZID:Asia/Tokyo
BEGIN:STANDARD
TZOFFSETFROM:+0900
TZOFFSETTO:+0900
TZNAME:JST
DTSTART:20240101T000000
END:STANDARD
END:VTIMEZONE
BEGIN:VEVENT
DTSTART;TZID=Asia/Tokyo:20240127T143000
DTEND;TZID=Asia/Tokyo:20240127T160000
DTSTAMP:20260424T172146
CREATED:20240108T053333Z
LAST-MODIFIED:20240108T111939Z
UID:2678-1706365800-1706371200@one-way-street.com
SUMMARY:[:zh]#Asian Talk 035 旁观者的30年历程 - 作为记者持续从内外观察中国与媒体报道的冲突-[:ja]#Asian Talk 035 ヤジ馬歴30年 ‐記者として内外から眺め続けた中国と報道の葛藤‐[:]
DESCRIPTION:【イベント紹介】\n朝日新聞社で特派員・デスク・論説委員として中国報道に約30年関わってきた村上氏。 \n約20年前特派員として中国に居住していた頃から現在に至る中国国内の変化と日本国内の論調の変化。社会に大きな影響を及ぼすメディアとしてどのような葛藤があったのか。 \n20年前の、今振り返れば驚くべき中国国内の状況、台湾駐在を通した新たな気づきなど、様々な経験を赤裸々に語りつつ、約30年の朝日新聞記者人生を振り返る。 \n  \n【イベント情報】\nゲスト：村上太輝夫 \n時間：2024年1月27日（土）14:30-16:00 \n会場：東京単向街書店・東京銀座店 \n住所：東京都中央区銀座1-6-1 \n自由席：40席 \n費用：1500円 \n単向街書店・東京銀座店年間会員無料 \n  \n【イベント流れ】\n村上氏トーク　　70分 \n質疑応答　　　　20分 \n\n【ゲスト紹介】\n \n村上太輝夫 \n朝日新聞社　論説委員。 \n共訳《現代中国の精神史的考察》（白水社）
URL:https://one-way-street.com/ja/event/yajibareki30nen/
LOCATION:One Way Street Tokyo\, 東京都中央区銀座1丁目6−1\, 東京\, Japan
ATTACH;FMTTYPE=image/jpeg:https://one-way-street.com/wp-content/uploads/2024/01/1704712753714.jpg
END:VEVENT
BEGIN:VEVENT
DTSTART;TZID=Asia/Tokyo:20240127T170000
DTEND;TZID=Asia/Tokyo:20240127T183000
DTSTAMP:20260424T172146
CREATED:20231212T063539Z
LAST-MODIFIED:20240114T112038Z
UID:2319-1706374800-1706380200@one-way-street.com
SUMMARY:[:zh]百花百兽：从美酒、绘画、音乐三个维度浅谈中日文化的融合[:ja]百花百獣：お酒×絵画×音楽からみる日中文化の融合[:]
DESCRIPTION:【イベント情報】\n百花百獣：お酒×絵画×音楽からみる日中文化の融合\nゲスト：「百花百獣 謹白」ブランド創始人、新鋭アーティスト奥村彰一、Li-Pi Records代表者 MA CHI \n時間：2024年1月27日（周日）17:00-18:30 \n会場：東京単向街書店・東京銀座店 \n住所：東京都中央区銀座1-6-1 \n形式：日本語&中国語 \nライブペインティング&交流会 (参加者は音楽を聴きながらお酒試飲し、ゲストと交流) \n自由席：30席 \n参加費：1500円 （「百花百獣 謹白」一杯込み、飲み方が選べる） \n   \n応募方法：\n①上部「Get Tikets」をクリックし、チケット購入画面へお進みください。 \n② 店頭応募 \n※お客様都合での払戻しは一切承ることができませんのでご了承ください。ご不明な点がございましたら、お電話（0362630116）、または弊社Instagramアカウントよりご連絡ください。\n  \n◎年間会員登録用QRコード　33\,000円/年（税込）\n \n【会員特典】\n１、番号付き会員カード \n2、ドリンク無料券12枚の進呈 \n3、イベント無料参加 \n4、中国語書籍（簡体）3割引 \n  \n【イベント紹介】\n三つの分野で活躍しているゲストたちが、それぞれの作品(商品)における日中文化から受ける影響について、またはそれぞれの文化が彼らの制作にどのように融合されているかについてトークします。 \n  \nPART 1. \n中国の白酒と日本の清酒 \nゲスト：「百花百獣 謹白」ブランド創始人 \n和食と組み合わせが良い白酒「百花百獣 謹白」 \n中国で富貴の象徴、百花の王「牡丹」と力強い百獣の王「獅子」は、 海を渡って日本にもたらされ、かけがえのない絆の象徴であり、絶 妙な組み合わせ「唐獅子牡丹」として、日本の伝統芸能や工芸な どに取り入れられてきました。 ここに誕生した白酒もまた、杯を交わす人と人の心の架け橋となり ますように。そして、酒と料理の妙なる組み合わせとして新しい風を 起こせるように。 そんな願いを込めて、この酒「百花百獣 謹白」が作られました。 \n  \nPART 2. \n日本画と中国画 \nゲスト：新鋭アーティスト奥村彰一 \n中国の伝統的な絵画表現と日本画の手法を独自に解釈し、桃源郷 的な世界観が表現された色彩豊かで華やかな作品を発表している 奥村彰一 多摩美術大学日本画専攻に在学中の21歳の時に、自身が生まれた 土地へ留学し中国画の技法を学びます。帰国後の作品では、日本画 の中に中国画の特徴である墨により描線を取り入れていきます。描き なおしに向かない墨や岩絵具という素材を用いながらも、作品の中 でリズミカルに無重力の中を漂うかのような姿で描かれる人物や、生 命力に満ちた色彩で溢れている多彩な花や植物などが特徴的な作 品で、国内・海外で高い人気を得ています。 \n  \nPART 3. \n中国と日本の音楽・伝統楽器 \nゲスト：Li-Pi Records代表者 MA CHI \n日本と中国の音楽文化交流の歴史は長い。千数百年前に中国から 渡来した聲明、雅楽は、日本音楽の源流となり、現在に到っている。 そして現代に入ってから逆転が起こり、特に80年代∼90年代半ば あたりで、数多くの日本の音楽が中国語でカバーされている。 このような深い相互作用の中で、日中の音楽における文化の融合は どのようにされて来たのか。これからはいかに展開されるのか。 北京・東京に拠点を置き、日本と中国を始め、世界各地のアナログ レコードを取り扱っているLi-Pi Recordsでは、異文化から生まれて きた音楽が日常を紡ぎ、人々の心を癒している。 \n  \n【ゲスト紹介】\n  \n進藤圭一郎 \n「百花百獣 謹白」代表社長 \n中国の飲酒文化の魅力を、日本の人たちに伝えるため、「和食と組み合わせが良い白酒」の開発を目指して、「百花百獣 謹白」が生まれた。 \n  \n馬遲 \n北京でレコードストアを14年間経営。世界各地のアナログレコードを取り扱っているLi-Pi Recordsでは、異文化から生まれてきた音楽が日常を紡ぎ、人々の心を癒している。北京をはじめ、上海・東京でも拠点を展開中 \n  \n奥村彰一 \n現代アーティスト・日本画家 \nArt Award Tokyo 丸の内 2015」シュウウエムラ賞、「第20回岡本太郎現代芸術賞」入選、「Art Award Tokyo 丸の内2017」今村有策賞・フランス大使館賞・丸の内賞（オーディエンス賞）などを受賞。
URL:https://one-way-street.com/ja/event/bhbs/
LOCATION:One Way Street Tokyo\, 東京都中央区銀座1丁目6−1\, 東京\, Japan
ATTACH;FMTTYPE=image/jpeg:https://one-way-street.com/wp-content/uploads/2023/12/WechatIMG389-scaled.jpeg
END:VEVENT
END:VCALENDAR