BEGIN:VCALENDAR
VERSION:2.0
PRODID:-//One Way Street Tokyo - ECPv6.6.2//NONSGML v1.0//EN
CALSCALE:GREGORIAN
METHOD:PUBLISH
X-WR-CALNAME:One Way Street Tokyo
X-ORIGINAL-URL:https://one-way-street.com/ja
X-WR-CALDESC:One Way Street Tokyo のイベント
REFRESH-INTERVAL;VALUE=DURATION:PT1H
X-Robots-Tag:noindex
X-PUBLISHED-TTL:PT1H
BEGIN:VTIMEZONE
TZID:Asia/Tokyo
BEGIN:STANDARD
TZOFFSETFROM:+0900
TZOFFSETTO:+0900
TZNAME:JST
DTSTART:20230101T000000
END:STANDARD
END:VTIMEZONE
BEGIN:VEVENT
DTSTART;TZID=Asia/Tokyo:20231217T150000
DTEND;TZID=Asia/Tokyo:20231217T170000
DTSTAMP:20260424T185545
CREATED:20231128T234058Z
LAST-MODIFIED:20231204T093915Z
UID:1934-1702825200-1702832400@one-way-street.com
SUMMARY:[:zh]#Asian Talk 029 从《阿飛》到《繁花》 ——王家衞的浪遊：上海、香港、南洋[:]
DESCRIPTION:申し訳ありません、このコンテンツはただ今　中文　のみです。
URL:https://one-way-street.com/ja/event/asian-talk-028/
LOCATION:One Way Street Tokyo\, 東京都中央区銀座1丁目6−1\, 東京\, Japan
END:VEVENT
BEGIN:VEVENT
DTSTART;TZID=Asia/Tokyo:20231217T190000
DTEND;TZID=Asia/Tokyo:20231217T210000
DTSTAMP:20260424T185545
CREATED:20231211T013730Z
LAST-MODIFIED:20231212T034140Z
UID:2255-1702839600-1702846800@one-way-street.com
SUMMARY:[:zh]KONKUJIRA乐队一周年线下PARTY[:ja]KONKUJIRAバンド1周年記念パーティー[:]
DESCRIPTION:【イベント情報】\nKONKUJIRAバンド1周年記念パーティー\nゲスト：紺鯨魚-KONKUJIRA 乐队バンド（日中ハーフのバンド） \n時間：2023年12月17日（周日）19:00-21:00 \n会場：東京単向街書店・東京銀座店 \n住所：東京都中央区銀座1-6-1 \n形式：アンプラグドライブ \n自由席：30席 \n参加費：1\,000円（ワンドリンク＆デザート付き） \n   \n応募方法：\n①上部「Get Tikets」をクリックし、チケット購入画面へお進みください。 \n② 店頭応募 \n※お客様都合での払戻しは一切承ることができませんのでご了承ください。ご不明な点がございましたら、お電話（0362630116）、または弊社Instagramアカウントよりご連絡ください。\n  \n◎年間会員登録用QRコード　33\,000円/年（税込）\n \n【会員特典】\n１、番号付き会員カード \n2、ドリンク無料券12枚の進呈 \n3、イベント無料参加 \n4、中国語書籍（簡体）3割引 \n  \n【イベント紹介】\n紺鯨魚-KONKUJIRA、洗足学園音楽大学の在籍性四人のメンバーで編成されている音楽バンドです。心を動かすオリジナルソングと魅力的な舞台パフォーマンスで、デビューから数カ月でインターネットにおいて名を馳せています。オンラインエンターテインメントプラットフォームbilibiliで初めて揚げたミュージックビデオは、１カ月で35万回の再生数と1.6万人のフォロワー数をゲットしました。 \n今度バンド成立1周年を機に、日ごろ愛してくださっているファンたちに感謝の気持ちを込めて、1周年パーティーを企画しております。単向街書店・東京銀座店にて、アンプラグドライブの形でオリジナル曲を演唱したり、ゲームやお祝いケーキなどでファン達と楽しくパーティーをしたいと思います。ゲーム優勝者への賞品としてグッズ商品もご用意しております。 \n  \n【ゲスト介绍】\n \n紺鯨魚-KONKUJIRA、2022年12月に編成されているバンド。 \n洗足学園音楽大学在籍中の日本人学生一人と中国の留学生三人で編成されている音楽バンドです。 \nメンバー紹介： \n・ボーカルCokai \n高校時代に日本への留学経験で、日中文化の共通と相違に独自なる見解を持ちながら日本語と中国語両方でオリジナル曲を作る。作曲・編曲に得意で、音楽で物語を構築し、人々の心を動かす曲を多数発表 \n・ギタリストYuta \n未確認フェスティバル2019にて銀賞受賞 \nギター、ドラム、ベース、キーボード、管弦楽器など、様々な楽器に精通している \n・ドラマー Yamchi \n上海IPEA国際打楽器コンペ青年組ジャズドラマーチャンピオン、台湾第九回TWPC国際打楽器コンペ青年組ジャズドラマーチャンピオン等、数多くの大賞を受賞している天才のドラマー \n・ベーシストZen \n洗足学園音楽大学PA&JAZZのダブルメジャーで、ファンク・ジャズ・POP・ロック等、様々なジャンルの音楽スタイルに精通している
URL:https://one-way-street.com/ja/event/konkujira1stani/
LOCATION:One Way Street Tokyo\, 東京都中央区銀座1丁目6−1\, 東京\, Japan
ATTACH;FMTTYPE=image/jpeg:https://one-way-street.com/wp-content/uploads/2023/12/WechatIMG89-scaled.jpeg
END:VEVENT
END:VCALENDAR