BEGIN:VCALENDAR
VERSION:2.0
PRODID:-//One Way Street Tokyo - ECPv6.6.2//NONSGML v1.0//EN
CALSCALE:GREGORIAN
METHOD:PUBLISH
X-ORIGINAL-URL:https://one-way-street.com/ja
X-WR-CALDESC:One Way Street Tokyo のイベント
REFRESH-INTERVAL;VALUE=DURATION:PT1H
X-Robots-Tag:noindex
X-PUBLISHED-TTL:PT1H
BEGIN:VTIMEZONE
TZID:Asia/Tokyo
BEGIN:STANDARD
TZOFFSETFROM:+0900
TZOFFSETTO:+0900
TZNAME:JST
DTSTART:20230101T000000
END:STANDARD
END:VTIMEZONE
BEGIN:VEVENT
DTSTART;TZID=Asia/Tokyo:20231029T170000
DTEND;TZID=Asia/Tokyo:20231029T190000
DTSTAMP:20260424T214904
CREATED:20231013T073926Z
LAST-MODIFIED:20231018T041609Z
UID:638-1698598800-1698606000@one-way-street.com
SUMMARY:[:zh]脱线时间线下分享：在东京的你的家[:]
DESCRIPTION:申し訳ありません、このコンテンツはただ今　中文　のみです。
URL:https://one-way-street.com/ja/event/%e4%b8%ad%e6%96%87-%e8%84%b1%e7%ba%bf%e6%97%b6%e9%97%b4%e7%ba%bf%e4%b8%8b%e5%88%86%e4%ba%ab%ef%bc%9a%e5%9c%a8%e4%b8%9c%e4%ba%ac%e7%9a%84%e4%bd%a0%e7%9a%84%e5%ae%b6/
LOCATION:One Way Street Tokyo\, 東京都中央区銀座1丁目6−1\, 東京\, Japan
ATTACH;FMTTYPE=image/png:https://one-way-street.com/wp-content/uploads/2023/10/未命名的设计-10-1.png
END:VEVENT
END:VCALENDAR