BEGIN:VCALENDAR
VERSION:2.0
PRODID:-//One Way Street Tokyo - ECPv6.6.2//NONSGML v1.0//EN
CALSCALE:GREGORIAN
METHOD:PUBLISH
X-ORIGINAL-URL:https://one-way-street.com/ja
X-WR-CALDESC:One Way Street Tokyo のイベント
REFRESH-INTERVAL;VALUE=DURATION:PT1H
X-Robots-Tag:noindex
X-PUBLISHED-TTL:PT1H
BEGIN:VTIMEZONE
TZID:Asia/Tokyo
BEGIN:STANDARD
TZOFFSETFROM:+0900
TZOFFSETTO:+0900
TZNAME:JST
DTSTART:20250101T000000
END:STANDARD
END:VTIMEZONE
BEGIN:VEVENT
DTSTART;TZID=Asia/Tokyo:20250911T130000
DTEND;TZID=Asia/Tokyo:20250911T150000
DTSTAMP:20260423T130634
CREATED:20250904T040603Z
LAST-MODIFIED:20250910T050836Z
UID:8731-1757595600-1757602800@one-way-street.com
SUMMARY:[:zh]站在历史的远处——一诺对话许知远（单向街书店两周年特别活动）[:]
DESCRIPTION:申し訳ありません、このコンテンツはただ今　中文　のみです。
URL:https://one-way-street.com/ja/event/special/
LOCATION:One Way Street Tokyo\, 東京都中央区銀座1丁目6−1\, 東京\, Japan
ATTACH;FMTTYPE=image/jpeg:https://one-way-street.com/wp-content/uploads/2025/09/微信图片_2025-09-04_180300_045.jpg
END:VEVENT
BEGIN:VEVENT
DTSTART;TZID=Asia/Tokyo:20250913T143000
DTEND;TZID=Asia/Tokyo:20250913T160000
DTSTAMP:20260423T130634
CREATED:20250831T073532Z
LAST-MODIFIED:20250901T081000Z
UID:8714-1757773800-1757779200@one-way-street.com
SUMMARY:[:zh]Asian Talk 181  日中出版文化交流亲历记——兼谈新书《日本政治学出版の舞台裏 編集者竹中英俊の闘い》－[:ja]Asian Talk 181  体験的日中出版文化交流史：『日本政治学出版の舞台裏』を出版して[:]
DESCRIPTION:【イベントテーマ】\nAsian Talk 181\n体験的日中出版文化交流史：\n『日本政治学出版の舞台裏』を出版して\n  \n【イベント紹介】\n東京大学出版会の元編集局長の竹中英俊先生は、この約半世紀の間、日本の大学出版をリードしてきた名編集者。東大出版会を基盤に、現代日本を代表する政治学者京極純一、升味準之輔、佐々木毅、猪口孝などの錚々たる学者の編集担当を務められ、時代を画するシリーズ『現代政治学叢書』、『講座国際政治』などを世に送り出した稀代の「全身編集者」、卓抜な出版人。これらの出版物は日本社会、出版界、学界への影響は計り知れなく、「竹中劇場」、「竹中政治学」といった言葉まで誕生しました。 \n常に「知」、「人」と「社会」を結びつけるために編集をしてこられた竹中先生は、同時に日中の出版文化交流にも積極的に携わり、今日まで彼が編集を担当した学術書のなかで、約八十冊中国語に訳されており、中国の学界と読者にも多大な貢献をしています。 \nこの度は、定年後も大学出版の第一線で指導なさっている竹中先生にお越しいただき、日中出版文化交流記及び出版の意義などについて縦横無尽に語っていただきます。 \n  \n【ゲストプロフィール】\n \n竹中英俊 \n東京大学出版会元編集局長 \n  \n \n王前 \n人文学者。主要研究領域は政治哲学、思想史。 \n  \n【関連書籍】\n \n『日本政治学出版の舞台裏 編集者竹中英俊の闘い』 \n岩下明裕/竹中英俊 著 \n花伝社、2025年04月08日発売 \nISBN：9784763421678 \n  \n  \n【イベント情報】\nゲスト：竹中英俊、王前 \n日時：2025年9月13日（土曜日）14:30-16:00 \n場所：単向街書店・東京銀座店 \n東京都中央区銀座1-6-1 \n使用言語：日本語・中国語 \n全席自由席（40席） \n座席は先着順でございます。時間の余裕を持ってご来場ください。 \n———————————————————————————————————— \n【一般入場券】 \n費用：1500円 \n上部「Get Tickets」のボタンをクリックし、購入画面へお進みください。 \nお客様都合によるキャンセルは一切承っておりません。何卒ご了承ください。 \n  \n【当日券】 \n費用：1500円 \n店頭レジにて販売しております。 \n  \n【年間会員入場券】 \n単向街書店・銀座店年間会員は無料でご参加できます。 \n下部「Going」のボタンをクリックし、予約画面へお進みください。 \n年間会員の方はご入場になる際に、会員カードのご提示をお願いいたします。 \n———————————————————————————————————— \n来店参加の方へ \nイベントの開演時間の30分より、入場受付を開始いたします。 \nご不明な点がございましたら、下記の電話番号までお気軽にご連絡ください。 \nお問い合わせ：電話　03-6263-0116 \n———————————————————————————————————— \n【単向街書店・銀座店年間会員のご入会申込み】 \n \n年間費会員申込コード \n◎年間費会員会費：33\,000円/年(税込) \n【会員特典】 \n1、中国語書籍（簡体）3割引 \n2、番号付き会員カード \n3、無料ドリンク券12枚の進呈 \n4、イベント無料参加
URL:https://one-way-street.com/ja/event/asian-talk-181/
LOCATION:One Way Street Tokyo\, 東京都中央区銀座1丁目6−1\, 東京\, Japan
ATTACH;FMTTYPE=image/png:https://one-way-street.com/wp-content/uploads/2025/08/単向街書店　2025年9月13日　体験的日中出版文化交流史　ポスター.png
END:VEVENT
BEGIN:VEVENT
DTSTART;TZID=Asia/Tokyo:20250914T143000
DTEND;TZID=Asia/Tokyo:20250914T160000
DTSTAMP:20260423T130634
CREATED:20250829T064452Z
LAST-MODIFIED:20250830T133251Z
UID:8702-1757860200-1757865600@one-way-street.com
SUMMARY:[:zh]Asian Talk 179 历史，是不能被泛化的[:]
DESCRIPTION:申し訳ありません、このコンテンツはただ今　中文　のみです。
URL:https://one-way-street.com/ja/event/asian-talk-179/
LOCATION:One Way Street Tokyo\, 東京都中央区銀座1丁目6−1\, 東京\, Japan
ATTACH;FMTTYPE=image/png:https://one-way-street.com/wp-content/uploads/2025/08/9.14雁过留声.png
END:VEVENT
BEGIN:VEVENT
DTSTART;VALUE=DATE:20250919
DTEND;VALUE=DATE:20251001
DTSTAMP:20260423T130634
CREATED:20250918T062129Z
LAST-MODIFIED:20250918T064603Z
UID:8877-1758240000-1759276799@one-way-street.com
SUMMARY:[:ja]【パンダステーション】お久しぶり、シャンシャン！最新写真展[:]
DESCRIPTION:【イベントテーマ】\n【パンダステーション】 \nお久しぶり、シャンシャン！最新写真展\n  \n【展示情報】\n開催期間：2025年9月19日（金曜日）―2025年9月30日（火曜日） \n営業時間：11：00 – 20：00 \n入場無料 \n9/27、9/28の14：00 から17：00までの間、 \n他のイベント開催のためご入場できません。ご了承ください。 \n\n  \n【イベント紹介】\n「毎週シャンシャン」チャンネルよりの写真展、 \nご好評につきまして、第2弾を開催決定です！ \nシャンシャンの四川生活に密着！食、遊、ゴロゴロ～ \n  \n【限定メニュー】\n展示期間内、ドリンクメニューの【ホット・カフェラテ】と【ホット・抹茶ラテ】は \nパンダスタンプ付きとなります！ \nぜひ温かい飲み物をお召し上がりながら、シャンシャンと一緒にゆっくりお過ごしください～ \n  \n  \n【単向街書店・銀座店年間会員のご入会申込み】 \n \n年間費会員申込コード \n◎年間費会員会費：33\,000円/年(税込) \n【会員特典】 \n1、中国語書籍（簡体）3割引 \n2、番号付き会員カード \n3、無料ドリンク券12枚の進呈 \n4、イベント無料参加
URL:https://one-way-street.com/ja/event/pandastation-02/
LOCATION:One Way Street Tokyo\, 東京都中央区銀座1丁目6−1\, 東京\, Japan
ATTACH;FMTTYPE=image/png:https://one-way-street.com/wp-content/uploads/2025/09/お久しぶり、-シャンシャン！.png
END:VEVENT
BEGIN:VEVENT
DTSTART;TZID=Asia/Tokyo:20250920T143000
DTEND;TZID=Asia/Tokyo:20250920T160000
DTSTAMP:20260423T130634
CREATED:20250819T085303Z
LAST-MODIFIED:20250918T044942Z
UID:8656-1758378600-1758384000@one-way-street.com
SUMMARY:[:zh]Asian Talk 180 谈在日本就医的常识与非常识[:]
DESCRIPTION:Content is protected.
URL:https://one-way-street.com/ja/event/asian-talk-180/
LOCATION:One Way Street Tokyo\, 東京都中央区銀座1丁目6−1\, 東京\, Japan
END:VEVENT
BEGIN:VEVENT
DTSTART;TZID=Asia/Tokyo:20250923T143000
DTEND;TZID=Asia/Tokyo:20250923T180000
DTSTAMP:20260423T130634
CREATED:20250920T101059Z
LAST-MODIFIED:20250922T104829Z
UID:8888-1758637800-1758650400@one-way-street.com
SUMMARY:[:ja]【パンダステーション】シャンシャン写真展でのチェロ演奏[:]
DESCRIPTION:【イベントテーマ】\n【パンダステーション】 \nシャンシャン写真展でのチェロ演奏\n  \n【演奏情報】\n秋分の日、台湾出身のチェロ奏者の王奕喬（ワン・イーチャオ）さんをお招きし、愛らしいパンダ展にあわせて、ライブ演奏を行わせていただきます。演奏中には数曲を入れ替えながら、豊かな聴覚体験をお届けします。皆さまのご参加を心よりお待ちしております〜 \n  \n開催期間：2025年9月23日（火曜日） \n14：30 – 16：00 \n入場無料 \n  \n【ゲスト紹介】\n \n王奕喬 \n台湾出身。2012年にドイツへ留学し、2019年にマンハイム音楽院を修了。 \nチェロ専攻修士課程およびオーケストラ・ソリスト課程を修了。 \n2024年より東京に拠点を移し、新たな章を歩み始める。 \n音楽を通じて皆さまと心通う対話ができることを願っている。 \n【単向街書店・銀座店年間会員のご入会申込み】 \n \n年間費会員申込コード \n◎年間費会員会費：33\,000円/年(税込) \n【会員特典】 \n1、中国語書籍（簡体）3割引 \n2、番号付き会員カード \n3、無料ドリンク券12枚の進呈 \n4、イベント無料参加
URL:https://one-way-street.com/ja/event/cello-performance/
LOCATION:One Way Street Tokyo\, 東京都中央区銀座1丁目6−1\, 東京\, Japan
ATTACH;FMTTYPE=image/png:https://one-way-street.com/wp-content/uploads/2025/09/9.23演奏2-1.png
END:VEVENT
BEGIN:VEVENT
DTSTART;TZID=Asia/Tokyo:20250927T143000
DTEND;TZID=Asia/Tokyo:20250927T160000
DTSTAMP:20260423T130634
CREATED:20250916T103527Z
LAST-MODIFIED:20250922T101804Z
UID:8865-1758983400-1758988800@one-way-street.com
SUMMARY:[:zh]【单向争论点 Vol.2】“恶人”与时代——“末法”和近代思想的回响[:]
DESCRIPTION:申し訳ありません、このコンテンツはただ今　中文　のみです。
URL:https://one-way-street.com/ja/event/zheng-02/
LOCATION:One Way Street Tokyo\, 東京都中央区銀座1丁目6−1\, 東京\, Japan
ATTACH;FMTTYPE=image/png:https://one-way-street.com/wp-content/uploads/2025/09/单向争论点-6.png
END:VEVENT
BEGIN:VEVENT
DTSTART;TZID=Asia/Tokyo:20250928T143000
DTEND;TZID=Asia/Tokyo:20250928T160000
DTSTAMP:20260423T130634
CREATED:20250913T112818Z
LAST-MODIFIED:20250913T113902Z
UID:8850-1759069800-1759075200@one-way-street.com
SUMMARY:[:ja]Asian Talk 182　トイレの語る文明論 『現代中国のトイレ革命』をめぐって[:]
DESCRIPTION:【イベントテーマ】\nAsian Talk 182\nトイレの語る文明論\n『現代中国のトイレ革命』をめぐって\n  \n【イベント紹介】\n今回のイベントでは『現代中国のトイレ革命』（論創社2025）の著者周星（しゅうせい）さんをゲストとしてお招きして、「トイレの語る文明論」というテーマでお話していただきます。 \n聞き手は文化人類学者の田村和彦さんと同書の日本語版翻訳者徐青（じょせい）さん、モデレーターは愛知大学教授の鈴木規夫さんです。 \n中国をフィールドにした中堅人類学者たちの鼎談に、ぜひご参加ください。 \n  \n【ゲストプロフィール】\n \n周星（しゅう・せい） \n1957 年生。現在、神奈川大学国際日本学部教授、同大学院歴史民俗資料学研究科教授。 \n1989年中国社会科学院大学院法学（民俗学）博士号を取得。1989～2000 年北京大学社会学人類学研究所PD、副教授、教授、副所長歴任。2000～2020 年愛知大学国際コミュニケション学部教授、同大学院中国研究科教授。2018～2020 年同国際中国学研究センター（ICCS）所長。2020～現在現職。 \n中國民俗学会顧問、中国芸術人類学学会副会長、中国民族学会海外理事を兼任。 \n著書に『民族政治学』（1993）、『境界与象徴：橋和民俗』（1998）、『本土常識的意味―人類学視野中的民俗研究』（2016）、『道在屎溺:当代中国的厕所革命』（2019）、『百年衣装：中式服装的谱系与汉服运动』（2019）、『死给你看:对一类自杀现象的法人类学研究』（2020）他多数ある。 \n  \n \n田村和彦（たむら・かづひこ） \n愛知大学現代中国学部教授 \n主要研究領域は文化人類学・民俗学。 \n  \n  \n \n徐青（じょ・せい） \n中国上海市生。愛知大学を経て、2009年名古屋大学大学院にて博士（学術）取得。2009～2011 年復旦大学歷史系PD。2011～現在、浙江理工大学外国語学院、講師、副教授、大学院指導教員、学術委員会委員。 \n愛知大学国際問題研究所客員研究員、早稻田大学政治経済研究科訪問研究員、浙江省翻協会理事、竹久夢二学会准会員他。 \n主要研究領域は国際文化関係学、日本言語文学。 \n著書に『近代日本人の上海認識』( 上海人民出版社、2012 年9 月)、『近代日本におけるシャンハイ・イメージ　1931-1945』( 国際書院、2023 年10 月)、「日本文化的另類視線」( 東京書房、2024 年2 月)、『日本女作家宇野千代研究』( 東京書房、2024 年 6 月)、『日本文学と美食』（文彩堂、2025年3 月）他多数ある。 \n  \n  \n \n鈴木規夫（すずき・のりお） \n政治哲学者 \n主要研究領域は世界秩序論、インテリジェンス研究、スフラワルディー研究。 \n著書に『日本人にとってイスラームとは何か』（筑摩書房、1998）、『光の政治哲学スフラワルディーとモダン』（国際書院、2008）がある。 \n  \n\n【関連書籍】\n \n『現代中国のトイレ革命』 \n論創社、 2025年6月25日 \n周星 著／徐青 訳 \nISBN：978-4-8460-2499-4 \n  \n  \n【イベント情報】\nゲスト：周星 \n聞き手：田村和彦、徐青 \nモデレーター：鈴木規夫 \n日時：2025年9月28日（日曜日）14:30-16:00 \n場所：単向街書店・東京銀座店 \n東京都中央区銀座1-6-1 \n使用言語：日本語・中国語 \n全席自由席（40席） \n座席は先着順でございます。時間の余裕を持ってご来場ください。 \n———————————————————————————————————— \n【一般入場券】 \n費用：1500円 \n上部「Get Tickets」のボタンをクリックし、購入画面へお進みください。 \nお客様都合によるキャンセルは一切承っておりません。何卒ご了承ください。 \nシステム上の都合のため、予約完了のメールが届かない場合がございます。 \nメールが確認できない場合、恐れ入りますが、電話にて予約のご確認をお願いいたします。。 \n  \n【当日券】 \n費用：1500円 \n店頭レジにて販売しております。 \n  \n【年間会員入場券】 \n単向街書店・銀座店年間会員は無料でご参加できます。 \n下部「Going」のボタンをクリックし、予約画面へお進みください。 \n年間会員の方はご入場になる際に、会員カードのご提示をお願いいたします。 \n  \n【リモート参加】 \nリモート参加をご希望の方は、こちらのリンクからお申し込みください： \nhttps://forms.gle/hPUHEQVWBVC78nnm7 \n———————————————————————————————————— \n来店参加の方へ \nイベントの開演時間の30分より、入場受付を開始いたします。 \nご不明な点がございましたら、下記の電話番号までお気軽にご連絡ください。 \nお問い合わせ：電話　03-6263-0116 \n———————————————————————————————————— \n【単向街書店・銀座店年間会員のご入会申込み】 \n \n年間費会員申込コード \n◎年間費会員会費：33\,000円/年(税込) \n【会員特典】 \n1、中国語書籍（簡体）3割引 \n2、番号付き会員カード \n3、無料ドリンク券12枚の進呈 \n4、イベント無料参加
URL:https://one-way-street.com/ja/event/asian-talk-182/
LOCATION:One Way Street Tokyo\, 東京都中央区銀座1丁目6−1\, 東京\, Japan
ATTACH;FMTTYPE=image/png:https://one-way-street.com/wp-content/uploads/2025/09/トイレの語る文明論-『現代中国のトイレ革命』をめぐって-1.png
END:VEVENT
END:VCALENDAR