BEGIN:VCALENDAR
VERSION:2.0
PRODID:-//One Way Street Tokyo - ECPv6.6.2//NONSGML v1.0//EN
CALSCALE:GREGORIAN
METHOD:PUBLISH
X-ORIGINAL-URL:https://one-way-street.com/ja
X-WR-CALDESC:One Way Street Tokyo のイベント
REFRESH-INTERVAL;VALUE=DURATION:PT1H
X-Robots-Tag:noindex
X-PUBLISHED-TTL:PT1H
BEGIN:VTIMEZONE
TZID:Asia/Tokyo
BEGIN:STANDARD
TZOFFSETFROM:+0900
TZOFFSETTO:+0900
TZNAME:JST
DTSTART:20250101T000000
END:STANDARD
END:VTIMEZONE
BEGIN:VEVENT
DTSTART;TZID=Asia/Tokyo:20250705T143000
DTEND;TZID=Asia/Tokyo:20250705T160000
DTSTAMP:20260423T160740
CREATED:20250629T043305Z
LAST-MODIFIED:20251103T093605Z
UID:8271-1751725800-1751731200@one-way-street.com
SUMMARY:[:ja]Asian Talk 167　京劇――煌びやかな世界へようこそ　第二講：京劇の特徴[:]
DESCRIPTION:【イベントテーマ】\nAsian Talk 167\n京劇\n煌びやかな世界へようこそ\n第二講　京劇の特徴\n  \n【イベント紹介】\n  \n京劇、これは国粋と呼ばれる演劇。\n王朝の興替、戦乱のパニック、激動の社会、新文化の衝撃、これらがこの舞台から昇る星々の輝きを妨げることはできない！\n皆様に京劇の歴史、特徴及び色々なおもしろい話を紹介させていただければ幸いです。　京劇の煌びやかな世界へようこそ！ \n  \n盧思先生の京劇講座、ご好評につき第2弾開催決定！ \n第1弾では、京劇の歴史と有名な役者を紹介していただきました。 \n第2弾では、京劇にはどのような役柄があるか、どのような道具が用いられているかなど京劇の特徴について、日本の歌舞伎と比較しながらお話していただきます。 \n皆様のご来場をお待ちしております。 \n  \n  \n【ゲストプロフィール】\n  \n \n盧思（ルースー） \n京劇俳優・日本画家 \n京劇の大家「張君秋」を祖父に持ち、幼少期から京劇を学ぶ。 \n1992年、中国戯曲学校京劇演技科を首席で卒業、中国京劇院の俳優となる。 \n1997年、北京中央美術学院中国画学部卒業、同年来日、東京芸術大学日本画コース修士課程入学。 \n2001年、東京芸術大学大学院日本画コース修士課程修了。 \n ＮＨＫ中国語会話に６年間レギュラー出演。 \n現在は画家、中国語講師、美術講師、京劇俳優として各領域で活躍中。 \n  \n【イベント情報】\nゲスト：盧思 \n日時：2025年7月5日（土曜日）14:30-16:00 \n場所：単向街書店・東京銀座店 \n東京都中央区銀座1-6-1 \n使用言語：日本語 \n全席自由席（40席） \n座席は先着順でございます。時間の余裕を持ってご来場ください。 \n———————————————————————————————————— \n【一般入場券】 \n費用：1500円 \n上部「Get Tickets」のボタンをクリックし、購入画面へお進みください。 \nお客様都合によるキャンセルは一切承っておりません。何卒ご了承ください。 \nシステム故障のため、予約完了のメールが届かない場合がございます。 \n恐れ入りますが、電話にて予約のご確認を承っております。 \n  \n【当日券】 \n費用：1500円 \n店頭レジにて販売しております。 \n  \n【年間会員入場券】 \n単向街書店・銀座店年間会員は無料でご参加できます。 \n下部「Going」のボタンをクリックし、予約画面へお進みください。 \n年間会員の方はご入場になる際に、会員カードのご提示をお願いいたします。 \n———————————————————————————————————— \n来店参加の方へ \nイベントの開演時間の30分より、入場受付を開始いたします。 \nご不明な点がございましたら、下記の電話番号までお気軽にご連絡ください。 \nお問い合わせ：電話　03-6263-0116 \n———————————————————————————————————— \n【単向街書店・銀座店年間会員のご入会申込み】 \n \n年間費会員申込コード \n◎年間費会員会費：33\,000円/年(税込) \n【会員特典】 \n1、中国語書籍（簡体）3割引 \n2、番号付き会員カード \n3、無料ドリンク券12枚の進呈 \n4、イベント無料参加 \n  \n【盧思先生の舞台写真】 \n \n  \n【盧思先生が張君秋先生をモデルに創作した日本画作品】 \n \n  \n【張君秋先生の写真】
URL:https://one-way-street.com/ja/event/asian-talk-167/
LOCATION:One Way Street Tokyo\, 東京都中央区銀座1丁目6−1\, 東京\, Japan
ATTACH;FMTTYPE=image/png:https://one-way-street.com/wp-content/uploads/2025/06/イベントポスターのコピー-14.png
END:VEVENT
BEGIN:VEVENT
DTSTART;TZID=Asia/Tokyo:20250706T143000
DTEND;TZID=Asia/Tokyo:20250706T160000
DTSTAMP:20260423T160740
CREATED:20250619T083631Z
LAST-MODIFIED:20250625T104544Z
UID:8214-1751812200-1751817600@one-way-street.com
SUMMARY:[:zh]Asian Talk 168　在日本留学，真的如你所想吗？[:ja]Asian Talk 168　在日留学生が直面する悩み[:]
DESCRIPTION:【イベントテーマ】\nAsian Talk 168\n在日留学生が直面する悩み\n  \n【イベント紹介】\n自律、社交、進学、親子関係…… \n在日留学生は日常生活では数多くの困難を直面しています。彼らはこれらの困難にどのように向き合うか、私たちは彼らを理解し、寄り添うことができるか。 \n今回のイベントは進学指導教師の蒋偉（ジャン・ウェイ）先生をゲストとして招き、以上の問題について語っていただきます。 \n今まさにこうした悩みを抱えている留学生の方も、先生や保護者の方も、ぜひご参加いただきたく思います。実経験を語り合って、気持ちと考えを共有する中で、疑問や不安を解消する方法を探します。 \n  \n【ゲストプロフィール】\n \n蒋偉 \n日本での進学指導歴10年。東京大学に合格した留学生は累計100名以上。一橋大学、早稲田・慶應・上智、GMARCHなど難関大学への合格者も数百名にのぼる。 \n  \n【イベント情報】\nゲスト：蒋偉 \n日時：2025年7月6日（日曜日）14:30-16:00 \n場所：単向街書店・東京銀座店 \n東京都中央区銀座1-6-1 \n使用言語：中国語 \n全席自由席（40席） \n座席は先着順でございます。時間の余裕を持ってご来場ください。 \n———————————————————————————————————— \n【一般入場券】 \n費用：1500円 \n上部「Get Tickets」のボタンをクリックし、購入画面へお進みください。 \nお客様都合によるキャンセルは一切承っておりません。何卒ご了承ください。 \n  \n【当日券】 \n費用：1500円 \n店頭レジにて販売しております。 \n  \n【年間会員入場券】 \n単向街書店・銀座店年間会員は無料でご参加できます。 \n下部「Going」のボタンをクリックし、予約画面へお進みください。 \n年間会員の方はご入場になる際に、会員カードのご提示をお願いいたします。 \n———————————————————————————————————— \n来店参加の方へ \nイベントの開演時間の30分より、入場受付を開始いたします。 \nご不明な点がございましたら、下記の電話番号までお気軽にご連絡ください。 \nお問い合わせ：電話　03-6263-0116 \n———————————————————————————————————— \n【単向街書店・銀座店年間会員のご入会申込み】 \n \n年間費会員申込コード \n◎年間費会員会費：33\,000円/年(税込) \n【会員特典】 \n1、中国語書籍（簡体）3割引 \n2、番号付き会員カード \n3、無料ドリンク券12枚の進呈 \n4、イベント無料参加
URL:https://one-way-street.com/ja/event/asian-talk-168/
LOCATION:One Way Street Tokyo\, 東京都中央区銀座1丁目6−1\, 東京\, Japan
ATTACH;FMTTYPE=image/png:https://one-way-street.com/wp-content/uploads/2025/06/留学生在日之困.png
END:VEVENT
BEGIN:VEVENT
DTSTART;TZID=Asia/Tokyo:20250712T143000
DTEND;TZID=Asia/Tokyo:20250712T160000
DTSTAMP:20260423T160740
CREATED:20250705T095954Z
LAST-MODIFIED:20250706T050722Z
UID:8314-1752330600-1752336000@one-way-street.com
SUMMARY:[:zh]【互动型文艺沙龙】日中双语《国宝》漫谈会 ——聊聊原著，聊聊电影[:ja]【参加型イベント】二つの『国宝』、二つの視点 ――原作と映画について語る会[:]
DESCRIPTION:【イベントテーマ】\n【参加型イベント】\n二つの『国宝』、二つの視点\n――原作と映画について語る会\n  \n【イベント紹介】\n吉田修一氏が書き下ろした同名の長編小説を原作とする映画『国宝』。6月6日の公開以来、3週目で興行収入21億円を突破し、たちまち話題作となりました。一方、中国でも原作が翻訳出版されており、映画も短期間ながら上海映画祭で上映されました。 \n原作と映画、断ち切れない関連性を持ちながらもそれぞれ独立している二つの作品。 \nこの機会に、簡体字版『国宝』の翻訳者をファシリテーターとしてお招きし、日中両サイドの視点から原作と映画について参加者と共に語り合い、理解を深めてみましょう。 \n＊ネタバレがあるので、注意してご参加ください。 \n  \n  \n【ゲストプロフィール】\n \n伏怡琳（ふ　いりん） \n復旦大学日本語日本文学科卒業、早稲田大学文学研究科修士 \n文芸翻訳家。『国宝』（吉田修一著）、『第七官界彷徨 : 尾崎翠短編小説集』、『闖入者』（安部公房著）、『ロック母』（角田光代著）、『いつも彼らはどこかに』（小川洋子著）、『阪急電車』（有川浩著）などを翻訳。 \n  \n【イベント関連作品】\n \n書影©世纪文景 \n《国宝》，上海人民出版社，世纪文景出品，2021年 \n作者: [日] 吉田修一；译者: 伏怡琳 \nISBN: 9787208170476 \n『国宝 (上) 青春篇』 \n朝日新聞出版、2021 \nISBN：9784022650085 \n  \n『国宝 (下) 花道篇』 \n朝日新聞出版、2021 \nISBN：9784022650092 \n  \n【イベント情報】\nゲスト：伏怡琳 \n日時：2025年7月12日（土曜日）14:30-16:00 \n場所：単向街書店・東京銀座店 \n東京都中央区銀座1-6-1 \n使用言語：中文、日本語 \n全席自由席（40席） \n座席は先着順でございます。時間の余裕を持ってご来場ください。 \n———————————————————————————————————— \n【一般入場券】 \n費用：1500円 \n上部「Get Tickets」のボタンをクリックし、購入画面へお進みください。 \nお客様都合によるキャンセルは一切承っておりません。何卒ご了承ください。 \nシステム故障のため、予約完了のメールが届かない場合がございます。 \n恐れ入りますが、電話にて予約のご確認を承っております。 \n  \n【当日券】 \n費用：1500円 \n店頭レジにて販売しております。 \n  \n【年間会員入場券】 \n単向街書店・銀座店年間会員は無料でご参加できます。 \n下部「Going」のボタンをクリックし、予約画面へお進みください。 \n年間会員の方はご入場になる際に、会員カードのご提示をお願いいたします。 \n———————————————————————————————————— \n来店参加の方へ \nイベントの開演時間の30分より、入場受付を開始いたします。 \nご不明な点がございましたら、下記の電話番号までお気軽にご連絡ください。 \nお問い合わせ：電話　03-6263-0116 \n———————————————————————————————————— \n【単向街書店・銀座店年間会員のご入会申込み】 \n \n年間費会員申込コード \n◎年間費会員会費：33\,000円/年(税込) \n【会員特典】 \n1、中国語書籍（簡体）3割引 \n2、番号付き会員カード \n3、無料ドリンク券12枚の進呈 \n4、イベント無料参加 \n 
URL:https://one-way-street.com/ja/event/event-20250712/
LOCATION:One Way Street Tokyo\, 東京都中央区銀座1丁目6−1\, 東京\, Japan
ATTACH;FMTTYPE=image/png:https://one-way-street.com/wp-content/uploads/2025/07/イベントポスター（2025年7月）-1.png
END:VEVENT
BEGIN:VEVENT
DTSTART;TZID=Asia/Tokyo:20250713T143000
DTEND;TZID=Asia/Tokyo:20250713T160000
DTSTAMP:20260423T160740
CREATED:20250707T064558Z
LAST-MODIFIED:20250707T085514Z
UID:8325-1752417000-1752422400@one-way-street.com
SUMMARY:[:ja]【パンダステーション】ここで止まって、パンダを見よう：シャンシャン写真展[:]
DESCRIPTION:【イベントテーマ】\n【パンダステーション】 \nここで止まって、パンダを見よう\nシャンシャン写真展\n  \n【イベント紹介】\n上野動物園から四川へ、パンダシャンシャンの最新写真を一挙公開！ \n展示初日、チャンネル「毎週シャンシャン」の創始者PandaFanさんを招き、シャンシャンについてお話していただきます \nさらに、トークとともに、サプライズを用意します！ \nパンダ好き、シャンシャン好きの皆様にぜひご参加ください～ \n  \n【展示情報】\n開催期間：2025年7月13日（日曜日）―2025年7月19日（土曜日） \n入場無料 \n  \n【トークイベント情報】\nゲスト：PandaFan \n日時：2025年7月13日（日曜日）14:30-16:00 \n場所：単向街書店・東京銀座店 \n東京都中央区銀座1-6-1 \n使用言語：中国語（日本語通訳付き） \n全席自由席（40席） \n座席は先着順でございます。時間の余裕を持ってご来場ください。 \n＊イベント期間中、展示のみのご入場はできません。ご了承ください。 \n———————————————————————————————————— \n【一般入場券】 \n費用：1500円 \n上部「Get Tickets」のボタンをクリックし、購入画面へお進みください。 \nお客様都合によるキャンセルは一切承っておりません。何卒ご了承ください。 \nシステム故障のため、予約完了のメールが届かない場合がございます。 \n恐れ入りますが、電話にて予約のご確認を承っております。 \n  \n【当日券】 \n費用：1500円 \n店頭レジにて販売しております。 \n  \n【年間会員入場券】 \n単向街書店・銀座店年間会員は無料でご参加できます。 \n下部「Going」のボタンをクリックし、予約画面へお進みください。 \n年間会員の方はご入場になる際に、会員カードのご提示をお願いいたします。 \n———————————————————————————————————— \n来店参加の方へ \nイベントの開演時間の30分より、入場受付を開始いたします。 \nご不明な点がございましたら、下記の電話番号までお気軽にご連絡ください。 \nお問い合わせ：電話　03-6263-0116 \n———————————————————————————————————— \n【単向街書店・銀座店年間会員のご入会申込み】 \n \n年間費会員申込コード \n◎年間費会員会費：33\,000円/年(税込) \n【会員特典】 \n1、中国語書籍（簡体）3割引 \n2、番号付き会員カード \n3、無料ドリンク券12枚の進呈 \n4、イベント無料参加
URL:https://one-way-street.com/ja/event/pandastation-01/
LOCATION:One Way Street Tokyo\, 東京都中央区銀座1丁目6−1\, 東京\, Japan
ATTACH;FMTTYPE=image/jpeg:https://one-way-street.com/wp-content/uploads/2025/07/cgi-bin_mmwebwx-bin_webwxgetmsgimg__MsgID3707439783284232247skey@crypt_2b6780f2_67195a62e467bcebfec3624832ae3961mmweb_appidwx_webfilehelper-scaled.jpg
END:VEVENT
BEGIN:VEVENT
DTSTART;TZID=Asia/Tokyo:20250719T143000
DTEND;TZID=Asia/Tokyo:20250719T160000
DTSTAMP:20260423T160740
CREATED:20250712T111754Z
LAST-MODIFIED:20250714T051006Z
UID:8392-1752935400-1752940800@one-way-street.com
SUMMARY:[:zh]Asian Talk 169 近代日本的中国观——福泽谕吉与石桥湛山——[:ja]Asian Talk 169 近代日本の中国観 ——福沢諭吉と石橋湛山——[:]
DESCRIPTION:【イベントテーマ】\nAsian Talk 169\n近代日本の中国観\n——福沢諭吉と石橋湛山——\n  \n【イベント紹介】\n福沢諭吉は「脱亜入欧」を主張し、石橋湛山は「小日本主義」を唱えました。一見、真逆の立場を取った二人ですが、真相は一体どうでしょうか。彼らの中国観を問うことは、中国とは何かを問うことであり、近代日本の中国観を振り返るのは、もう一つの近代日本思想史を問うことと言っても過言ではありません。 \n今回のASIAN TALKは当代随一の中国史家、早稲田大学教授の岡本隆司先生をゲストとしてお迎えして、福沢諭吉と石橋湛山の中国観を中心に、縦横無尽に語っていただきます。 \n  \n【ゲストプロフィール】\n \n岡本隆司 \n歴史学者、専門は東洋史・近代アジア史。 \n1965年生まれ。京都大学大学院文学研究科博士課程満期退学。博士（文学）。 \n宮崎大学助教授、京都府立大学教授を経て、2024年4月より教育・総合科学学術院教授。 \n著書に『近代中国と海関』（大平正芳記念賞受賞）、『属国と自主のあいだ』（サントリー学芸賞受賞）、『中国の誕生』（樫山純三賞、アジア・太平洋賞特別賞受賞）、『世界史とつなげて学ぶ　中国全史』、『倭寇とは何か』、『二十四史』など多数。 \n2025年、紫綬褒章を受章された。 \n  \n \n王前 \n人文学者。主要研究領域は政治哲学、思想史。 \n著書に《中国が読んだ現代思想》(講談社2011年)，　共著《近代日本政治思想史》(ナカニシヤ出版2014年)、《現代中国と市民社会―普遍的《近代》の可能性》(勉成出版2017年)、《世界哲学史》(第八卷)（筑摩書房2020年)等。 \n  \n【関連書籍】\n \n『近代日本の中国観　石橋湛山・内藤湖南から谷川道雄まで』 \n岡本隆司　著 \n講談社、2018年07月12日発売 \nISBN：9784065123522 \n  \n \n『中国史とつなげて学ぶ　日本全史』 \n岡本隆司　著 \n東洋経済新報社、2021年10月22日発売 \n\n\nISBN：9784492062180\n\n\n  \n【イベント情報】\nゲスト：岡本隆司、王前 \n日時：2025年7月19日（土曜日）14:30-16:00 \n場所：単向街書店・東京銀座店 \n東京都中央区銀座1-6-1 \n使用言語：日本語・中国語 \n全席自由席（40席） \n座席は先着順でございます。時間の余裕を持ってご来場ください。 \n———————————————————————————————————— \n【一般入場券】 \n費用：1500円 \n上部「Get Tickets」のボタンをクリックし、購入画面へお進みください。 \nお客様都合によるキャンセルは一切承っておりません。何卒ご了承ください。 \n  \n【当日券】 \n費用：1500円 \n店頭レジにて販売しております。 \n  \n【年間会員入場券】 \n単向街書店・銀座店年間会員は無料でご参加できます。 \n下部「Going」のボタンをクリックし、予約画面へお進みください。 \n年間会員の方はご入場になる際に、会員カードのご提示をお願いいたします。 \n———————————————————————————————————— \n来店参加の方へ \nイベントの開演時間の30分より、入場受付を開始いたします。 \nご不明な点がございましたら、下記の電話番号までお気軽にご連絡ください。 \nお問い合わせ：電話　03-6263-0116 \n———————————————————————————————————— \n【単向街書店・銀座店年間会員のご入会申込み】 \n \n年間費会員申込コード \n◎年間費会員会費：33\,000円/年(税込) \n【会員特典】 \n1、中国語書籍（簡体）3割引 \n2、番号付き会員カード \n3、無料ドリンク券12枚の進呈 \n4、イベント無料参加
URL:https://one-way-street.com/ja/event/asian-talk-169/
LOCATION:One Way Street Tokyo\, 東京都中央区銀座1丁目6−1\, 東京\, Japan
ATTACH;FMTTYPE=image/png:https://one-way-street.com/wp-content/uploads/2025/07/イベントポスター（2025年7月）-5.png
END:VEVENT
BEGIN:VEVENT
DTSTART;VALUE=DATE:20250720
DTEND;VALUE=DATE:20250728
DTSTAMP:20260423T160740
CREATED:20250718T115756Z
LAST-MODIFIED:20250718T125758Z
UID:8447-1752969600-1753660799@one-way-street.com
SUMMARY:[:zh]【艺术空间】精致污染——四人展[:en]【ART IN ONE-WAY】Exhibition：Exquisite Pollution[:]
DESCRIPTION:申し訳ありません、このコンテンツはただ今　中文と アメリカ英語　のみです。
URL:https://one-way-street.com/ja/event/exhibition-20250720/
LOCATION:One Way Street Tokyo\, 東京都中央区銀座1丁目6−1\, 東京\, Japan
ATTACH;FMTTYPE=image/png:https://one-way-street.com/wp-content/uploads/2025/07/イベントポスター（2025年7月）-8.png
END:VEVENT
BEGIN:VEVENT
DTSTART;TZID=Asia/Tokyo:20250720T140000
DTEND;TZID=Asia/Tokyo:20250720T150000
DTSTAMP:20260423T160740
CREATED:20250712T094637Z
LAST-MODIFIED:20250714T062534Z
UID:8387-1753020000-1753023600@one-way-street.com
SUMMARY:[:zh]水土不服：黄西东京专场脱口秀粉丝见面签售会[:]
DESCRIPTION:申し訳ありません、このコンテンツはただ今　中文　のみです。
URL:https://one-way-street.com/ja/event/huangxi/
LOCATION:One Way Street Tokyo\, 東京都中央区銀座1丁目6−1\, 東京\, Japan
ATTACH;FMTTYPE=image/png:https://one-way-street.com/wp-content/uploads/2025/07/7.20黄西签售会-1.png
END:VEVENT
BEGIN:VEVENT
DTSTART;TZID=Asia/Tokyo:20250725T200000
DTEND;TZID=Asia/Tokyo:20250725T213000
DTSTAMP:20260423T160740
CREATED:20250715T101746Z
LAST-MODIFIED:20250715T105434Z
UID:8429-1753473600-1753479000@one-way-street.com
SUMMARY:[:ja]川島ケイジ　スペシャルライブ[:]
DESCRIPTION:【イベントテーマ】\n川島ケイジ　スペシャルライブ\n  \n【注意事項】\n「川島ケイジ　スペシャルライブ」にご来場いただく皆さまへ\n単向街書店からみなさまへお願いがございます。\n以下３点をお読みいただきますようお願いいたします。\n少しご不便な点もあるかと存じます。みなさまにご協力いただけますと幸いです。\n  \n※　チケット販売はすべて当日レジにて行います。19:30から受付開始。\n※　19:20から店舗内で待機列の整備を開始します。それ以前の店舗内での待機はお断りいたします。\n※　当日ライブの写真動画撮影は禁止させていただきます。\n  \nみなさまのご来場を心よりお待ちしております。\n  \n【ゲストプロフィール】\n \n川島ケイジ\nKEIJI KAWASHIMA\nシンガ一ソングライタ一、和歌山県出身\n2016年 　ユ二バ一サルミュ一ジックよりメジャ一デビュ一。\n圧倒的な歌唱力と成熟した大人の魅カに裏付けされた表現力、織細かつダイナミックな歌声は、魅惑の3Dボイスと称され幅広い世代から熱い支持を得ている。\nサントリ一ホ一ル、大手町三井ホ一ル、紀南文化会館など全国でワンマンコンサ一トを開催するほか、高野山金刚峰寺、富岡製糸場、熊野本宮大社など世界遺産を舞台にした音楽活動も多数展開。\n「Chage Hall Tour 2017」全国10か所ゲスト出演や、フジテレビ「MUSIC FAIR」、テレビ東京「THEカラオケ☆バトル」、日本テ\nレビ「バゲット」「ものまねグランプリ」などのメディア出演が話題となる。 \n2020年10月　配信シングル『シロヨヒラ』がデイリ一総合シングル\nダウンロ一ドランキング1位を獲得。 \n2021年2月　「WEIBO Account Festival in Tokyo 2020」で男性グッドシンガ一賞を授賞するなど、国内外で幅広く活躍。 \n2022年5月　 平和へのメッセ一ジを込めた配信シングル『今人(イマジン)』を日本・韓国・台湾の100以上の音楽配信サイトから同時リリ一ス。 \n2023年1月には音楽の聖地ビルボ一ドライブ横浜にてライブを開催し好評を博した。同年4月には和歌山県紀南文化会館にて『どうする和歌山の文化と芸術』知事と語ろうト一ク&コンサ一トに出演。 \n2024年4月　和歌山県文化獎励賞を受賞。 \n現在も、国内ライブツアー、海外を含むライブ映像配信など精力的に活動を行っている。 \n◆主な表彰歴等\n令和3年　 WEIBO Account Festival in Tokyo \n男性グッドシンガ一賞 \n令和5年　和歌山県文化奨励賞 \n  \nLINE　＆　TikTok公式アカウントはこちらから↓↓\n \n  \n【イベント情報】\nゲスト：川島ケイジ\n日時：2025年7月25日（金）20:00-21:30 \n場所：単向街書店・東京銀座店 \n東京都中央区銀座1-6-1 \n形式：ライブ \n全席自由席　/　人数制限なし \n———————————————————————————————————— \n【当日券のみ】 \n入場料：3000円（税込） \nチケット販売はすべて当日レジにて行います。19:30から受付開始。 \nドリンク1杯付き　※コーヒー、お茶、オレンジジュースの中からお選びいただけます。 \n———————————————————————————————————— \n来店参加の方へ \nご不明な点がございましたら、下記の電話番号までお気軽にご連絡ください。 \nお問い合わせ：電話　03-6263-0116
URL:https://one-way-street.com/ja/event/kawashima-live6/
LOCATION:One Way Street Tokyo\, 東京都中央区銀座1丁目6−1\, 東京\, Japan
ATTACH;FMTTYPE=image/png:https://one-way-street.com/wp-content/uploads/2025/07/川岛7.25.png
END:VEVENT
BEGIN:VEVENT
DTSTART;TZID=Asia/Tokyo:20250726T143000
DTEND;TZID=Asia/Tokyo:20250726T180000
DTSTAMP:20260423T160740
CREATED:20250701T034725Z
LAST-MODIFIED:20250728T091740Z
UID:8288-1753540200-1753552800@one-way-street.com
SUMMARY:[:zh]Asian Talk 172 赛博玄学的尽头是认知行为心理学[:]
DESCRIPTION:申し訳ありません、このコンテンツはただ今　中文　のみです。
URL:https://one-way-street.com/ja/event/asian-talk-172/
LOCATION:One Way Street Tokyo\, 東京都中央区銀座1丁目6−1\, 東京\, Japan
ATTACH;FMTTYPE=image/png:https://one-way-street.com/wp-content/uploads/2025/07/7.26赛博玄学-1.png
END:VEVENT
BEGIN:VEVENT
DTSTART;TZID=Asia/Tokyo:20250727T143000
DTEND;TZID=Asia/Tokyo:20250727T160000
DTSTAMP:20260423T160740
CREATED:20250628T072240Z
LAST-MODIFIED:20250701T065043Z
UID:8266-1753626600-1753632000@one-way-street.com
SUMMARY:[:zh]Asian Talk 173 从日本考学现状谈中日教育的对比[:]
DESCRIPTION:申し訳ありません、このコンテンツはただ今　中文　のみです。
URL:https://one-way-street.com/ja/event/asian-talk-173/
LOCATION:One Way Street Tokyo\, 東京都中央区銀座1丁目6−1\, 東京\, Japan
ATTACH;FMTTYPE=image/png:https://one-way-street.com/wp-content/uploads/2025/06/中日教育对比.png
END:VEVENT
END:VCALENDAR