BEGIN:VCALENDAR
VERSION:2.0
PRODID:-//One Way Street Tokyo - ECPv6.6.2//NONSGML v1.0//EN
CALSCALE:GREGORIAN
METHOD:PUBLISH
X-ORIGINAL-URL:https://one-way-street.com/ja
X-WR-CALDESC:One Way Street Tokyo のイベント
REFRESH-INTERVAL;VALUE=DURATION:PT1H
X-Robots-Tag:noindex
X-PUBLISHED-TTL:PT1H
BEGIN:VTIMEZONE
TZID:Asia/Tokyo
BEGIN:STANDARD
TZOFFSETFROM:+0900
TZOFFSETTO:+0900
TZNAME:JST
DTSTART:20250101T000000
END:STANDARD
END:VTIMEZONE
BEGIN:VEVENT
DTSTART;TZID=Asia/Tokyo:20250510T143000
DTEND;TZID=Asia/Tokyo:20250510T160000
DTSTAMP:20260423T185554
CREATED:20250419T104142Z
LAST-MODIFIED:20250505T075131Z
UID:7835-1746887400-1746892800@one-way-street.com
SUMMARY:[:zh]Asian Talk 155 “我有责任记录下来”　《我所认识的顾准》作者分享会[:]
DESCRIPTION:申し訳ありません、このコンテンツはただ今　中文　のみです。
URL:https://one-way-street.com/ja/event/asian-talk-155/
LOCATION:One Way Street Tokyo\, 東京都中央区銀座1丁目6−1\, 東京\, Japan
ATTACH;FMTTYPE=image/png:https://one-way-street.com/wp-content/uploads/2025/04/イベントポスターのコピー-20-1.png
END:VEVENT
BEGIN:VEVENT
DTSTART;TZID=Asia/Tokyo:20250511T143000
DTEND;TZID=Asia/Tokyo:20250511T160000
DTSTAMP:20260423T185554
CREATED:20250422T050034Z
LAST-MODIFIED:20250422T065452Z
UID:7887-1746973800-1746979200@one-way-street.com
SUMMARY:[:zh]品牌，即冒险：IP化与商业模式创新[:]
DESCRIPTION:申し訳ありません、このコンテンツはただ今　中文　のみです。
URL:https://one-way-street.com/ja/event/20250511/
LOCATION:One Way Street Tokyo\, 東京都中央区銀座1丁目6−1\, 東京\, Japan
ATTACH;FMTTYPE=image/png:https://one-way-street.com/wp-content/uploads/2025/04/cgi-bin_mmwebwx-bin_webwxgetmsgimg__MsgID1742463993309937236skey@crypt_2b6780f2_c3e35be016871bf0003f7048f3eab1femmweb_appidwx_webfilehelper.png
END:VEVENT
BEGIN:VEVENT
DTSTART;TZID=Asia/Tokyo:20250516T200000
DTEND;TZID=Asia/Tokyo:20250516T213000
DTSTAMP:20260423T185554
CREATED:20250426T050927Z
LAST-MODIFIED:20250504T041550Z
UID:7921-1747425600-1747431000@one-way-street.com
SUMMARY:[:ja]川島ケイジ　スペシャルライブ[:]
DESCRIPTION:【イベントテーマ】\n川島ケイジ　スペシャルライブ\n  \n【注意事項】\n「川島ケイジ　スペシャルライブ」にご来場いただく皆さまへ\n単向街書店からみなさまへお願いがございます。\n以下３点をお読みいただきますようお願いいたします。\n少しご不便な点もあるかと存じます。みなさまにご協力いただけますと幸いです。\n  \n※　チケット販売はすべて当日レジにて行います。19:30から受付開始。\n※　19:20から店舗内で待機列の整備を開始します。それ以前の店舗内での待機はお断りいたします。\n※　当日ライブの写真動画撮影は禁止させていただきます。\n  \nみなさまのご来場を心よりお待ちしております。\n  \n【ゲストプロフィール】\n \n川島ケイジ\nKEIJI KAWASHIMA\nシンガ一ソングライタ一、和歌山県出身\n2016年 　ユ二バ一サルミュ一ジックよりメジャ一デビュ一。\n圧倒的な歌唱力と成熟した大人の魅カに裏付けされた表現力、織細かつダイナミックな歌声は、魅惑の3Dボイスと称され幅広い世代から熱い支持を得ている。\nサントリ一ホ一ル、大手町三井ホ一ル、紀南文化会館など全国でワンマンコンサ一トを開催するほか、高野山金刚峰寺、富岡製糸場、熊野本宮大社など世界遺産を舞台にした音楽活動も多数展開。\n「Chage Hall Tour 2017」全国10か所ゲスト出演や、フジテレビ「MUSIC FAIR」、テレビ東京「THEカラオケ☆バトル」、日本テ\nレビ「バゲット」「ものまねグランプリ」などのメディア出演が話題となる。 \n2020年10月　配信シングル『シロヨヒラ』がデイリ一総合シングル\nダウンロ一ドランキング1位を獲得。 \n2021年2月　「WEIBO Account Festival in Tokyo 2020」で男性グッドシンガ一賞を授賞するなど、国内外で幅広く活躍。 \n2022年5月　 平和へのメッセ一ジを込めた配信シングル『今人(イマジン)』を日本・韓国・台湾の100以上の音楽配信サイトから同時リリ一ス。 \n2023年1月には音楽の聖地ビルボ一ドライブ横浜にてライブを開催し好評を博した。同年4月には和歌山県紀南文化会館にて『どうする和歌山の文化と芸術』知事と語ろうト一ク&コンサ一トに出演。 \n2024年4月　和歌山県文化獎励賞を受賞。 \n現在も、国内ライブツアー、海外を含むライブ映像配信など精力的に活動を行っている。 \n◆主な表彰歴等\n令和3年　 WEIBO Account Festival in Tokyo \n男性グッドシンガ一賞 \n令和5年　和歌山県文化奨励賞 \n  \n \n鈴木蘭々\nSuzuki Ranran\nタレント、女優、歌手、東京都出身 \n1990年代を代表するマルチタレントとして、テレビ、音楽、映画、CMなど幅広いジャンルで活躍されている。 \n2023年にはSONYmusicより初のベストアルバム【鈴木蘭々 All Time Best～Yesterday＆Today～】を発売。 \n現在、化粧品販売、ライブ、TV出演等継続的に行う。 \n  \n \nオオニシユウスケ\nOONISHI YUUSUKE\nギタリスト、アレンジャー。 \n幅広いジャンルのアーティストのライブ、コンサート、レコーディング、制作などに関わる。 \n  \nLINE　＆　TikTok公式アカウントはこちらから↓↓\n \n  \n【イベント情報】\nゲスト：川島ケイジ、鈴木蘭々、オオニシユウスケ\n日時：2025年5月16日（金）20:00-21:30 \n場所：単向街書店・東京銀座店 \n東京都中央区銀座1-6-1 \n形式：ライブ \n全席自由席　/　人数制限なし \n———————————————————————————————————— \n【当日券のみ】 \n入場料：3000円（税込） \nチケット販売はすべて当日レジにて行います。19:30から受付開始。 \nドリンク1杯付き　※コーヒー、お茶、オレンジジュースの中からお選びいただけます。 \n———————————————————————————————————— \n来店参加の方へ \nご不明な点がございましたら、下記の電話番号までお気軽にご連絡ください。 \nお問い合わせ：電話　03-6263-0116
URL:https://one-way-street.com/ja/event/kawashima-live4/
ATTACH;FMTTYPE=image/png:https://one-way-street.com/wp-content/uploads/2025/04/川岛5.16.png
END:VEVENT
BEGIN:VEVENT
DTSTART;TZID=Asia/Tokyo:20250517T170000
DTEND;TZID=Asia/Tokyo:20250517T190000
DTSTAMP:20260423T185554
CREATED:20250422T070158Z
LAST-MODIFIED:20250429T043723Z
UID:7893-1747501200-1747508400@one-way-street.com
SUMMARY:[:zh]Asian Talk 156 巴别塔的鱼 三人舞台剧 ＆朗读剧“那一天”[:ja]Asian Talk 156 バベルの塔の魚たち 三人芝居＆朗読劇「わたしはあの日、」[:]
DESCRIPTION:  \n【イベントテーマ】\nAsian Talk 156\nバベルの塔の魚たち\n三人芝居＆朗読劇「わたしはあの日、」 \n  \n【イベント詳細】\nゲスト： \n演劇企画ニガモヨギ \n∟脚本・演出：市村みさ希 \n∟絵画製作： 黒沼泊 \nMC：葉子 \nDJ：馬遅 \n創作カクテル：Haku、Tero \n企画：単向街書店、演劇企画ニガモヨギ、April、葉子 \n時間：2025年5月17日（土曜）17:00-19:00（16:30開場／17:00開演） \n場所：単向街書店・銀座店２F \nアドレス：東京都中央区銀座1-6-1（有楽町線 銀座一丁目駅 ６番出口より徒歩１分） \n参加方法：QLコードでチケット購入／当日券有 \n費用：3\,000円（ワンドリンク込み） \n形式：三人芝居、音楽朗読 \n・音楽朗読（朗読は日本語、中国語訳付きの原稿配布あり） \n　築、真愛、大川篤史、葉子、April \n・三人芝居（日本語） \n　宮口嘉行、黒沼伯、市村みさ希 \n———————————————————————————————————— \n【一般入場券】 \n費用：3\,000円（ワンドリンク込み） \n上部「Get Tickets」のボタンをクリックし、購入画面へお進みください。 \nお客様都合によるキャンセルは一切承っておりません。何卒ご了承ください。 \n【当日券】 \n費用：3\,000円（ワンドリンク込み） \n店頭レジにて販売しております。 \n【年間会員入場券】 \n単向街書店・銀座店年間会員は無料でご参加できます。 \n下部「Going」のボタンをクリックし、予約画面へお進みください。 \n年間会員の方はご入場になる際に、会員カードのご提示をお願いいたします。 \n———————————————————————————————————— \n来店参加の方へ \nイベントの開演時間の30分より、入場受付を開始いたします。 \nご不明な点がございましたら、下記の電話番号までお気軽にご連絡ください。 \nお問い合わせ：電話　03-6263-0116 \n———————————————————————————————————— \n  \n【お客様へのご案内】\n①演出の都合上、途中喫煙シーンがございます。小道具は医薬品を使用しますが煙と匂いがありますので、ご心配な方は後方のお席をご利用くださいませ。 \n②お席へのご案内は当日受付順となります。お早めのご来場にご協力いただけますと幸いです。 \n③上演中は写真撮影のみ可能となっておりますが、撮影をする際はお席は移動せず、周りのお客様へご配慮いただきつつシャッター音は小さめにお願いいたします。動画の撮影や録音はご遠慮くださいませ。 \n  \n  \n【イベント紹介】\n  \n〈作品概要〉 \n言語がバラバラになった世界で、 \n我々のコミュニケ一ションとは。 \n適切とは? 正しさとは? \nそんな問いと共に生きる人々を描いた、 \nありふれた日々へ。 \n  \n今回のテ一マはコミュニケ一ション \nそしてコンプレックスです \n価値観や伝達手段の違いは \n日常にありふれたものでありながら \n些細なズレから生まれる疎外感、 \n失望、孤独、コンプレックス \nそういうものと、社会と、大切な人とわたしたちは \n登場人物たちが抱える葛藤はもしかしたら、 \nあなたの葛藤でもあるかもしれません \n  \n〈コミュニケーションとは？〉 \n同じ「言語」で話している夫婦としても、 \nお互いの「言葉」を理解できない時もあるでしょう。 \n  \n海外で過ごしているあなたも、 \n日々「言語の壁」を体感しているでしょう。 \n  \n「文字宇宙」、「本宇宙」、 \n「アナログ宇宙」にはまっている方々は、 \nたまに、「デジタル世界」を理解できない瞬間が \nあるでしょう。 \n  \nどっちが正しい？どっちが適切？ \n「流れ」に合わせる必要はある？ \n  \n世の中は激しく速いスピーディで進んでいる今中、 \n母語や非母語、電子やモノクロ、自言語や他言語… \nいろんな意味で、言語がバラバラになった世界で、 \n我々のコミュニケ一ションとは。 \n  \n本、絵、レコード、建築、 \n彫刻、カクテル、映画、布、劇… \n夫、妻、あなた、わたし、ねこ、 \n友人、同僚、見知らぬ多人… \n日本語、中国語、英語、方言、無口の瞬間… \n  \nみんなそれぞれの宇宙で、 \nそれぞれの「言語」を持っているかもしれませんが、 \n「本屋」という、 \nどんな言葉も優しく受け入れてくれる場所で、 \n異なる「言語どうし」のぶつかり合いには \n言語の境界線を越えるような、 \n新しい理解、表現、感情を生み出すことを \n期待している。 \n  \n  \n【ゲストプロフィール】\n \n｜演劇企画ニガヨモギ \n都内を拠点とする劇団。劇団名の由来であるニガヨモギの花言葉「不在」をテーマに据え、人間の存在意義への \n問いと共に選択の意志、自由について、宗教的な観点も取り入れつつ哲学的な追求を行いながら人間の本質や繰り返される歴史、避けられない死との向き合い方など、普遍的なテーマを扱う。 \nまた、異なる存在や価値観の共存について問いかける作品も作りながら、観客には自由な推察や考察を楽しんでもらうことも目的とする。幻想的な世界観から、大人のための「絵本」ともいわれる。 \n・活動履歴 \n2022年劇団設立。以下、市村みさ希脚本・演出作品。 \n2022年 \n「バラと飛行船」 \n「ピスポスホネートの構造式」 \n「バベルの塔の魚たち」 \n2023年 \n「不在のル・パンデュ」 \n「301号室」 \n2024年 \n「ネンネンネムノキ コトノワザ」 \n2025年 \n「バベルの塔の魚たち」 \n10月上演予定作品 \n「逢魔ヶ刻の問答歌」 \n  \n  \n \n｜葉子 \n中日翻訳、出版、翻訳書著作権、「音楽＆文学＆アート」を題材で日中コミュニケーションイベント企画。早稲田大学院現代文芸修士、小沼純一ゼミ。 \n修士論文に『音楽として読む村上春樹—文学と音楽のつながり』。『ナイトモード Night Shift』NPT (Non-physical Troupe)（第33回金曲奨(GMA)では「最優秀華語のアルバム賞」）歌詞対訳担当など。 \n2025年4月「NHK World！Workpedia Japan」取材。 \n  \n  \n \n｜馬　遲 \nLi-Pi Records創始、レコード発行 \n同軸プロペラ・ヘリコプター・トランスミッションエンジニア \n  \n北京航空航天大学で航空機の設計と工学を専攻し、同軸対向プロペラ・ヘリコプターランスミッション構造エンジニア。2009年、北京798 芸術区で中国国内最大のレコードシップと言われる莱蒎黑胶唱片（Li-Pi Records）を立ち上げ。創始者である馬遲は常にアナログ文化の保護、支援活動に尽す。15年の中、中国の他、香港、台湾、日本、韓国はもちろん、アメリカ、ドイツ等でも活動。現在は北京をはじめ、杭州・上海・東京でも拠点展開中。 2023年、香港の元キングソフト音楽プロデューサー・Melvin Wong氏と協力し、Li-Pi Records店内にライブハウス「MUSEUM」を立ち上げ。現在、東京を拠点とし、書店、カフェなどで音楽対談、アートコラボイベント、DJイベントを展開中。 \n  \n  \n \n｜April（エイプリル） \n中日翻訳、言語教育、アートイベント企画、日中ビジネスコーディネーターとして活動KIYOSHI ART SPACEのマネージャーや、一般社団法人日中芸術交流協会の幹事を歴任 \nアートフェアの出展企画にも多数携わり、『Art Fair Tokyo 2022』や『ART BEIJING 2019』など、国内外の多彩なアートイベントにおいて企画・運営 \n言語・文化の橋渡しを軸に、教育・芸術・ビジネスの分野で幅広くサポート \n  \n  \n｜Tero(バーテンダー) \n東京芸術大学音楽学科研究生、曽てバー自営者、音楽＆アート関連企画 \n  \nイベント限定　カクテルメニュー \n \n  \n  \n———————————————————————————————————— \n【単向街書店・銀座店年間会員のご入会申込み】 \n \n年間費会員申込コード \n◎年間費会員会費：33\,000円/年(税込) \n【会員特典】 \n1、中国語書籍（簡体）3割引 \n2、番号付き会員カード \n3、無料ドリンク券12枚の進呈 \n4、イベント無料参加
URL:https://one-way-street.com/ja/event/asian-talk-156/
LOCATION:One Way Street Tokyo\, 東京都中央区銀座1丁目6−1\, 東京\, Japan
ATTACH;FMTTYPE=image/jpeg:https://one-way-street.com/wp-content/uploads/2025/04/cgi-bin_mmwebwx-bin_webwxgetmsgimg__MsgID2016209707775230467skey@crypt_2b6780f2_78d3cfe87f5420819874b43f69ae7d8dmmweb_appidwx_webfilehelper.jpg
END:VEVENT
BEGIN:VEVENT
DTSTART;TZID=Asia/Tokyo:20250518T143000
DTEND;TZID=Asia/Tokyo:20250518T160000
DTSTAMP:20260423T185554
CREATED:20250423T070758Z
LAST-MODIFIED:20250427T080204Z
UID:7912-1747578600-1747584000@one-way-street.com
SUMMARY:[:zh]Asian Talk 157 蔡之岳《东京乌鸦》新书发布会：异域的阅读和写作[:]
DESCRIPTION:申し訳ありません、このコンテンツはただ今　中文　のみです。
URL:https://one-way-street.com/ja/event/asian-talk-157/
LOCATION:One Way Street Tokyo\, 東京都中央区銀座1丁目6−1\, 東京\, Japan
ATTACH;FMTTYPE=image/png:https://one-way-street.com/wp-content/uploads/2025/04/イベントポスターのコピー-19.png
END:VEVENT
BEGIN:VEVENT
DTSTART;TZID=Asia/Tokyo:20250524T143000
DTEND;TZID=Asia/Tokyo:20250524T160000
DTSTAMP:20260423T185554
CREATED:20250417T103205Z
LAST-MODIFIED:20250503T022516Z
UID:7829-1748097000-1748102400@one-way-street.com
SUMMARY:[:zh]Asian Talk 158 中资企业日本出海的成功案例及注意事项[:]
DESCRIPTION:申し訳ありません、このコンテンツはただ今　中文　のみです。
URL:https://one-way-street.com/ja/event/asian-talk-158/
ATTACH;FMTTYPE=image/png:https://one-way-street.com/wp-content/uploads/2025/04/5.24中资出海日本-1.png
END:VEVENT
BEGIN:VEVENT
DTSTART;TZID=Asia/Tokyo:20250525T143000
DTEND;TZID=Asia/Tokyo:20250525T160000
DTSTAMP:20260423T185554
CREATED:20250509T080851Z
LAST-MODIFIED:20250520T034922Z
UID:7966-1748183400-1748188800@one-way-street.com
SUMMARY:[:zh]Asian Talk 159 IP即商业，AI即加速器[:]
DESCRIPTION:申し訳ありません、このコンテンツはただ今　中文　のみです。
URL:https://one-way-street.com/ja/event/asian-talk-159/
LOCATION:One Way Street Tokyo\, 東京都中央区銀座1丁目6−1\, 東京\, Japan
ATTACH;FMTTYPE=image/png:https://one-way-street.com/wp-content/uploads/2025/05/5.25IP即商业.png
END:VEVENT
BEGIN:VEVENT
DTSTART;TZID=Asia/Tokyo:20250526T130000
DTEND;TZID=Asia/Tokyo:20250526T150000
DTSTAMP:20260423T185554
CREATED:20250514T143511Z
LAST-MODIFIED:20250519T062339Z
UID:7981-1748264400-1748271600@one-way-street.com
SUMMARY:[:zh]如何在美国顶尖大学申请中脱颖而出？[:]
DESCRIPTION:申し訳ありません、このコンテンツはただ今　中文　のみです。
URL:https://one-way-street.com/ja/event/liyinuo1/
LOCATION:One Way Street Tokyo\, 東京都中央区銀座1丁目6−1\, 東京\, Japan
ATTACH;FMTTYPE=image/png:https://one-way-street.com/wp-content/uploads/2025/05/default-4.png
END:VEVENT
BEGIN:VEVENT
DTSTART;TZID=Asia/Tokyo:20250527T150000
DTEND;TZID=Asia/Tokyo:20250527T163000
DTSTAMP:20260423T185554
CREATED:20250521T105538Z
LAST-MODIFIED:20250521T131256Z
UID:8027-1748358000-1748363400@one-way-street.com
SUMMARY:[:zh]【艺术空间】未来已来 - 张伶伶东京个展[:]
DESCRIPTION:申し訳ありません、このコンテンツはただ今　中文　のみです。
URL:https://one-way-street.com/ja/event/exhibition-20250527/
LOCATION:One Way Street Tokyo\, 東京都中央区銀座1丁目6−1\, 東京\, Japan
ATTACH;FMTTYPE=image/png:https://one-way-street.com/wp-content/uploads/2025/05/イベントポスターのコピー-4.png
END:VEVENT
BEGIN:VEVENT
DTSTART;TZID=Asia/Tokyo:20250531T143000
DTEND;TZID=Asia/Tokyo:20250531T160000
DTSTAMP:20260423T185554
CREATED:20250517T090007Z
LAST-MODIFIED:20250519T052118Z
UID:7999-1748701800-1748707200@one-way-street.com
SUMMARY:[:zh]Asian Talk 160 从林达夫到丸山真男、市村弘正——关于学者和出版[:ja]Asian Talk 160 林達夫から、丸山眞男、市村弘正までーー学者と出版をめぐって[:]
DESCRIPTION:【イベントテーマ】\nAsian Talk 160\n林達夫から、丸山眞男、市村弘正まで\nーー学者と出版をめぐって\n  \n【イベント紹介】\n現代日本において、学者や思想家が編集、出版の世界で大きな役割を果たした事例はまれではなかった。昭和の前期においては、和辻哲郎、林達夫と三木清は岩波書店の《思想》などの編集や書物の出版に大きく関わって、日本の現代思想文化の発展に大きく寄与した。 \n林達夫は戦後日本初の百科事典の編集を担当し、生涯編集に強い関心を抱いていた。戦後を代表する思想家の丸山眞男もみすず書房や岩波書店に関わって、助言などを通して、日本の人文思想出版に少なからぬ影響力を発揮した。丸山眞男と藤田省三の水脈に立つ思想史家の市村弘正もその系列に属する学者として活躍した。 \n今回のトークイベントは林達夫の新しい伝記『林達夫　編集の精神』の著者、『市村弘正著作集』の編集者でもある落合勝人と『林達夫とその時代』の中国語版訳者伏怡琳、監訳者の王前をゲストとして招いて、現代日本において、学者や思想家がいかに編集や出版を通して、社会の啓蒙に貢献したのかについて活発に議論をしていただきたい。 \n  \n【ゲストプロフィール】\n \n落合勝人（おちあい　かつと） \n編集者、思想史研究者。 \n1969年生まれ。埼玉県出身。早稲田大学教育学部国語国文学科卒業。93年、集英社に入社。文芸書、小説すばる等を経て、2001年より新書編集部に在籍。『悩む力』（姜尚中著）をはじめ多数の書籍を手掛ける。14年より集英社新書編集長（現職）。 \n仕事の傍ら思想史を学び、19年、法政大学大学院政治学研究科博士後期課程修了（政治学博士）。専門は近現代日本思想史。2021年、学位論文をもとにした単行本『林達夫　編集の精神』を岩波書店より刊行。集英社創業95周年記念企画『アジア人物史』全12巻（22～24年）の編集長を務め、第11巻の第14章「抵抗と協力のあいだ――”知識人/編集者”と”もう一つの京都学派”」も執筆。 \n  \n  \n \n王前（おう　ぜん） \n人文学者。主要研究領域は政治哲学、思想史。 \n著書に《中国が読んだ現代思想》(講談社2011年)，　共著《近代日本政治思想史》(ナカニシヤ出版2014年)、《現代中国と市民社会―普遍的《近代》の可能性》(勉成出版2017年)、《世界哲学史》(第八卷)（筑摩書房2020年)等。 \n  \n  \n \n伏怡琳（ふく　いりん） \n復旦大学日本語日本文学科卒業、早稲田大学文学研究科修士 \n日本文学翻訳家。『国宝』（吉田修一著）、『第七官界徘徊 : 尾崎翠短編小説集』、『侵入者』（安部公房著）、『ロックママ』（角田光代著）、『彼らは別の場所で自在に』（小川洋子著）、『阪急電車』（有川浩著）などを翻訳。 \n  \n  \n【関連書籍】\n \n『林達夫とその時代』 \n渡邊一民著、岩波書店、1988年初版発行 \n  \n \n『林達夫 編集の精神』 \n落合勝人著、岩波書店、2021年初版発行 \n  \n『市村弘正著作集（上、下巻）』 \n市村弘正著、集英社、2025年初版発行 \n  \n \n《永恒与时间 丸山真男思想史学的交响曲》 \n区建英著，生活·读书·新知三联书店，2025年\n  \n  \n【イベント情報】\nゲスト：落合勝人、王前、伏怡琳 \n日時：2025年5月31日（土曜日）14:30-16:00 \n場所：単向街書店・東京銀座店 \n東京都中央区銀座1-6-1 \n形式：日本語トーク・全席自由席（40席） \n座席は先着順でございます。時間の余裕を持ってご来場ください。 \n中国語の翻訳と案内がございます。 \n———————————————————————————————————— \n【一般入場券】 \n費用：1500円 \n上部「Get Tickets」のボタンをクリックし、購入画面へお進みください。 \nお客様都合によるキャンセルは一切承っておりません。何卒ご了承ください。 \n【当日券】 \n費用：1500円 \n店頭レジにて販売しております。 \n【年間会員入場券】 \n単向街書店・銀座店年間会員は無料でご参加できます。 \n下部「Going」のボタンをクリックし、予約画面へお進みください。 \n年間会員の方はご入場になる際に、会員カードのご提示をお願いいたします。 \n———————————————————————————————————— \n来店参加の方へ \nイベントの開演時間の30分より、入場受付を開始いたします。 \nご不明な点がございましたら、下記の電話番号までお気軽にご連絡ください。 \nお問い合わせ：電話　03-6263-0116 \n———————————————————————————————————— \n【単向街書店・銀座店年間会員のご入会申込み】 \n \n年間費会員申込コード \n◎年間費会員会費：33\,000円/年(税込) \n【会員特典】 \n1、中国語書籍（簡体）3割引 \n2、番号付き会員カード \n3、無料ドリンク券12枚の進呈 \n4、イベント無料参加
URL:https://one-way-street.com/ja/event/asian-talk-160/
LOCATION:One Way Street Tokyo\, 東京都中央区銀座1丁目6−1\, 東京\, Japan
ATTACH;FMTTYPE=image/png:https://one-way-street.com/wp-content/uploads/2025/05/イベントポスターのコピー.png
END:VEVENT
END:VCALENDAR