BEGIN:VCALENDAR
VERSION:2.0
PRODID:-//One Way Street Tokyo - ECPv6.6.2//NONSGML v1.0//EN
CALSCALE:GREGORIAN
METHOD:PUBLISH
X-ORIGINAL-URL:https://one-way-street.com/ja
X-WR-CALDESC:One Way Street Tokyo のイベント
REFRESH-INTERVAL;VALUE=DURATION:PT1H
X-Robots-Tag:noindex
X-PUBLISHED-TTL:PT1H
BEGIN:VTIMEZONE
TZID:Asia/Tokyo
BEGIN:STANDARD
TZOFFSETFROM:+0900
TZOFFSETTO:+0900
TZNAME:JST
DTSTART:20250101T000000
END:STANDARD
END:VTIMEZONE
BEGIN:VEVENT
DTSTART;TZID=Asia/Tokyo:20250105T143000
DTEND;TZID=Asia/Tokyo:20250105T163000
DTSTAMP:20260424T010145
CREATED:20241222T060315Z
LAST-MODIFIED:20241227T085940Z
UID:6732-1736087400-1736094600@one-way-street.com
SUMMARY:[:zh]Asian Talk 128 许知远《十三邀Ⅱ：行动即答案》新书分享会[:]
DESCRIPTION:申し訳ありません、このコンテンツはただ今　中文　のみです。
URL:https://one-way-street.com/ja/event/asian-talk-128/
LOCATION:One Way Street Tokyo\, 東京都中央区銀座1丁目6−1\, 東京\, Japan
ATTACH;FMTTYPE=image/jpeg:https://one-way-street.com/wp-content/uploads/2024/12/cgi-bin_mmwebwx-bin_webwxgetmsgimg__MsgID2008844090314002068skey@crypt_2b6780f2_8bd198a99b430137cc9354580c89968ammweb_appidwx_webfilehelper-scaled.jpg
END:VEVENT
BEGIN:VEVENT
DTSTART;TZID=Asia/Tokyo:20250111T143000
DTEND;TZID=Asia/Tokyo:20250111T173000
DTSTAMP:20260424T010145
CREATED:20250105T101556Z
LAST-MODIFIED:20250106T024911Z
UID:6872-1736605800-1736616600@one-way-street.com
SUMMARY:[:zh]Asian Talk 129 杜杰导演 《椰子树的高度》（「椰子の高さ」）电影放映会[:ja]Asian Talk 129 杜杰監督作品「椰子の高さ」映画放映会[:]
DESCRIPTION:
URL:https://one-way-street.com/ja/event/asian-talk-129/
LOCATION:One Way Street Tokyo\, 東京都中央区銀座1丁目6−1\, 東京\, Japan
ATTACH;FMTTYPE=image/png:https://one-way-street.com/wp-content/uploads/2025/01/cgi-bin_mmwebwx-bin_webwxgetmsgimg__MsgID5445839859985399322skey@crypt_2b6780f2_a13a3718aa1f40b039c104977e382a47mmweb_appidwx_webfilehelper.png
END:VEVENT
BEGIN:VEVENT
DTSTART;TZID=Asia/Tokyo:20250112T143000
DTEND;TZID=Asia/Tokyo:20250112T160000
DTSTAMP:20260424T010145
CREATED:20241221T105724Z
LAST-MODIFIED:20241222T030105Z
UID:6711-1736692200-1736697600@one-way-street.com
SUMMARY:[:ja]Asian Talk 130　京劇－－煌びやかな世界へようこそ[:]
DESCRIPTION:【イベントテーマ】 \nAsian Talk 130\n京劇\n煌びやかな世界へようこそ\n\n【ゲストプロフィール】 \n \n盧思 \n京劇俳優・日本画家 \n中国戯曲学院京劇コース卒業、中国中央美術学院大学卒業、東京藝術大学日本画コース修士課程修了 \n京劇の大家「張君秋」を祖父に持ち、幼少期から京劇を学ぶ。現在は京劇俳優と画家として活躍中 \n  \n【イベント情報】 \nゲスト: 盧思 \n使用言語：日本語 \n開催形式：対面 \n日時：2024年1月12日（日）14:30-16:00 \n場所：単向街書店・東京銀座店 \n東京都中央区銀座1-6-1 \n形式：日本語・全席自由 \n—————— \n入場券事前購入：ポスターのQRコード、ホームページ \n当日券購入：店頭レジ \n– \n費用：1500円 \n上部「Get Tickets」のボタンをクリックし、購入画面へお進みください。 \nお客様都合での払戻しは一切承ることができませんのでご了承ください。 \n– \n単向街書店・銀座店の年間会員は無料 \n下部「Going」のボタンをクリックし、申込画面購入画面へお進みください。 \n—————— \nお問い合わせ：インスタグラム公式アカウント、電話0362630116。 \n◎年間費会員33\,000円/年(税込) \n年間費会員申込コード \n \n【会員特典】 \n１、番号付き会員カード \n2、ドリンク無料券12枚の進呈 \n3、イベント無料参加 \n4、中国語書籍（簡体）3割引 \n  \n  \n【イベント紹介】 \n京劇、これは国粋と呼ばれる演劇。\n王朝の興替、戦乱のパニック、激動の社会、新文化の衝撃、これらがこの舞台から昇る星々の輝きを妨げることはできない！\n皆様に京劇の歴史、特徴及び色々なおもしろい話を紹介させていただければ幸いです。　京劇の煌びやかな世界へようこそ！ \n今回のイベントでは、京劇の歴史を振り返りながら、いくつかの人物と物語を案内する。また、どのような役柄があるのか、役者にはどのようなスキルが求められるのかなど、京劇の特徴を説明する。皆様のご来場をお待ちしております。 \n  \n【盧思先生の舞台写真】 \n \n  \n【盧思先生が張君秋先生をモデルに創作した日本画作品】 \n \n  \n【張君秋先生の写真】
URL:https://one-way-street.com/ja/event/asian-talk-130/
LOCATION:One Way Street Tokyo\, 東京都中央区銀座1丁目6−1\, 東京\, Japan
ATTACH;FMTTYPE=image/png:https://one-way-street.com/wp-content/uploads/2024/12/AT130-POSTER.png
END:VEVENT
BEGIN:VEVENT
DTSTART;TZID=Asia/Tokyo:20250113T143000
DTEND;TZID=Asia/Tokyo:20250113T160000
DTSTAMP:20260424T010145
CREATED:20241225T080044Z
LAST-MODIFIED:20241227T025236Z
UID:6748-1736778600-1736784000@one-way-street.com
SUMMARY:[:zh]Asian Talk 131 上古幻境：山海经日本展 邱启敬[:]
DESCRIPTION:申し訳ありません、このコンテンツはただ今　中文　のみです。
URL:https://one-way-street.com/ja/event/asian-talk-131/
LOCATION:One Way Street Tokyo\, 東京都中央区銀座1丁目6−1\, 東京\, Japan
ATTACH;FMTTYPE=image/jpeg:https://one-way-street.com/wp-content/uploads/2024/12/2bf08e91e507de5ec715ceeadcce3438-scaled.jpeg
END:VEVENT
BEGIN:VEVENT
DTSTART;TZID=Asia/Tokyo:20250113T180000
DTEND;TZID=Asia/Tokyo:20250113T200000
DTSTAMP:20260424T010145
CREATED:20250106T040404Z
LAST-MODIFIED:20250106T072721Z
UID:6885-1736791200-1736798400@one-way-street.com
SUMMARY:[:zh]Asian Talk 133 38岁刚“成年” ——跨越多重身份与人生的再定义　廖宇靖读书分享会[:]
DESCRIPTION:申し訳ありません、このコンテンツはただ今　中文　のみです。
URL:https://one-way-street.com/ja/event/asian-talk-133/
LOCATION:One Way Street Tokyo\, 東京都中央区銀座1丁目6−1\, 東京\, Japan
ATTACH;FMTTYPE=image/png:https://one-way-street.com/wp-content/uploads/2025/01/イベントポスターのコピー-2.png
END:VEVENT
BEGIN:VEVENT
DTSTART;TZID=Asia/Tokyo:20250114T080000
DTEND;TZID=Asia/Tokyo:20250114T170000
DTSTAMP:20260424T010145
CREATED:20250114T035134Z
LAST-MODIFIED:20250114T035404Z
UID:7040-1736841600-1736874000@one-way-street.com
SUMMARY:[:zh]Asian Talk 134 外国人在日本最适合投资什么？[:]
DESCRIPTION:申し訳ありません、このコンテンツはただ今　中文　のみです。
URL:https://one-way-street.com/ja/event/asian-talk-134/
ATTACH;FMTTYPE=image/png:https://one-way-street.com/wp-content/uploads/2025/01/イベントポスターのコピー-2-1.png
END:VEVENT
BEGIN:VEVENT
DTSTART;TZID=Asia/Tokyo:20250118T143000
DTEND;TZID=Asia/Tokyo:20250118T160000
DTSTAMP:20260424T010145
CREATED:20241227T105629Z
LAST-MODIFIED:20241228T021840Z
UID:6795-1737210600-1737216000@one-way-street.com
SUMMARY:[:zh]Asian Talk 132 所有女孩都值得一个好故事：殳俏《女字旁》新书分享会[:]
DESCRIPTION:申し訳ありません、このコンテンツはただ今　中文　のみです。
URL:https://one-way-street.com/ja/event/asian-talk-132/
LOCATION:One Way Street Tokyo\, 東京都中央区銀座1丁目6−1\, 東京\, Japan
ATTACH;FMTTYPE=image/png:https://one-way-street.com/wp-content/uploads/2024/12/イベントポスターのコピー-3.png
END:VEVENT
BEGIN:VEVENT
DTSTART;TZID=Asia/Tokyo:20250125T143000
DTEND;TZID=Asia/Tokyo:20250125T160000
DTSTAMP:20260424T010145
CREATED:20250110T043240Z
LAST-MODIFIED:20250111T135734Z
UID:6985-1737815400-1737820800@one-way-street.com
SUMMARY:[:zh]Asian Talk 135:《红楼梦》和《金瓶梅》哪个更伟大？[:]
DESCRIPTION:申し訳ありません、このコンテンツはただ今　中文　のみです。
URL:https://one-way-street.com/ja/event/asian-talk-135/
LOCATION:One Way Street Tokyo\, 東京都中央区銀座1丁目6−1\, 東京\, Japan
ATTACH;FMTTYPE=image/png:https://one-way-street.com/wp-content/uploads/2025/01/76162bfc75cb5904692d0babc21f5e71.png
END:VEVENT
END:VCALENDAR