BEGIN:VCALENDAR
VERSION:2.0
PRODID:-//One Way Street Tokyo - ECPv6.6.2//NONSGML v1.0//EN
CALSCALE:GREGORIAN
METHOD:PUBLISH
X-WR-CALNAME:One Way Street Tokyo
X-ORIGINAL-URL:https://one-way-street.com/ja
X-WR-CALDESC:One Way Street Tokyo のイベント
REFRESH-INTERVAL;VALUE=DURATION:PT1H
X-Robots-Tag:noindex
X-PUBLISHED-TTL:PT1H
BEGIN:VTIMEZONE
TZID:Asia/Tokyo
BEGIN:STANDARD
TZOFFSETFROM:+0900
TZOFFSETTO:+0900
TZNAME:JST
DTSTART:20240101T000000
END:STANDARD
END:VTIMEZONE
BEGIN:VEVENT
DTSTART;TZID=Asia/Tokyo:20241005T143000
DTEND;TZID=Asia/Tokyo:20241005T160000
DTSTAMP:20260424T053837
CREATED:20240924T010548Z
LAST-MODIFIED:20240930T084206Z
UID:5857-1728138600-1728144000@one-way-street.com
SUMMARY:[:zh]Asian Talk096 龍行天下 -白于郊　銀座個展-[:ja]Asian Talk096 龍行天下 -白于郊　銀座個展-[:]
DESCRIPTION:【イベントテーマ】 \nAsian Talk096 \n龍行天下 \n–白于郊　銀座個展– \n【ゲストプロフィール】 \n \n白 於郊（ハク　ウコウ） \n山西少白岩彩株式会社・代表取締役 \n「白神録」幻世界神話シリーズ ・ 創作者 \n東洋伝統絵画の普及伝承者 \n中国美術学院・岩彩画研究員 \n南京長芦崇福禅寺・終身芸術顧問 \n日美展・水墨画部作家 \n東京銀座「NEOI Gallery」・契約作家 \n白于郊は中国山西省で生まれ、幼少期から伝統的な中国画を学び、中国美術学院の岩彩画大家、王雄飛教授に師事した。 \n2024年現在、白於郊は水墨画、岩彩画、壁画などの研究と制作に15年以上携わっており、豊富な創作経験と古画の修復技術を持っている。 \n主な経歴： \n2006-2009年 \n山西省浄土祖庭玄中寺の大型壁画制作に参加した。主な作品は『地蔵変』、『浄土変』。 \n2007-2009年 \n山西省国貿ホテル、連盛ホテル、富百軒ショッピングモールなどの絵画作品と芸術品の制作に参加した。 \n2010年 \n杭州霊順寺「文殊普賢」の大型壁画制作に参加した。 \n新疆ウイグル自治区のクゼール、甘粛省敦煌に招かれ、伝統的な古壁画の模写を研究した。同年発表した「浅談岩彩」は専門美術誌に収録されている。 \n2011年 \n敦煌シリーズ模写作品は中国美院岩彩画研究所（杭州）に所蔵されている \n2011年 \n岩彩画作品「縁」が東方華彩2011中国岩彩画展及び中国岩彩画20年発展フォーラムの受賞に選ばれ、「中国美術報」にも発表された。 \n2012-2014年 \n南京長芦崇福禅寺のために大型岩彩壁画を創作した。主な作品は『文殊普賢』、『地蔵弥勒』など。 \n2015年 \n南京長芦崇福禅寺の終身芸術顧問、特別招聘専任絵師に任命された。同年に同寺に16枚の岩彩羅漢図を描いた。 \n2016年 \n伝統的な日本画の技法を絵画創作にもっと活用することを目的として、日本を訪れて遊学した。同年の代表作は『四象』、『歓喜仏』。 \n2019年〜 \n大昔の怪奇神話「白神録」シリーズの創作が始まった。 \n2022年 \n「山海経」シリーズの異獣岩彩画シリーズの創作を開始した。同年に埼玉県越生町で大型壁画「ファンタジー天地」（22メートル*2メートル）を完成させた。内には珍獣400匹余りがいる。 \n2023年 \n岩彩画作品「森の瞳」が旺玄会第89回展に入選し、5月～8月に東京都国立美術館、名古屋美術館を巡回した。 \n水墨画作品「夢」は第6回日米展準大賞及びU-can特別協賞を受賞した。水墨画作品「猞猁」が同展国際文化賞を受賞し、8月に東京・六本木国立新美術館に展示された。 \n8月、岩彩画作品「森の瞳」と「山海経幻獣」が埼玉県立近代美術館に展示された。 \n2024年 \n5月、「森の守り」が日本第98回国展に入選し、東京六本木国立新美術館に展示された。 \n5月、「森の歩み」が第90回旺玄会に入選し、東京都美術館、名古屋美術館で巡回し、展示された。 \n「東方龍」シリーズの作品40点余りを創作し、東京で巡回個展を予定する。 \n【イベント情報】 \nゲスト：白于郊 \n日時：2024年10月5日（土）14:30-16:00 \n場所：単向街書店・東京銀座店 \n東京都中央区銀座1-6-1 \n形式：中国語トーク・全席自由 \n—————— \n下部「Going」のボタンをクリックし、申込画面へお進みください。 \n—————— \nお問い合わせ：インスタグラム公式アカウント、電話0362630116。 \n◎年間費会員33\,000円/年(税込) \n年間費会員申込コード \n【会員特典】 \n１、番号付き会員カード \n2、ドリンク無料券12枚の進呈 \n3、イベント無料参加 \n4、中国語書籍（簡体）3割引 \n【イベント紹介】 \n白於郊は特に動物、仏菩薩の造像、および神獣などを描くのが得意である。現在、主に岩彩画と水墨画の結合に関する革新と研究、および神話体系絵画作品の探索と創作を行っている。 \n10月 5日（土）14:30-16:00， “龍行天下－白于郊・銀座個展―” 白于郊の作品展と共に画家本人にお越しいただき、自身の経歴や作品に込められた思いなどをお話いたします。みなさまのご来場をお待ちしております。
URL:https://one-way-street.com/ja/event/asian-talk-096/
LOCATION:One Way Street Tokyo\, 東京都中央区銀座1丁目6−1\, 東京\, Japan
ATTACH;FMTTYPE=image/png:https://one-way-street.com/wp-content/uploads/2024/09/イベントポスター-1.png
END:VEVENT
BEGIN:VEVENT
DTSTART;TZID=Asia/Tokyo:20241006T143000
DTEND;TZID=Asia/Tokyo:20241006T160000
DTSTAMP:20260424T053837
CREATED:20240916T061806Z
LAST-MODIFIED:20240917T062205Z
UID:5794-1728225000-1728230400@one-way-street.com
SUMMARY:[:zh]Asian Talk 097  美是一场修行，你愿意和我一起同行吗？[:]
DESCRIPTION:申し訳ありません、このコンテンツはただ今　中文　のみです。
URL:https://one-way-street.com/ja/event/asian-talk-097/
LOCATION:One Way Street Tokyo\, 東京都中央区銀座1丁目6−1\, 東京\, Japan
ATTACH;FMTTYPE=image/png:https://one-way-street.com/wp-content/uploads/2024/09/AT097　ポスター.png
END:VEVENT
BEGIN:VEVENT
DTSTART;TZID=Asia/Tokyo:20241012T143000
DTEND;TZID=Asia/Tokyo:20241012T170000
DTSTAMP:20260424T053837
CREATED:20240924T052559Z
LAST-MODIFIED:20240930T083830Z
UID:5867-1728743400-1728752400@one-way-street.com
SUMMARY:[:zh]Asian Talk 098 剧情片上映会＆交流会——“黄金周”[:]
DESCRIPTION:申し訳ありません、このコンテンツはただ今　中文　のみです。
URL:https://one-way-street.com/ja/event/asian-talk-098/
LOCATION:One Way Street Tokyo\, 東京都中央区銀座1丁目6−1\, 東京\, Japan
ATTACH;FMTTYPE=image/png:https://one-way-street.com/wp-content/uploads/2024/09/イベントポスター.png
END:VEVENT
BEGIN:VEVENT
DTSTART;TZID=Asia/Tokyo:20241013T143000
DTEND;TZID=Asia/Tokyo:20241013T160000
DTSTAMP:20260424T053837
CREATED:20240930T021017Z
LAST-MODIFIED:20240930T122605Z
UID:5884-1728829800-1728835200@one-way-street.com
SUMMARY:[:zh]Asian Talk 099  解答大家关于签证的疑问！—签证种类与手续ー[:]
DESCRIPTION:申し訳ありません、このコンテンツはただ今　中文　のみです。
URL:https://one-way-street.com/ja/event/asian-talk-099/
LOCATION:One Way Street Tokyo\, 東京都中央区銀座1丁目6−1\, 東京\, Japan
ATTACH;FMTTYPE=image/png:https://one-way-street.com/wp-content/uploads/2024/09/イベントポスター-2.png
END:VEVENT
BEGIN:VEVENT
DTSTART;TZID=Asia/Tokyo:20241016T190000
DTEND;TZID=Asia/Tokyo:20241016T203000
DTSTAMP:20260424T053837
CREATED:20240930T084853Z
LAST-MODIFIED:20240930T113652Z
UID:5893-1729105200-1729110600@one-way-street.com
SUMMARY:[:zh]她故事——女性主题读书会 第七课｜本期主讲书籍：《挣脱母爱的束缚》[:]
DESCRIPTION:申し訳ありません、このコンテンツはただ今　中文　のみです。
URL:https://one-way-street.com/ja/event/herstories7/
LOCATION:One Way Street Tokyo\, 東京都中央区銀座1丁目6−1\, 東京\, Japan
ATTACH;FMTTYPE=image/png:https://one-way-street.com/wp-content/uploads/2024/09/読書会-1.png
END:VEVENT
BEGIN:VEVENT
DTSTART;TZID=Asia/Tokyo:20241019T143000
DTEND;TZID=Asia/Tokyo:20241019T160000
DTSTAMP:20260424T053837
CREATED:20241006T095015Z
LAST-MODIFIED:20241014T081805Z
UID:5939-1729348200-1729353600@one-way-street.com
SUMMARY:[:zh]Asian Talk 101 一个人徒步熊野古道：在孤独中勇敢前行[:]
DESCRIPTION:申し訳ありません、このコンテンツはただ今　中文　のみです。
URL:https://one-way-street.com/ja/event/asian-talk101/
LOCATION:One Way Street Tokyo\, 東京都中央区銀座1丁目6−1\, 東京\, Japan
ATTACH;FMTTYPE=image/png:https://one-way-street.com/wp-content/uploads/2024/10/イベントポスター-1.png
END:VEVENT
BEGIN:VEVENT
DTSTART;TZID=Asia/Tokyo:20241020T143000
DTEND;TZID=Asia/Tokyo:20241020T160000
DTSTAMP:20260424T053837
CREATED:20240916T072628Z
LAST-MODIFIED:20240918T001958Z
UID:5801-1729434600-1729440000@one-way-street.com
SUMMARY:[:zh]Asian Talk102　“恶人”的善意  ——浅谈鹤见俊辅与西田几多郎的思想交汇[:ja]Asian Talk 102「悪人」の善意 --鶴見俊輔と西田幾多郎の思想の交わるところ[:]
DESCRIPTION:【イベントテーマ】 \nAsian Talk 102「悪人」の善意 \n–鶴見俊輔と西田幾多郎の思想の交わるところ \n【ゲストプロフィール】 \n \n劉争（りゅうじゅん） \n比較思想学者。関西国際大学国際コミュニケーション学部准教授。 \n主な研究分野は戦後日本思想と中国の近代思想。日中比較思想の観点から書かれた加藤周一研究を日本と中国で刊行した（『「例外」の思想―戦後知識人・加藤周一の射程―』現代図書、『例外的個体―論加藤周一及其思想』知識産権出版社）。 \n \n片岡大右 \n批評家。東京大学、早稲田大学ほか非常勤講師。専門は社会思想史・フランス文学。著訳書に『批評と生きること――「十番目のミューズ」の未来』（晶文社）、『フランス知と戦後日本――対比思想史の試み』（共著、白水社）、『古井由吉　文学の奇蹟』（共著、河出書房新社）、『加藤周一を21世紀に引き継ぐために──加藤周一生誕百年記念国際シンポジウム講演録』（共著、水声社）、デヴィッド・グレーバー『民主主義の非西洋起源について──「あいだ」の空間の民主主義』（以文社）、ポール・ベニシュー『作家の聖別　フランス・ロマン主義１』（共訳、水声社）など。 \n【イベント情報】 \nゲスト: 劉争（関西国際大学准教授）\, 片岡大右（批評家） \n使用言語：中国語・日本語 \n開催形式：対面 \n日時：2024年10月20日（日）14:30-16:00 \n場所：単向街書店・東京銀座店 \n東京都中央区銀座1-6-1 \n形式：日本語・中国語トーク・全席自由 \n—————— \n入場券事前購入：ポスターのQRコード、ホームページ \n当日券購入：店頭レジ \n– \n費用：1500円 \n上部「Get Tickets」のボタンをクリックし、購入画面へお進みください。 \nお客様都合での払戻しは一切承ることができませんのでご了承ください。 \n– \n単向街書店・銀座店の年間会員は無料 \n下部「Going」のボタンをクリックし、申込画面購入画面へお進みください。 \n—————— \nお問い合わせ：インスタグラム公式アカウント、電話0362630116。 \n◎年間費会員33\,000円/年(税込) \n年間費会員申込コード \n \n【会員特典】 \n１、番号付き会員カード \n2、ドリンク無料券12枚の進呈 \n3、イベント無料参加 \n4、中国語書籍（簡体）3割引 \n【イベント紹介】 \n西田幾多郎に代表される京都学派の重要性は言うまでもなく、その国際的な再評価には十分な理由がある。しかし、知らず知らずのうちに、この枠にはめられた認識は、私たちが別の種類の日本哲学を発見することの制約となっている。実際、京都学派が日本の戦前の体制との曖昧な関係ゆえに周縁化されたのちに活動した戦後思想家たちの軌跡は、時代と深く絡み合い、それぞれの苦い人生経験が刻み込まれ、それぞれの特色を持ちながらも、そこには呼応と交差がある。私たちは京都学派のみならず、これら戦後思想家たちの豊かな思想水脈からも多くを学ぶことができる。 \n加藤周一の思想を考察した前回に引き続き、今回は戦後日本思想のもう一人の中心人物である鶴見俊輔に焦点を当て、特に彼自身の思想と実践の道を発展させる基礎となったプラグマティズムに注目したい。満鉄総裁や外務大臣を歴任した重要な政治家、後藤新平の孫である鶴見俊輔は、深く陰鬱な少年時代を過ごした。家庭でも学校でも良好な人間関係を築くことができなかった彼は、孤立した中で悪行を重ね、14歳頃に2度自殺未遂を起こし、精神病院に3度入院した。しつけに苦労した父親は、15歳で彼をアメリカ留学させた……。 晩年まで、彼は自分が「悪人」であると主張していた。しかし、そんな「悪人」が、戦後日本の社会風潮を鋭く痛烈に批判したのだった。 \n鶴見俊輔はその生涯に多くの著作を残したが、西田の哲学をある程度評価しながらも、本格的に論じているわけではない。しかし、二人のテクストを新たな観点から整理し、再読するなら、鶴見俊輔の思想を西田や京都学派の思想と結びつけることができる。今日、鶴見俊輔の「悪」と西田幾多郎の「善」を再検討することの意義とは何か。この問いを追求することは、「新しいヒューマニズム」の模索につながっているはずだ。 \n【関連作品】
URL:https://one-way-street.com/ja/event/asian-talk102/
LOCATION:One Way Street Tokyo\, 東京都中央区銀座1丁目6−1\, 東京\, Japan
ATTACH;FMTTYPE=image/png:https://one-way-street.com/wp-content/uploads/2024/09/AT102　イベントポスター-1.png
END:VEVENT
BEGIN:VEVENT
DTSTART;TZID=Asia/Tokyo:20241022T190000
DTEND;TZID=Asia/Tokyo:20241022T203000
DTSTAMP:20260424T053837
CREATED:20241017T141655Z
LAST-MODIFIED:20241017T150424Z
UID:6045-1729623600-1729629000@one-way-street.com
SUMMARY:[:zh]Asian Talk 117  属于我一个人的小故事 元山里子《人间幸不幸》新书分享会[:]
DESCRIPTION:申し訳ありません、このコンテンツはただ今　中文　のみです。
URL:https://one-way-street.com/ja/event/asian-talk-117/
LOCATION:One Way Street Tokyo\, 東京都中央区銀座1丁目6−1\, 東京\, Japan
ATTACH;FMTTYPE=image/png:https://one-way-street.com/wp-content/uploads/2024/10/AT117-ポスター.png
END:VEVENT
BEGIN:VEVENT
DTSTART;TZID=Asia/Tokyo:20241026T130000
DTEND;TZID=Asia/Tokyo:20241026T140000
DTSTAMP:20260424T053837
CREATED:20241015T071110Z
LAST-MODIFIED:20241018T024607Z
UID:6017-1729947600-1729951200@one-way-street.com
SUMMARY:[:zh]Asian Talk 100                                          Tokyo/Taiwan 廖迎晰個展           - 座標 121‧24 。 跨時代的凝視[:]
DESCRIPTION:申し訳ありません、このコンテンツはただ今　中文　のみです。
URL:https://one-way-street.com/ja/event/asian-talk100/
LOCATION:One Way Street Tokyo\, 東京都中央区銀座1丁目6−1\, 東京\, Japan
ATTACH;FMTTYPE=image/png:https://one-way-street.com/wp-content/uploads/2024/10/イベントポスター-5.png
END:VEVENT
BEGIN:VEVENT
DTSTART;TZID=Asia/Tokyo:20241026T143000
DTEND;TZID=Asia/Tokyo:20241026T160000
DTSTAMP:20260424T053837
CREATED:20241006T102348Z
LAST-MODIFIED:20241007T041845Z
UID:5946-1729953000-1729958400@one-way-street.com
SUMMARY:[:zh]Asian Talk 103 字里行间的心声：周洁茹谈写作与创作之旅[:]
DESCRIPTION:申し訳ありません、このコンテンツはただ今　中文　のみです。
URL:https://one-way-street.com/ja/event/asian-talk103/
LOCATION:One Way Street Tokyo\, 東京都中央区銀座1丁目6−1\, 東京\, Japan
ATTACH;FMTTYPE=image/png:https://one-way-street.com/wp-content/uploads/2024/10/cgi-bin_mmwebwx-bin_webwxgetmsgimg__MsgID5971418499325215639skey@crypt_2b6780f2_a4684c138ecbfefb0fdf73d9ad43b235mmweb_appidwx_webfilehelper.png
END:VEVENT
BEGIN:VEVENT
DTSTART;TZID=Asia/Tokyo:20241027T143000
DTEND;TZID=Asia/Tokyo:20241027T160000
DTSTAMP:20260424T053837
CREATED:20240916T054000Z
LAST-MODIFIED:20240924T012145Z
UID:5776-1730039400-1730044800@one-way-street.com
SUMMARY:[:zh]Asian Talk104  30岁辞职开飞机穿越北极圈 : 空中看世界[:ja]Asian Talk104  サラリーマンだってパイロットになれる！？[:]
DESCRIPTION:【イベントテーマ】\nAsian Talk104\nサラリーマンだってパイロットになれる！？\n空から見る世界 \n  \n【ゲストプロフィール】 \n\n王思莼 \n中国国内の旅行業界とIT業界で働く普通の社員でしたが、幼い頃から地理や歴史に強い興味があり、30歳までに7大陸、70カ国以上を訪れました。そして30歳の時、長年の夢を叶える決意をし、アメリカに渡って航空スクールに入学、パイロットの道へ進みました。\n2017年にはFAA（米国連邦航空局）の自家用操縦士ライセンスを取得し、現在はFAAインストラクターライセンスも保持しています。また、かつて中国の軽飛行機ナショナルチームのメンバーであり、『北極日記』の著者でもあります。自家用飛行機で北極圏を飛び越え、噴火中の火山の上空を飛行し、空からSpaceXのロケット発射を見た経験もあります。さらに、アラスカの氷河、マヤ文明のピラミッド、ナイアガラの滝やグランドキャニオンなど、数多くの興味深い場所を飛行しました。自由の女神像の周りを飛び、イエローストーン国立公園を越え、そしてNASAが選んだ地球上で最も美しい場所の一つであるバハマの青い海も上空から眺めました。\n現在は、自家用飛行機による旅行の普及に力を注いでいます。 \n【イベント情報】\nゲスト：王思莼 \n企画： 小红书＠TOKYO STRANGERS\n日時：2024年10月27日（日）14:30-16:00\n場所：単向街書店・東京銀座店\n東京都中央区銀座1-6-1\n形式：中国語トーク・全席自由\n——————\n入場券事前購入：ポスターのQRコード、ホームページ\n当日券購入：店頭レジ\n–\n費用：2000円　ワンドリンク付き \n(ホットコーヒー、ジャスミン茶、オレンジジュースから１つ選択) \n上部「Get Tickets」のボタンをクリックし、購入画面へお進みください。\nお客様都合での払戻しは一切承ることができませんのでご了承ください。\n–\n単向街書店・銀座店の年間会員は無料\n下部「Going」のボタンをクリックし、申込画面購入画面へお進みください。\n——————\nお問い合わせ：インスタグラム公式アカウント、電話0362630116。 \n\n◎年間費会員33\,000円/年(税込)\n年間費会員申込コード \n【会員特典】\n１、番号付き会員カード\n2、ドリンク無料券12枚の進呈\n3、イベント無料参加\n4、中国語書籍（簡体）3割引 \n【イベント紹介】\nなぜ普通の人でも飛行機の操縦士になれるのでしょうか？航空留学や自家用飛行機での旅行は、本当に高額なのでしょうか？飛行機を運転し、車のように自由に旅行するにはどうすればいいのでしょうか？そして、世界には飛行機でしか行けない魅力的な場所がどれほどあるのでしょうか？\n一般の旅客機と小型機には多くの違いがあります。旅客機はバスのように決まったルートがあり、自由に行きたい場所に行くことはできません。一方、小型機は自家用車のように、自分で出発時間やルートを決め、自由に旅を楽しむことができます。\n2024年10月27日（日）14:30〜16:00に、銀座の単向街書店にて、飛行や空の旅、そして空からの視点に興味のある皆様をお招きします。豊富な飛行経験を持つゲストが、飛行に対する想いと、なぜ飛行の夢を持つすべての人がその夢を追いかけるべきかについてお話しします。 \n【関連作品】 \n\n「THE Arctic Flight Log」\n『北極日記——自家用飛行機で夢を追う旅』\n作者：王思莼\n出版日：2021年4月\n出版社：中国工人出版社\n著者の王思莼氏は、普通の会社員として働きながら、30歳の時に長年の夢であった飛行機操縦を学ぶことを決意しました。そして、自家用飛行機で北極を巡る夢の旅も実現しました。王思莼氏はまず北米に渡り、航空学校に入学し、飛行免許を取得。その後、36日間かけてカナダを出発し、飛行機で北極を巡る旅をしました。\nこの旅の途中で、彼は夢の中で何度も想像していた美しい景色や、初めて目にする数々の素晴らしい場所に出会いました。例えば、ナイアガラの滝、350隻以上の船が沈んだ不思議な「デスアイランド」、タイタニック号の沈没地点、地表でマントルが見られる唯一の場所、かつて原子爆弾が保管されていた武器庫、北極星湖、白クジラとの親密な接触、そして70年前の飛行機の残骸や北極熊などです。
URL:https://one-way-street.com/ja/event/asian-talk-104/
LOCATION:One Way Street Tokyo\, 東京都中央区銀座1丁目6−1\, 東京\, Japan
ATTACH;FMTTYPE=image/png:https://one-way-street.com/wp-content/uploads/2024/09/AT104ポスタ―.png
END:VEVENT
END:VCALENDAR