BEGIN:VCALENDAR
VERSION:2.0
PRODID:-//One Way Street Tokyo - ECPv6.6.2//NONSGML v1.0//EN
CALSCALE:GREGORIAN
METHOD:PUBLISH
X-WR-CALNAME:One Way Street Tokyo
X-ORIGINAL-URL:https://one-way-street.com/ja
X-WR-CALDESC:One Way Street Tokyo のイベント
REFRESH-INTERVAL;VALUE=DURATION:PT1H
X-Robots-Tag:noindex
X-PUBLISHED-TTL:PT1H
BEGIN:VTIMEZONE
TZID:Asia/Tokyo
BEGIN:STANDARD
TZOFFSETFROM:+0900
TZOFFSETTO:+0900
TZNAME:JST
DTSTART:20240101T000000
END:STANDARD
END:VTIMEZONE
BEGIN:VEVENT
DTSTART;TZID=Asia/Tokyo:20240706T113000
DTEND;TZID=Asia/Tokyo:20240706T133000
DTSTAMP:20260424T102938
CREATED:20240623T023219Z
LAST-MODIFIED:20240624T072200Z
UID:4773-1720265400-1720272600@one-way-street.com
SUMMARY:[:zh]Asian Talk 068 【艺术疗愈创新体验工作坊】从个人平和到世界和平 ——叙事绘画治疗法® 与压力管理[:]
DESCRIPTION:申し訳ありません、このコンテンツはただ今　中文　のみです。
URL:https://one-way-street.com/ja/event/asian-talk-068/
LOCATION:One Way Street Tokyo\, 東京都中央区銀座1丁目6−1\, 東京\, Japan
ATTACH;FMTTYPE=image/png:https://one-way-street.com/wp-content/uploads/2024/06/601719210831_.pic_hd.png
END:VEVENT
BEGIN:VEVENT
DTSTART;TZID=Asia/Tokyo:20240706T143000
DTEND;TZID=Asia/Tokyo:20240706T160000
DTSTAMP:20260424T102938
CREATED:20240630T085615Z
LAST-MODIFIED:20240701T112711Z
UID:4841-1720276200-1720281600@one-way-street.com
SUMMARY:[:zh]Asian Talk 072 女性如何擅用投资术?[:]
DESCRIPTION:申し訳ありません、このコンテンツはただ今　中文　のみです。
URL:https://one-way-street.com/ja/event/asian-talk-072/
LOCATION:One Way Street Tokyo\, 東京都中央区銀座1丁目6−1\, 東京\, Japan
ATTACH;FMTTYPE=image/png:https://one-way-street.com/wp-content/uploads/2024/06/641719819210_.pic_.png
END:VEVENT
BEGIN:VEVENT
DTSTART;TZID=Asia/Tokyo:20240707T143000
DTEND;TZID=Asia/Tokyo:20240707T160000
DTSTAMP:20260424T102938
CREATED:20240621T091053Z
LAST-MODIFIED:20240622T034007Z
UID:4738-1720362600-1720368000@one-way-street.com
SUMMARY:[:zh]Asian Talk 066 元山里子：女性力量，走出自己想走的路[:]
DESCRIPTION:申し訳ありません、このコンテンツはただ今　中文　のみです。
URL:https://one-way-street.com/ja/event/%e4%b8%ad%e6%96%87-asian-talk-066-%e5%85%83%e5%b1%b1%e9%87%8c%e5%ad%90%ef%bc%9a%e5%a5%b3%e6%80%a7%e5%8a%9b%e9%87%8f%ef%bc%8c%e9%80%89%e6%8b%a9%e8%87%aa%e5%b7%b1%e7%9a%84%e5%b9%b8%e7%a6%8f/
LOCATION:One Way Street Tokyo\, 東京都中央区銀座1丁目6−1\, 東京\, Japan
ATTACH;FMTTYPE=image/png:https://one-way-street.com/wp-content/uploads/2024/06/6191719027287_.pic_hd.png
END:VEVENT
BEGIN:VEVENT
DTSTART;TZID=Asia/Tokyo:20240713T143000
DTEND;TZID=Asia/Tokyo:20240713T160000
DTSTAMP:20260424T102938
CREATED:20240630T060313Z
LAST-MODIFIED:20240701T095412Z
UID:4833-1720881000-1720886400@one-way-street.com
SUMMARY:[:zh]Asian Talk 070 宋庄的历史和艺术生态——暨陈蜀艺术个展对话[:]
DESCRIPTION:申し訳ありません、このコンテンツはただ今　中文　のみです。
URL:https://one-way-street.com/ja/event/asian-talk-070/
LOCATION:One Way Street Tokyo\, 東京都中央区銀座1丁目6−1\, 東京\, Japan
ATTACH;FMTTYPE=image/png:https://one-way-street.com/wp-content/uploads/2024/06/7081719739673_.pic_hd.png
END:VEVENT
BEGIN:VEVENT
DTSTART;TZID=Asia/Tokyo:20240714T143000
DTEND;TZID=Asia/Tokyo:20240714T160000
DTSTAMP:20260424T102938
CREATED:20240619T111513Z
LAST-MODIFIED:20240626T033902Z
UID:4712-1720967400-1720972800@one-way-street.com
SUMMARY:[:zh]Asian Talk 061 Timeless Tresures feat.Yuuki Nakanishi[:ja]Asian Talk 061 Timeless Tresures feat.Yuuki Nakanishi[:]
DESCRIPTION:【イベントテーマ】 \nAsian Talk 061 \nTimeless Tresures feat.Yuuki Nakanishi \n  \n【イベント詳細】 \nゲスト：中西 悠綺 \n司会：向蕾蕾 \n  \n日時：2024年7月14日（日）14:30-16:00 \n場所：単向街書店・東京銀座店 \n東京都中央区銀座1-6-1 \n形式：中国語トーク \n全席自由 \n—————— \n費用：1500円 \n単向街書店・銀座店の年間会員は無料 \n入場券事前購入：ポスターのQRコード、ホームページ \n当日券購入：店頭レジ \n—————— \n– \n【入場券事前購入】 \n上部「Get Tickets」のボタンをクリックし、購入画面へお進みください。 \nお客様都合での払戻しは一切承ることができませんのでご了承ください。 \n– \n【単向街書店・銀座店会員】 \n下部「Going」のボタンをクリックし、申込画面購入画面へお進みください。 \n—————— \nお問い合わせ：インスタグラム公式アカウント、電話0362630116。 \n◎単向街書店・銀座店会員　年会費33\,000円/年(税込) \n  \n \n会員申込コード \n【会員特典】 \n１、番号付き会員カード \n2、ドリンク無料券12枚の進呈 \n3、イベント無料参加(一部を除く) \n4、中国語書籍（簡体）3割引 \n  \n【イベント紹介】 \n名曲リバイバルプロジェクトTIMELESSTREASURES 第1弾作品として、テレサ・テン80年代の名曲「時の流れに身をまかせ」「つぐない」の2曲を2024年4月17日にリリース。日本からの逆輸入アーティストとして中西悠綺さんが中国語VER.を歌い上げます。 \n今回のイベントでは、中西悠綺さんをお招きし、中国語での楽曲披露とトークをお届けいたします。 \n  \n【ゲストプロフィール】 \n \n｜中西 悠綺 \n三重県出⾝ \n中華圏SNS総フォロワー数６０万 ⼈ \n中国語 HSK６級 \nアジアで活躍できる⼥優を⽬指し19歳で台湾に語学留学。⾹港で武術を学び、チャン・ ツィイーらが卒業した北京の名⾨国⽴演劇⼤学 中央戯劇学院で演技を学ぶ。映画・ドラマに多数出演しており、活動は⼥優・歌⼿・司会など多岐にわたる。 \n■ ⽇本⼈初・中国映画「 神奇旅⾏社」主演⼥優 \n■ヤングジャンプギャルコン2021 グランプリ \n■ ⾼橋愛さん率いる「ゴキゲンズ」のメンバー
URL:https://one-way-street.com/ja/event/asian-talk-061/
LOCATION:One Way Street Tokyo\, 東京都中央区銀座1丁目6−1\, 東京\, Japan
ATTACH;FMTTYPE=image/png:https://one-way-street.com/wp-content/uploads/2024/06/881719024013_.pic_hd.png
END:VEVENT
BEGIN:VEVENT
DTSTART;TZID=Asia/Tokyo:20240715T143000
DTEND;TZID=Asia/Tokyo:20240715T160000
DTSTAMP:20260424T102938
CREATED:20240624T101851Z
LAST-MODIFIED:20240624T102840Z
UID:4795-1721053800-1721059200@one-way-street.com
SUMMARY:[:zh]Asian Talk 069 播客“起朱楼宴宾客”东京线下听友会[:]
DESCRIPTION:申し訳ありません、このコンテンツはただ今　中文　のみです。
URL:https://one-way-street.com/ja/event/asian-talk-069/
LOCATION:One Way Street Tokyo\, 東京都中央区銀座1丁目6−1\, 東京\, Japan
ATTACH;FMTTYPE=image/png:https://one-way-street.com/wp-content/uploads/2024/06/311719224884_.pic_hd.png
END:VEVENT
BEGIN:VEVENT
DTSTART;TZID=Asia/Tokyo:20240720T143000
DTEND;TZID=Asia/Tokyo:20240720T160000
DTSTAMP:20260424T102938
CREATED:20240710T062940Z
LAST-MODIFIED:20240711T034313Z
UID:4957-1721485800-1721491200@one-way-street.com
SUMMARY:[:zh]Asian Talk 062 在日本画漫画的中国声优，聊聊现在和未来[:ja]Asian Talk 062 日本で漫画を描く中国声優、今と未来について語る[:]
DESCRIPTION:【イベントテーマ】 \nAsian Talk 062 \n日本で漫画を描く中国声優、今と未来について語る \n  \n【イベント詳細】 \nゲスト：劉セイラ、3000 \n司会：福沢優里 \n  \n日時：2024年7月20日（土）14:30-16:00 \n場所：単向街書店・東京銀座店 \n東京都中央区銀座1-6-1 \n形式：中国語トーク \n全席自由 \n—————— \n費用：1500円 \n単向街書店・銀座店の年間会員は無料 \n入場券事前購入：ポスターのQRコード、ホームページ \n当日券購入：店頭レジ \n※ \n当日、【電子版『中国少女、日本で声優になる。』の購入証明】を提示していただいた方には、 \n記念ステッカーをプレゼントいたします。 \n—————— \n– \n【入場券事前購入】 \n上部「Get Tickets」のボタンをクリックし、購入画面へお進みください。 \nお客様都合での払戻しは一切承ることができませんのでご了承ください。 \n– \n【単向街書店・銀座店会員】 \n下部「Going」のボタンをクリックし、申込画面購入画面へお進みください。 \n—————— \nお問い合わせ：インスタグラム公式アカウント、電話0362630116。 \n◎単向街書店・銀座店会員　年会費33\,000円/年(税込) \n  \n \n会員申込コード \n【会員特典】 \n１、番号付き会員カード \n2、ドリンク無料券12枚の進呈 \n3、イベント無料参加(一部を除く) \n4、中国語書籍（簡体）3割引 \n  \n【イベント紹介】 \n日本では現在、「アイドル声優ブーム」が高まっています。水樹奈々、田村ゆかり、宮野真守などの人気声優たちが、横浜スタジアムやさいたまスーパーアリーナなどで公演を行い、一度に数千人から一万人以上のファンを集めています。声優の仕事に憧れる若者は多いですが、日本人であっても声優になるのは容易ではありません。そんな中、中国の北京出身の劉婧荦さんが、劉セイラという名前で日本のプロ声優業界で成功を収めました。 \n彼女は北京外国語大学の日本語学科で日本語を学び始め、日本に留学し、青二プロダクションに所属しました。そして、日本語と中国語のバイリンガル声優として活躍しています。また、忙しい中でも漫画の創作を続け、2018年から集英社の『ふんわりジャンプ』で漫画『教えて劉老師！2カ国語声優の日常』の連載を開始しました。2024年にはぶんか社から漫画『中国少女、日本で声優になる。』を出版しました。驚くべき才能と努力で、彼女は素人から声優、そして漫画家への挑戦を成し遂げました。 \n今回、銀座の単向街書店は日中バイリンガル声優であり漫画家の劉婧荦（劉セイラ）と、ポッドキャスト『天地無用』のホストである3000さんを招き、オフライン交流イベントを開催します。彼女の日本語学習の経験、日本への留学、そして夢を実現して声優になった後の体験を聞きながら、言語学習や異文化生活への適応、夢と現実の葛藤について、二人のゲストと共に現在と未来について考え、交流しましょう。 \n  \n【ゲストプロフィール】 \n \n｜劉セイラ\n \n２か国語声優・漫画家。 \n中国・北京出身。\n北京外国語大学で日本語を学び来日、\n史上初の日本語と中国語の両方を操る\n「２か国語声優」としてデビュー。 \nアニメ・ゲームに出演のほか、NHK「まいにち中国語」を始め、語学番組などでもパーソナリティを務める。\n漫画家としても活動し、「教えて劉老師！2カ国語声優の日常」(集英社)\n「中国少女、日本で声優になる。」(ぶんか社)を出版。 \n  \n \n｜3000 \nポッドキャスト「天地無用」の創設者兼ホスト。ベテラン漫画編集者、アニメプロデューサー。彼がホストを務める音声ポッドキャスト番組「天地無用」は、「ビジュアルアート雑談」をテーマに、アニメやゲーム、小説、映画などの人気作品や関連する話題を探ります。代表作には、『スキップとローファー』、『ミキとダリ』、『はたらく細胞BLACK』、『バーテンダー』などがあります。 \n  \n【関連作品】 \n \n\n\n中国少女、日本で声優になる。  \n劉セイラ (著)  \n\n\n関連リンク：https://kk-ryuseira.com/comic/ \n  \n \n\n\n\n\n\n\nポッドキャスト #日談公園#「vol.273 日本の声優をお招きしました」 \n\n\n\n\n\n\n関連リンク：https://m.weibo.cn/status/4490639159129632
URL:https://one-way-street.com/ja/event/asian-talk-062/
LOCATION:One Way Street Tokyo\, 東京都中央区銀座1丁目6−1\, 東京\, Japan
ATTACH;FMTTYPE=image/png:https://one-way-street.com/wp-content/uploads/2024/07/501720593390_.pic_hd.png
END:VEVENT
BEGIN:VEVENT
DTSTART;TZID=Asia/Tokyo:20240721T150000
DTEND;TZID=Asia/Tokyo:20240721T163000
DTSTAMP:20260424T102938
CREATED:20240702T095812Z
LAST-MODIFIED:20240703T040858Z
UID:4887-1721574000-1721579400@one-way-street.com
SUMMARY:[:zh]Asian Talk 071  比特币与NFT：虚拟中的现实[:]
DESCRIPTION:申し訳ありません、このコンテンツはただ今　中文　のみです。
URL:https://one-way-street.com/ja/event/asian-talk-071/
LOCATION:One Way Street Tokyo\, 東京都中央区銀座1丁目6−1\, 東京\, Japan
ATTACH;FMTTYPE=image/png:https://one-way-street.com/wp-content/uploads/2024/07/511719914601_.pic_hd.png
END:VEVENT
BEGIN:VEVENT
DTSTART;TZID=Asia/Tokyo:20240724T190000
DTEND;TZID=Asia/Tokyo:20240724T203000
DTSTAMP:20260424T102938
CREATED:20240702T073328Z
LAST-MODIFIED:20240702T095227Z
UID:4876-1721847600-1721853000@one-way-street.com
SUMMARY:[:zh]她故事——女性主题读书会 第四课｜本期主讲书籍：《厌女》与《我，厌男》[:]
DESCRIPTION:申し訳ありません、このコンテンツはただ今　中文　のみです。
URL:https://one-way-street.com/ja/event/herstories4/
LOCATION:One Way Street Tokyo\, 東京都中央区銀座1丁目6−1\, 東京\, Japan
ATTACH;FMTTYPE=image/png:https://one-way-street.com/wp-content/uploads/2024/07/7301719906014_.pic_hd.png
END:VEVENT
BEGIN:VEVENT
DTSTART;TZID=Asia/Tokyo:20240728T143000
DTEND;TZID=Asia/Tokyo:20240728T160000
DTSTAMP:20260424T102938
CREATED:20240715T030936Z
LAST-MODIFIED:20240717T044114Z
UID:5010-1722177000-1722182400@one-way-street.com
SUMMARY:[:zh]Asian Talk 073 东洋之美  ——从陶瓷看中国、日本、朝鲜半岛的共通性与独特性 [:ja]Asian Talk 073 東洋の美—陶磁器にみる中国、日本、朝鮮半島の共通性と独自性[:]
DESCRIPTION:【イベントテーマ】 \nAsian Talk 073 \n東洋の美—陶磁器にみる中国、日本、朝鮮半島の共通性と独自性 \n  \n【イベント詳細】 \nゲスト：徳留 大輔 \n日時：2024年7月28日（日）14:30-16:00 \n場所：単向街書店・東京銀座店 \n東京都中央区銀座1-6-1 \n形式：日本語トーク \n全席自由 \n—————— \n費用：1500円 \n単向街書店・銀座店の年間会員は無料 \n入場券事前購入：ポスターのQRコード、ホームページ \n当日券購入：店頭レジ \n—————— \n– \n【入場券事前購入】 \n上部「Get Tickets」のボタンをクリックし、購入画面へお進みください。 \nお客様都合での払戻しは一切承ることができませんのでご了承ください。 \n– \n【単向街書店・銀座店会員】 \n下部「Going」のボタンをクリックし、申込画面購入画面へお進みください。 \n—————— \nお問い合わせ：インスタグラム公式アカウント、電話0362630116。 \n◎単向街書店・銀座店会員　年会費33\,000円/年(税込) \n \n会員申込コード \n  \n【会員特典】 \n１、番号付き会員カード \n2、ドリンク無料券12枚の進呈 \n3、イベント無料参加(一部を除く) \n4、中国語書籍（簡体）3割引 \n  \n【イベント紹介】 \n「美術を通して東アジアを旅してみませんか？」 \nこの度、単向街書店は出光美術館主任学芸員、美術の専門家、徳留大輔氏をお迎えし、中国、日本、朝鮮半島の陶磁器（やきもの）を中心に、それぞれの美術品における共通点と独自性、そして交流の歴史について深く掘り下げていきます。例えば、知られざる有田焼のルーツや、陶磁器を通じた文化交流の重要性についても詳しく解説します。今回のイベントは出光美術館の特別展を背景に、東洋美術の奥深さを感じ取っていただける内容となっています。 \n約1時間の講演の後、参加者の皆様からの質問にお答えする時間も設けております。東洋の美術品に込められた歴史と文化に触れ、その奥深さを再発見する絶好の機会です。 \n皆様のご参加を心よりお待ちしております。 \n  \n【ゲストプロフィール】 \n \n｜徳留 大輔\n \n出光美術館 主任学芸員
URL:https://one-way-street.com/ja/event/asian-talk-073/
LOCATION:One Way Street Tokyo\, 東京都中央区銀座1丁目6−1\, 東京\, Japan
ATTACH;FMTTYPE=image/png:https://one-way-street.com/wp-content/uploads/2024/07/601721031221_.pic_hd.png
END:VEVENT
END:VCALENDAR