BEGIN:VCALENDAR
VERSION:2.0
PRODID:-//One Way Street Tokyo - ECPv6.6.2//NONSGML v1.0//EN
CALSCALE:GREGORIAN
METHOD:PUBLISH
X-ORIGINAL-URL:https://one-way-street.com/ja
X-WR-CALDESC:One Way Street Tokyo のイベント
REFRESH-INTERVAL;VALUE=DURATION:PT1H
X-Robots-Tag:noindex
X-PUBLISHED-TTL:PT1H
BEGIN:VTIMEZONE
TZID:Asia/Tokyo
BEGIN:STANDARD
TZOFFSETFROM:+0900
TZOFFSETTO:+0900
TZNAME:JST
DTSTART:20240101T000000
END:STANDARD
END:VTIMEZONE
BEGIN:VEVENT
DTSTART;TZID=Asia/Tokyo:20240202T190000
DTEND;TZID=Asia/Tokyo:20240202T203000
DTSTAMP:20260424T172256
CREATED:20240124T044726Z
LAST-MODIFIED:20240125T101321Z
UID:2964-1706900400-1706905800@one-way-street.com
SUMMARY:[:zh]聽《繁花》[:]
DESCRIPTION:申し訳ありません、このコンテンツはただ今　中文　のみです。
URL:https://one-way-street.com/ja/event/a20240202/
LOCATION:One Way Street Tokyo\, 東京都中央区銀座1丁目6−1\, 東京\, Japan
ATTACH;FMTTYPE=image/jpeg:https://one-way-street.com/wp-content/uploads/2024/01/繁花海报-scaled.jpg
END:VEVENT
BEGIN:VEVENT
DTSTART;TZID=Asia/Tokyo:20240203T143000
DTEND;TZID=Asia/Tokyo:20240203T160000
DTSTAMP:20260424T172256
CREATED:20240128T025241Z
LAST-MODIFIED:20240201T072401Z
UID:3084-1706970600-1706976000@one-way-street.com
SUMMARY:[:zh]#AsianTalk037 你一定要读林达夫[:ja]#AsianTalk037 蘇る林達夫―20世紀日本を代表する思想家の政治的「したたかさ」に学ぶ―[:]
DESCRIPTION:【イベント紹介】 \n林達夫［1896-1984］の名前は、#Asian Talkに関心を抱く高い水準の読書人のあいだでさえ、ほとんど知られていないでしょう。しかし、加藤周一［1919-2008］より以前に平凡社『世界大百科事典』編集長を務めた林は、前世紀の人文学の世界において、丸山眞男［1914-1996］等と並び、最高の知性の一人と目されていました。 \n  \nとはいえ、仏語、独語、英語以外にも複数の言語に通じた西洋派知識人の凄みは、1930～40年代の天皇制ファシズム期を「無傷」で潜り抜けた政治的「したたかさ」にこそあります。林は、小林秀雄［1902-1983］を始めとする文学者や哲学者と異なり、軍部と際どい関係を保ちながらも、対外侵略戦争に積極的に関与せず、批判的な文章を書き、絶妙なタイミングで休筆するなど、例外状況下における模範的態度を示したのです。 \n  \n渡邊一民『林達夫とその時代』中国語版の刊行を機に、翻訳を監修した人文学者の王前と、集英社『アジア人物史』編集長にして『林達夫 編集の精神』を著した落合勝人が、忘れられた思想家の今日的な意味と可能性について、存分に語り合います。 \n  \n \n  \n【活動情報】 \nゲスト：落合勝人、伏怡琳 \n日時：2024年2月3日（土）14:30-16:00 \n場所：単向街書店・東京銀座店 \n住所：東京都中央区銀座1-6-1 \n形式：日本語トーク \n自由席：40席 \n参加費：1500円 \n単向街書店・東京銀座店の年間会員は無料 \n  \n【ゲストプロフィール】 \n \n落合勝人（おちあい　かつと） \n1969年生まれ。集英社新書編集長。 93年、集英社に入社し、文芸書、小説すばる等を経て、2001年より新書編集部に在籍。 姜尚中著『悩む力』をはじめ多数の新書や単行本を手掛ける。 仕事の傍ら思想史を学び、19年、法政大学大学院政治学研究科博士後期課程修了（政治学博士）。 博士論文をもとにした『林達夫　編集の精神』（岩波書店）が初めての単著。 \n  \n \n伏怡琳 \n復旦大学日本語日本文学科卒業、早稲田大学文学研究科修士 \n日本文学翻訳家。『国宝』（吉田修一著）、『第七官界徘徊 : 尾崎翠短編小説集』、『侵入者』（安部公房著）、『ロックママ』（角田光代著）、『彼らは別の場所で自在に』（小川洋子著）、『阪急電車』（有川浩著）などを翻訳。 \n  \n  \n【関連書籍】 \n \n林達夫の編集の精神（岩波書店） \n出版:2021年８月 \n関東大震災と戦争による圧倒的な崩壊を前に、人の弱さへの痛切な思いに貫かれた思想家は、ある独特な行動に乗りだした。『歴史の暮方』『共産主義的人間』を著した林達夫の〈編集者〉としての側面に光を当て、その生涯を描き直した力作。彼にとって書籍の周囲を編み直すことは、小さな社会の編成と同義であったのだ。
URL:https://one-way-street.com/ja/event/asiantalk037/
LOCATION:One Way Street Tokyo\, 東京都中央区銀座1丁目6−1\, 東京\, Japan
ATTACH;FMTTYPE=image/png:https://one-way-street.com/wp-content/uploads/2024/01/林达夫.png
END:VEVENT
BEGIN:VEVENT
DTSTART;TZID=Asia/Tokyo:20240203T170000
DTEND;TZID=Asia/Tokyo:20240203T192000
DTSTAMP:20260424T172256
CREATED:20240125T071325Z
LAST-MODIFIED:20240126T041300Z
UID:3017-1706979600-1706988000@one-way-street.com
SUMMARY:[:zh]Nostalgia【思乡】 华语电影展映——八月[:]
DESCRIPTION:申し訳ありません、このコンテンツはただ今　中文　のみです。
URL:https://one-way-street.com/ja/event/a20240303/
LOCATION:One Way Street Tokyo\, 東京都中央区銀座1丁目6−1\, 東京\, Japan
ATTACH;FMTTYPE=image/png:https://one-way-street.com/wp-content/uploads/2024/01/グラフィックス1.png
END:VEVENT
BEGIN:VEVENT
DTSTART;TZID=Asia/Tokyo:20240204T143000
DTEND;TZID=Asia/Tokyo:20240204T160000
DTSTAMP:20260424T172256
CREATED:20240121T175342Z
LAST-MODIFIED:20240128T045918Z
UID:2908-1707057000-1707062400@one-way-street.com
SUMMARY:[:zh]#Asian Talk 038 秋山亮二ｘ濱田英明 「你好小朋友/写真という奇跡」[:ja]#Asian Talk 038 秋山亮二ｘ濱田英明 「你好小朋友/写真という奇跡」[:]
DESCRIPTION:【イベント概要】 \n幻の名作と言われた1983年発行『你好小朋友-中国の子供達』の復刻版が2019年に発売され大きな話題となり、その後シリーズ作として『光景宛如昨-你好小朋友2』『往事成追憶-你好小朋友3』『你好小朋友別冊-遇見』が出版された秋山亮二氏。 \n子供写真の傑作とも称される『你好小朋友』の昔からの大ファンという濱田英明氏も、自身の子供を撮影した写真集『Haru and Mina』が国内外で高い評価を得ています。\n子供という無垢なる存在の姿をありのままに捉えた両者の作品は、時代や国境を超えて多くの人の心に響き、また子供という枠にとどまらず、人物をどう写すかという点において、写真を志す人々の一つの指針にもなっています。 \n数々の奇跡のようなカットの背景には、どのような思索があったのか。独自の目線で写真に向き合う両氏の会話にご期待ください。 \n  \n \n  \n【イベント詳細】 \nゲスト: 秋山亮二氏、濱田英明氏 \n日時: 2024年2月4日（日）14:30〜16:00 \n場所：単向街書店・東京銀座店 \n住所：東京都中央区銀座1-6-1 \n自由席：40席 \n参加費：1500円 \n単向街書店・東京銀座店の年間会員は無料 \n  \n【ゲスト紹介】 \n \n秋山亮二 Ryoji Akiyama \n1942年東京都出身。AP通信、朝日新聞社写真部を経てフリーの写真家に。主には6×6版の二眼レフで人々の生活を撮影。作品はニューヨーク近代美術館、東京都写真美術館など国内外の多数の美術館に収蔵。『你好小朋友-中国の子供達』復刻版(青艸堂)が中国で大反響を呼んだ。 \n  \n \n濱田英明Hideaki Hamada  \n1977年兵庫県淡路島出身。大阪府在住。35歳でデザイナーからフォトグラファーに転身。映像作品も手がける。 \n  \n【関連図書】 \n「你好小朋友DEAR OLD DAYS/秋山亮二RYOJI AKIYAMA」¥4\,200\n「光景宛如昨DEAR OLD DAYS II/秋山亮二RYOJI AKIYAMA」¥4\,200\n「往事成追憶DEAR OLD DAYS III/秋山亮二RYOJI AKIYAMA」¥4\,200\n「遇見Encounter/秋山亮二RYOJI AKIYAMA」¥3\,000
URL:https://one-way-street.com/ja/event/nhxpy/
LOCATION:One Way Street Tokyo\, 東京都中央区銀座1丁目6−1\, 東京\, Japan
ATTACH;FMTTYPE=image/png:https://one-way-street.com/wp-content/uploads/2024/01/WechatIMG21.png
END:VEVENT
BEGIN:VEVENT
DTSTART;TZID=Asia/Tokyo:20240204T170000
DTEND;TZID=Asia/Tokyo:20240204T193000
DTSTAMP:20260424T172256
CREATED:20240125T071455Z
LAST-MODIFIED:20240126T041042Z
UID:3020-1707066000-1707075000@one-way-street.com
SUMMARY:[:en]Nostalgia【思乡】 华语电影展映——暴裂无声[:zh]Nostalgia【思乡】 华语电影展映——暴裂无声[:]
DESCRIPTION:申し訳ありません、このコンテンツはただ今　中文　のみです。
URL:https://one-way-street.com/ja/event/a20240304/
LOCATION:One Way Street Tokyo\, 東京都中央区銀座1丁目6−1\, 東京\, Japan
ATTACH;FMTTYPE=image/png:https://one-way-street.com/wp-content/uploads/2024/01/グラフィックス2.png
END:VEVENT
BEGIN:VEVENT
DTSTART;TZID=Asia/Tokyo:20240205T170000
DTEND;TZID=Asia/Tokyo:20240205T203000
DTSTAMP:20260424T172256
CREATED:20240125T071551Z
LAST-MODIFIED:20240128T034305Z
UID:3022-1707152400-1707165000@one-way-street.com
SUMMARY:[:zh]Nostalgia【思乡】 华语电影展映——白塔之光（闭幕影片）[:]
DESCRIPTION:申し訳ありません、このコンテンツはただ今　中文　のみです。
URL:https://one-way-street.com/ja/event/a20240305/
LOCATION:One Way Street Tokyo\, 東京都中央区銀座1丁目6−1\, 東京\, Japan
ATTACH;FMTTYPE=image/png:https://one-way-street.com/wp-content/uploads/2024/01/グラフィックス3.png
END:VEVENT
BEGIN:VEVENT
DTSTART;TZID=Asia/Tokyo:20240210T143000
DTEND;TZID=Asia/Tokyo:20240210T160000
DTSTAMP:20260424T172256
CREATED:20240122T101900Z
LAST-MODIFIED:20240130T021655Z
UID:2919-1707575400-1707580800@one-way-street.com
SUMMARY:[:zh]从看见到发现 —— 第三种智慧[:]
DESCRIPTION:申し訳ありません、このコンテンツはただ今　中文　のみです。
URL:https://one-way-street.com/ja/event/ckjdfx/
LOCATION:One Way Street Tokyo\, 東京都中央区銀座1丁目6−1\, 東京\, Japan
ATTACH;FMTTYPE=image/png:https://one-way-street.com/wp-content/uploads/2024/01/WechatIMG72.png
END:VEVENT
BEGIN:VEVENT
DTSTART;TZID=Asia/Tokyo:20240210T170000
DTEND;TZID=Asia/Tokyo:20240210T203000
DTSTAMP:20260424T172256
CREATED:20240129T112530Z
LAST-MODIFIED:20240204T023645Z
UID:3147-1707584400-1707597000@one-way-street.com
SUMMARY:[:zh]聊聊华人的家宴、一起包饺子[:ja]家宴について話し合い、一緒に餃子を包みましょう[:]
DESCRIPTION:【イベント概要】 \n春節はおそらく中国人にとって一年で最も重要な瞬間です。春節の家庭の宴では、食べ物は単なる食べ物ではなく、家の味や郷愁の具体的な象徴です。異国に住む中国人たち、除夕には餃子を抱えながら、離散の話や懐かしい食べ物について語り合いましょう。 \n代々中国人が故郷を離れて海外に渡り、海外の中国人となり、独自の食べ物の記憶を持ちながら、海外の中華料理の顔を絶えず更新しています。層になって重なり合い、中国の深さ、広さ、そして重みがすべてその一杯の中にあります。新春の祝いに、異国他郷に住むあなたのために、暖かなイベントを準備したいと思います。人々が集い、美食を共有し、久しくない儀式感も感じるかもしれません。 \n春節の夜に灯篭が高く掲げられる夜、その夜の書店は詩的で、煙火が漂います。 \n過ぎ去った年の進歩や不満、過去のことは過去にしましょう。 \n一緒に過去一年の成功と失敗、クライマックスと低迷を共有し、共に願いましょう： \n新年がもっと良い年になることを。 \n \n中国における旧暦のお正月「春節」でよく食べられる、皮がモチモチして分厚い「餃子」を作ります！ \n中国では、日本で私たちがよく食べる「焼き餃子」とは違い、皮がもちもちして分厚い「水餃子」が一般的です。 \n春節の夜、みんなで一緒に作って食べながら、楽しく交流しませんか？日本の方にはなかなか馴染みのない、中国での春節の過ごし方を体験してみましょう☆ \n  \n  \n【イベント詳細】 \n日時: 2024年2月10日（土）17:00〜20:30 \n場所：単向街書店・東京銀座店 \n住所：東京都中央区銀座1-6-1 \n  \n参加費：2500円 \n単向街書店・東京銀座店の年間会員は無料 \n  \n申込方法：ORコードもしくは店頭支払 \nお客様都合での払い戻しは一切承ることができませんのでご了承ください。
URL:https://one-way-street.com/ja/event/dushenzhiye/
LOCATION:One Way Street Tokyo\, 東京都中央区銀座1丁目6−1\, 東京\, Japan
ATTACH;FMTTYPE=image/png:https://one-way-street.com/wp-content/uploads/2024/01/WechatIMG1054.png
END:VEVENT
BEGIN:VEVENT
DTSTART;TZID=Asia/Tokyo:20240211T143000
DTEND;TZID=Asia/Tokyo:20240211T160000
DTSTAMP:20260424T172256
CREATED:20240123T115108Z
LAST-MODIFIED:20240129T065558Z
UID:2943-1707661800-1707667200@one-way-street.com
SUMMARY:[:zh]#Asian Talk 039 面对“三千年未有之变局”读书人何为？[:ja]#Asian Talk 039 「三千年に一度の変局」に立ち向かう知識人は何をすべきなのか？[:]
DESCRIPTION:【イベント介绍】\n1949年、時代の転換が再び訪れ、中国の知識人は去るか留まるかの選択を迫られました。 \n胡適、傅斯年、梅貽琦、梁實秋、毛子水などはアメリカや台湾に渡りました。錢穆は香港に新亜書院を設立しました。迷いなく多くの人々は留まることを選びました。その中には傍観者のように見守る储安平も含まれ、欧米文化に浸った人々もいました。 \n一方、大公報、商務印書館、北京大学は、中国に新しい文明をもたらし、新しい知識人を育てる役割を果たし、中国の言論の自由、思想の自由、学問の自由を象徴しました。 \n2月11日（日曜日）、作家で歴史学者の傅国涌氏と作家で単向空間の創始者である許知遠氏は、1949年と前述した3つの機関の視点と歴史を踏まえながら、中国の近代史の転換と知識人の運命について語ります。 \n  \n \n\n\n【イベント情報】\nゲスト：傅国涌（作家、歴史学者）、許知遠（作家、単向空間設立者） \n時間：2024年2月11日（日）14:30-16:00 \n場所：単向街書店・東京銀座店 \n住所：東京都中央区銀座1-6-1 \n　参加費：2500円/ライブ配信：500円 \n全席自由，単向街書店・東京銀座店の年間会員は無料 \n  \n\n【ゲストプロフィール】\n\n\n傅国涌 \n作家、現在は杭州に在住。1999年から現在に至るまで、『書屋』、『随筆』、『東方』、『老照片』、『炎黄春秋』、『南方周末』、『文汇读书周报』など、数十の新聞や雑誌で多数の記事を発表し、多くの著作を出版しています。彼の文章は、中国の近代史、特に百年の言論史や中国の知識人に焦点を当てています。 \n\n\n\n\n\n\n\n\n\n\n\n\n许知远 \n作家、単向街書店の創設者であり、トーク番組『十三邀』のホストでもあります。著書には『祖国の異邦人』『さまよう者の世界』『憂鬱な若者たち』などがあり、現在、5巻から成る梁啓超の伝記を執筆中で、そのうち2巻『梁啓超：若き改革者 1873—1898』と『梁啓超：逃亡者（1898—1903）』が既に出版されています。 \n\n【関連書籍】\n\n\n\n\n《去留之間：１９４９年中国知识分子的选择》 \n作者：傅国涌 \n出版时间：2023年12月 \n出版品牌：読道社 \n  \n1949年，中国知识分子必须在去留之间做出选择。1949年是一个划分时代的关键年份，不是一个平平常常的时间标记，在这一年做出的选择要决定一个人将来的命运。 \n  \n目录 \n小引 p1\n1949年中国知识分子的选择 p5\n包天笑 p39\n陈光甫 p57\n胡适 p79\n傅斯年 p101\n张元济 p123\n柳亚子 p145\n竺可桢 p165\n梁漱溟 p193\n宋云彬 p209\n夏衍 p227\n胡风 p239\n沈从文 p65\n徐铸成 p285\n附录 p301\n后记 p351 \nこちらの本は日本で出版されていますが、内容は中国語となります。ご注意ください。 \n\n\n\n\n\n\n《一报一馆一大學：中国转型的是非成败１８９７ー１９４９》 \n作者：傅国涌 \n出版时间：2023年12月 \n出版品牌：読道社 \n  \n大公报、商务印书馆、北京大学分别作为中国近代史上民间报纸、出版业和近代大学的代表，为中国引入了新的文明，培育了几代新型知识分子，是中国言论自由、思想自由、学术自由的风向标。本书通过三大机构的视角与历史，描述了中国近现代史中转型的是非成败。 \n  \n目录 \n引言\n第一章：启蒙1897-1907\n第二章：立宪1903-1911\n第三章：共和1911-1917\n第四章：新潮1917-1922\n第五章：转轨1922-1931\n第六章：国难1931-1937\n第七章：苦撑1937-1945\n第八章：夹缝1945-1949\n后记 \nこちらの本は日本で出版されていますが、内容は中国語となります。ご注意ください。
URL:https://one-way-street.com/ja/event/a20240211/
LOCATION:One Way Street Tokyo\, 東京都中央区銀座1丁目6−1\, 東京\, Japan
ATTACH;FMTTYPE=image/jpeg:https://one-way-street.com/wp-content/uploads/2024/01/AT39_1662-x-1016.8mm-大横-无二维码-scaled.jpg
END:VEVENT
BEGIN:VEVENT
DTSTART;TZID=Asia/Tokyo:20240211T180000
DTEND;TZID=Asia/Tokyo:20240211T193000
DTSTAMP:20260424T172256
CREATED:20240125T052528Z
LAST-MODIFIED:20240129T034443Z
UID:3011-1707674400-1707679800@one-way-street.com
SUMMARY:[:zh]那些岁月里经典的歌声---邓丽君与王菲，经典传唱春节特辑[:ja]懐かしい時代の歌声ーーテレサ・テン & フェイ・ウォン、春節特集[:]
DESCRIPTION:【イベント概要】 \n中国の旧正月 春節。春風が顔をなでるように音がメロディーを成し心を温める。 \n私たちは春節の特別音楽イベントを企画しました。テレサ・テンとフェイ・ウォンのクラシック曲のカバーと本人の歌を合わせ、音楽の素晴らしさと喜びを共に味わいたいと思います。 \nテレサテンの歌声は人々の記憶に焼きつき、今も変わらない名曲として歌い継がれています。この春節と言う特別な日に、彼女の数々の作品をカバーし、彼女の音楽に敬意を表します。 \nさらに中国音楽界の女神王菲。彼女は独特の音色と歌詞で多くの聴衆をとりこにしました。彼女の代表作をカバーすることで、私たちは彼女の音楽の独特な魅力を再発見し、彼女の曲に対する深い愛情を感じることができるかもしれません。「红豆」、「伝奇」などの歌は、それぞれのメロディーに歳月の物語を乗せ、最も深い共感を呼び起こします。 \nまた、曽楠のオリジナル作品も披露し、彼女が心で紡ぐメロディーを感じてもらえたら嬉しいです。音楽の力は時間を越えて、私たちの心に温かみと感動をもたらすものだと思います。みなさまと一緒に音楽のある温かい時間を過ごせることを願っています。 \n  \n \n  \n【イベント詳細】 \nゲスト: 曾楠（新世代フォークシンガー） \n形式：リサイタル、著者サイン会 \n  \n日時: 2024年2月11日（日）18:00〜19:30 \n場所：単向街書店・東京銀座店 \n住所：東京都中央区銀座1-6-1 \n  \n参加費：1500円 \n全席自由 \n単向街書店・東京銀座店の年間会員は無料 \n  \n申込方法：ORコードもしくは店頭支払 \nお客様都合での払い戻しは一切承ることができませんのでご了承ください。 \n  \n【ゲスト紹介】 \n \n曾楠 \n重慶出身。２０２１年に来日。幼少期から古典音楽を学び、５歳でピアノを初める。大学時代よりギターも学び初め、马頔（MA　DI）、陳粒（CHEN　LI）等の民謡アーティストと公演を果たす。 \n草莓音楽祭等の出演した経歴がある曾楠氏の音楽は百度、網易雲音楽など主要なインターネット上のブラットフォームにおいても度々ランクイン。彼女の作りたす情緒的で繊細かつポップな旋律はその高い技術力で支えられた歌声により更に高められ、観客を自身の世界観へ難なく取り組む。また歌唱だけに留まらず、古典民謡とポップスを融合させたそのハーモニー際立をたせ、そっと支えるギター伴奏の正確さからは彼女が音楽にあげてきた時間の長さ物語っている。 \n  \n【関連作品】 \n \n「妙物」 \n出版：2016年 \n曽楠の初の創作アルバムであり、個人の感情を壮大にすることに慣れたこの時代に、静かにささやかなことを歌ってくれた。『妙物』は悲しみに関心を持ち、孤独に関心を持ち、美しさに関心を持ち、それは細密で、隠されていて、情熱的で、それは自分を必死に世問に隠している人に歌って、口にできない言葉に歌っていると思います。 \n  \n \n「降临」 \n出版：2023年 \nアルバムの10曲は「変わり種で暗く、しかし耳を楽しませるポップス」に偏っている。曽楠さんは個人的に詞曲を担当していて、光り輝く冷たい殻の中で、あなたはたまに古い民謡の温度が暗がりに沸いているのを感じることができます。曽楠はこのアルバムの中で人類の終末を討論した–凡生象、多角恋の場面を描いてくれて、目の前にはいろいろあるが、古い寓話の現代での屈折であり、愛憎の情仇はまだ上演されているが、すべてはやがて訪れるだろう。
URL:https://one-way-street.com/ja/event/a20240204/
LOCATION:One Way Street Tokyo\, 東京都中央区銀座1丁目6−1\, 東京\, Japan
ATTACH;FMTTYPE=image/png:https://one-way-street.com/wp-content/uploads/2024/01/曾楠.png
END:VEVENT
BEGIN:VEVENT
DTSTART;TZID=Asia/Tokyo:20240212T143000
DTEND;TZID=Asia/Tokyo:20240212T160000
DTSTAMP:20260424T172256
CREATED:20240201T125001Z
LAST-MODIFIED:20240201T130225Z
UID:3259-1707748200-1707753600@one-way-street.com
SUMMARY:[:ja]Series１【自由な想像と表現を抱きしめる 】私たちの絵本 ―親子で作る唯一無二の一冊―[:]
DESCRIPTION:Series１　自由な想像と表現を抱きしめる \n私たちの絵本 \n―親子で作る唯一無二の一冊― \n  \nコンセプト \n絵本作りを通して語彙、想像力、考える力をはぐくむ \n  \n【イベント内容】 \n親子で絵本を制作する。 \n物語を理解し、登場人物に共感し、自分なりに考察をする機会を与えてくれる絵本。そして、名作と言われる絵本は素晴らしい教えと溢れんばかりの語彙が詰め込まれており、子どもの表現力や想像力を鍛えるだけではなく知識や知能も育ててくれます。 \n今回は絵本を読むということから、もう少し踏み込んで「制作」ということに重点を置き、より想像力と表現力をフル回転させ、子どもの考える力を最大限に引き出したいと考えています。 \n \n【題材】 \n自由です。 \nもし迷った場合の例として、 \n  \n「昨日体験したこと」 \n「これからしたいこと」 \n「自分のすきなこと」 \n「お母さんやお父さん、飼っているペットの紹介」 \n「もしも魔法が使えたら」 \n「もしも動物と話せたら」 \n  \nなどから選んでもらえるよう事前告知をしてもらった方がスムーズかもしれません。 \n大切なのは、絵本を制作する日までの工程です。親子でどんな内容にするかを話し合うことでコミュニケーション力を高め、PDCサイクルを繰り返すことで論理的に物事を考える力を鍛えることを目的としています。 \n  \n【ページ数】 \n表表紙1、ストーリー6、裏表紙1 \n計8ページ \n  \n保護者の方から持参して頂くもの \nクレヨンかクーピーもしくは色鉛筆、鉛筆3本くらい、消しゴム、はさみ \nできれば未就学児までは親子で一緒に準備してください。小学生は自分で準備。責任感、自立心を育てます。 \n  \n【主催の方に用意して頂きたいもの】 \nA3画用紙、ホチキス \n  \n【所要時間】 \n1時間ほど \n  \n【時間配分】 \n\n簡単な自己紹介2分\n絵本と幼児教育についての説明5分\nイベント内容説明5分\n画用紙を配り、絵本制作20～30分\n終わっていなくてもいったん中断し発表スタート(1人2分)→ストップウォッチで計る\n最後に挨拶をして終了\n\n  \n【制作流れ】 \n\nA3の紙を2等分あるいは4等分する\n\n画用紙を2等分、4等分の同じ大きさに分ける「等分」とはどういうことかを学び量の感覚を鍛えます。 \n\n物語の表紙と裏表紙を残し、お話を書き、絵を描く\n\nもしお子さんが書きたくない場合は保護者の方が描いてください。 \n自分の信頼している人と一緒に考えて楽しむことが一番大事なことです。 \n\n時間制限内に発表する\n\nストップウォッチの時間制限は、2分という時間はどれくらいなのかということを体感してもらう機会です。また自分が話すときの時間の感覚、人の話を聞くときの時間の感覚は違います。状況によって、時間の流れ方が違うということを何となくでも理解すると感情の体験を多く積むことになります。感情の体験を多く積むと相手の立場や気持ちを考えることができるようになるのです。また、人の話を聞く我慢の時間を設けることで忍耐力にもつながります。 \n\n終わりの挨拶で終了です\n\n  \n【ゲスト紹介】 \n \n渡辺恵英 \n大手幼児教室の元講師。その後独立しフランチャイズで幼児教室を運営。マニュアルや教材を知る内「幼児教室で学ぶことは簡単に安価で誰でもできるのになぜそれを教えないのか」という疑問が大きくなったこと、息子の小学校受験が重なったことを機に一時教室運営から退きました。これまでの経験をまとめ、現在はネット配信で「安価に簡単にできる、幼児レッスンのやり方」（中国語訳付き）を作成中です。
URL:https://one-way-street.com/ja/event/a20240212/
LOCATION:One Way Street Tokyo\, 東京都中央区銀座1丁目6−1\, 東京\, Japan
ATTACH;FMTTYPE=image/png:https://one-way-street.com/wp-content/uploads/2024/02/绘本.png
END:VEVENT
BEGIN:VEVENT
DTSTART;TZID=Asia/Tokyo:20240216T190000
DTEND;TZID=Asia/Tokyo:20240216T203000
DTSTAMP:20260424T172256
CREATED:20240216T084350Z
LAST-MODIFIED:20240216T084711Z
UID:3467-1708110000-1708115400@one-way-street.com
SUMMARY:[:zh]龍の湖  黑胶唱片&方言文学[:]
DESCRIPTION:申し訳ありません、このコンテンツはただ今　中文　のみです。
URL:https://one-way-street.com/ja/event/%e4%b8%ad%e6%96%87-%e9%be%8d%e3%81%ae%e6%b9%96-%e9%bb%91%e8%83%b6%e5%94%b1%e7%89%87%e6%96%b9%e8%a8%80%e6%96%87%e5%ad%a6/
LOCATION:One Way Street Tokyo\, 東京都中央区銀座1丁目6−1\, 東京\, Japan
ATTACH;FMTTYPE=image/jpeg:https://one-way-street.com/wp-content/uploads/2024/02/321708057196_.pic_hd-scaled.jpg
END:VEVENT
BEGIN:VEVENT
DTSTART;TZID=Asia/Tokyo:20240217T143000
DTEND;TZID=Asia/Tokyo:20240217T160000
DTSTAMP:20260424T172256
CREATED:20240131T031829Z
LAST-MODIFIED:20240131T031855Z
UID:3207-1708180200-1708185600@one-way-street.com
SUMMARY:[:ja]#AsianTalk040 【参加型トークショー】  責任重大な“一人置いて” ‐外務省首脳通訳が伝える異文化同士の付き合い方‐[:]
DESCRIPTION:【イベント紹介】 \n日中首脳会談や重要協議など外務省首脳通訳を16年ほど経験した松本氏。経験から見出した中国との関わり方。近くて遠い日本と中国の人々同志の付き合い方について、松本氏の経験をヒントに、参加者の皆さまにも失敗談や悩みなどを共有していただきながら考えていく参加型トークショー。 \n  \n【活動情報】 \nゲスト：松本盛雄 \n日時：2024年2月17日（土）14:30-16:00 \n場所：単向街書店・東京銀座店 \n住所：東京都中央区銀座1-6-1 \n形式：日本語トーク \n自由席：40席 \n参加費：1500円 \n単向街書店・東京銀座店の年間会員は無料 \n  \n【イベント流れ】 \n1.5 時間 \n松本氏トーク 30 分 \n参加者を交えた討論 50 分 \n最後の感想など（松本氏）10 分 \n  \n【ゲストプロフィール】 \n \n松本盛雄 \n元駐瀋陽総領事、元駐パプアニューギニア特命全権大使
URL:https://one-way-street.com/ja/event/asiantalk040/
LOCATION:One Way Street Tokyo\, 東京都中央区銀座1丁目6−1\, 東京\, Japan
END:VEVENT
BEGIN:VEVENT
DTSTART;TZID=Asia/Tokyo:20240218T143000
DTEND;TZID=Asia/Tokyo:20240218T160000
DTSTAMP:20260424T172256
CREATED:20240202T100448Z
LAST-MODIFIED:20240212T100831Z
UID:3311-1708266600-1708272000@one-way-street.com
SUMMARY:[:zh]Business Seminar 东京买房子的常识和非常识[:]
DESCRIPTION:申し訳ありません、このコンテンツはただ今　中文　のみです。
URL:https://one-way-street.com/ja/event/business-seminar/
LOCATION:One Way Street Tokyo\, 東京都中央区銀座1丁目6−1\, 東京\, Japan
ATTACH;FMTTYPE=image/png:https://one-way-street.com/wp-content/uploads/2024/02/WechatIMG3219.png
END:VEVENT
BEGIN:VEVENT
DTSTART;TZID=Asia/Tokyo:20240223T143000
DTEND;TZID=Asia/Tokyo:20240223T163000
DTSTAMP:20260424T172256
CREATED:20240113T102722Z
LAST-MODIFIED:20240128T043241Z
UID:2769-1708698600-1708705800@one-way-street.com
SUMMARY:[:zh]『我是谁？』跨界对话[:ja]「自分とは何者か？」越境ダイアログ[:]
DESCRIPTION:【イベント紹介】 \n人は、様々な理由で越境する。\n災害、仕事、教育、政治、恋愛・・・。 \n国や地域に所属している「自分」\n組織に所属している「自分」\n家族に所属している「自分」 \n越境によって、\n所属している「自分」が、ゆらいでいく。 \nそんなときに浮かび上がる問い。\n「自分」とは何者なのか？ \n課題図書を手がかりにファシリテーターのいる場で対話しませんか？ \n  \n \n  \n【イベント情報】 \nゲスト：田原真人 \n日時：2024年2月23日（金曜日） 14:30-16:30 \n店名：単向街書店　東京銀座店 \n住所：東京都中央区銀座1-6-1 \n形式：日本語イベント　全席自由 \n  \n費用：1500円 \n上部「Get Tikets」のボタンをクリックし、購入画面へお進みください。 \n– \n単向街書店・銀座店の年間会員は無料 \n下部「Going」のボタンをクリックし、申込画面購入画面へお進みください。 \n  \n  \n【課題図書】 \n \n小説『ジミー』\n青海エイミー 著 \n一見、普通の高校生のマイは、心の中に葛藤を抱えている。\nイケテナイ帰国子女の男の子がクラスに来た。\nみんなが注目するなか、彼は言った。「ジミーです」\nマイは、彼との関係を通して、世界と繋がることができるのか？ \n孤独・不安・揺れ動き、求める気持ち。\nジェンダー、ルッキズム、SNS、アイデンティティー。 \n「泣きました」「もうジミーを忘れたくない」\n「今まで読んだ中で一番の小説」「この物語は美しい」たくさんの感想がきている。 \n  \n【主催者】 \n\n田原真人 \n東日本大震災をきっかけにマレーシアへ移住。\n東北に生まれた分断を越えていく力になりたいと思い、ファシリテーターとなる。 \n株式会社デジタルファシリテーション研究所代表取締役 \n国際ファシリテーターズ協会理事
URL:https://one-way-street.com/ja/event/whoiamcrossborderdialogue/
LOCATION:One Way Street Tokyo\, 東京都中央区銀座1丁目6−1\, 東京\, Japan
ATTACH;FMTTYPE=image/jpeg:https://one-way-street.com/wp-content/uploads/2024/01/WechatIMG846-scaled.jpg
END:VEVENT
BEGIN:VEVENT
DTSTART;TZID=Asia/Tokyo:20240223T190000
DTEND;TZID=Asia/Tokyo:20240223T203000
DTSTAMP:20260424T172256
CREATED:20240220T034950Z
LAST-MODIFIED:20240220T065242Z
UID:3508-1708714800-1708720200@one-way-street.com
SUMMARY:[:zh]黑胶沙龙『遇见竹岛少年』[:]
DESCRIPTION:申し訳ありません、このコンテンツはただ今　中文　のみです。
URL:https://one-way-street.com/ja/event/takeshimassyounenn/
LOCATION:One Way Street Tokyo\, 東京都中央区銀座1丁目6−1\, 東京\, Japan
ATTACH;FMTTYPE=image/png:https://one-way-street.com/wp-content/uploads/2024/02/WechatIMG654.png
END:VEVENT
BEGIN:VEVENT
DTSTART;TZID=Asia/Tokyo:20240224T143000
DTEND;TZID=Asia/Tokyo:20240224T160000
DTSTAMP:20260424T172256
CREATED:20240115T104047Z
LAST-MODIFIED:20240201T072354Z
UID:2812-1708785000-1708790400@one-way-street.com
SUMMARY:[:zh]#Asian Talk 041 如何在翻译中跨越文化壁垒 ——谈吉田修一长篇小说《国宝》翻译中的“归化”[:ja]#Asian Talk 041 翻訳によって異文化を乗り越える -吉田修一長編小説「国宝」翻訳者の試み-[:]
DESCRIPTION:【イベント紹介】 \n京劇は中国の国芸、歌舞伎は日本の国宝とされています。小説『国宝』は語り口調で歌舞伎役者の生きざまを描き、数々の演目が引用されており、歌舞伎の台詞や唱詞が多用されています。文化の壁を越えながら原作の読みやすさを保ちつつ、歌舞伎に馴染みのない、あるいは全く知らない中国の読者にも日本の読者に近い読書体験を提供することは、翻訳者にとって大きな挑戦です。 \n今回、単向街書店は『国宝』の翻訳者であり、NHK国際放送元中国語キャスターである伏怡琳氏をお招きし、この作品の翻訳時の詳細と裏話を共有していただきます。 \n  \n【活動情報】 \nゲスト：伏怡琳 \n日時：2024年2月24日（土）14:30-16:00 \n場所：単向街書店・東京銀座店 \n住所：東京都中央区銀座1-6-1 \n自由席：40席 \n参加費：1500円 \n単向街書店・東京銀座店の年間会員は無料 \n  \n【ゲストプロフィール】 \n \n伏怡琳 \n復旦大学日本語日本文学科卒業、早稲田大学文学研究科修士 \n日本文学翻訳家。『国宝』（吉田修一著）、『第七官界徘徊 : 尾崎翠短編小説集』、『侵入者』（安部公房著）、『ロックママ』（角田光代著）、『彼らは別の場所で自在に』（小川洋子著）、『阪急電車』（有川浩著）などを翻訳。 \n  \n【関連書籍】 \n著者：吉田修一 \n翻訳者：伏怡琳 \n出版社：上海人民出版社 \nブランド：世紀文景 \n芥川賞審査員としても知られる日本の著名作家、吉田修一が文壇デビュー20周年を記念して発表した長編大作。一人の歌舞伎役者の壮大な波乱に満ちた人生を綴っています。
URL:https://one-way-street.com/ja/event/gb_fyl/
LOCATION:One Way Street Tokyo\, 東京都中央区銀座1丁目6−1\, 東京\, Japan
ATTACH;FMTTYPE=image/png:https://one-way-street.com/wp-content/uploads/2024/01/AT041.png
END:VEVENT
BEGIN:VEVENT
DTSTART;TZID=Asia/Tokyo:20240225T143000
DTEND;TZID=Asia/Tokyo:20240225T160000
DTSTAMP:20260424T172256
CREATED:20240211T043041Z
LAST-MODIFIED:20240215T123617Z
UID:3427-1708871400-1708876800@one-way-street.com
SUMMARY:[:zh]下关：一座可以阅读的千年古城[:]
DESCRIPTION:申し訳ありません、このコンテンツはただ今　中文　のみです。
URL:https://one-way-street.com/ja/event/shimonoseki/
ATTACH;FMTTYPE=image/png:https://one-way-street.com/wp-content/uploads/2024/02/旁观者的30年历程-作为记者持续从内外观察中国与媒体报道的冲突-.png
END:VEVENT
END:VCALENDAR