BEGIN:VCALENDAR
VERSION:2.0
PRODID:-//One Way Street Tokyo - ECPv6.6.2//NONSGML v1.0//EN
CALSCALE:GREGORIAN
METHOD:PUBLISH
X-ORIGINAL-URL:https://one-way-street.com/en
X-WR-CALDESC:Events for One Way Street Tokyo
REFRESH-INTERVAL;VALUE=DURATION:PT1H
X-Robots-Tag:noindex
X-PUBLISHED-TTL:PT1H
BEGIN:VTIMEZONE
TZID:Asia/Tokyo
BEGIN:STANDARD
TZOFFSETFROM:+0900
TZOFFSETTO:+0900
TZNAME:JST
DTSTART:20250101T000000
END:STANDARD
END:VTIMEZONE
BEGIN:VEVENT
DTSTART;VALUE=DATE:20251218
DTEND;VALUE=DATE:20251223
DTSTAMP:20260423T080935
CREATED:20251205T041851Z
LAST-MODIFIED:20251205T063324Z
UID:9662-1766016000-1766447999@one-way-street.com
SUMMARY:[:zh]【艺术空间】清风扶触・即兴诗乐  王令怡的东游记[:]
DESCRIPTION:Sorry\, this entry is only available in 中文.
URL:https://one-way-street.com/en/event/exhibition-20251218/
LOCATION:One Way Street Tokyo\, 東京都中央区銀座1丁目6−1\, 東京\, Japan
ATTACH;FMTTYPE=image/png:https://one-way-street.com/wp-content/uploads/2025/12/ポスター-2.png
END:VEVENT
BEGIN:VEVENT
DTSTART;TZID=Asia/Tokyo:20251220T173000
DTEND;TZID=Asia/Tokyo:20251220T190000
DTSTAMP:20260423T080935
CREATED:20251217T101850Z
LAST-MODIFIED:20251217T102214Z
UID:9712-1766251800-1766257200@one-way-street.com
SUMMARY:[:zh]【DOKI DOGGIEドキドギ × 东京单向街】宠物小沙龙・欢迎来参加[:]
DESCRIPTION:Sorry\, this entry is only available in 中文.
URL:https://one-way-street.com/en/event/dokidoggie-01/
LOCATION:One Way Street Tokyo\, 東京都中央区銀座1丁目6−1\, 東京\, Japan
ATTACH;FMTTYPE=image/jpeg:https://one-way-street.com/wp-content/uploads/2025/12/default-67-scaled.jpg
END:VEVENT
END:VCALENDAR