BEGIN:VCALENDAR
VERSION:2.0
PRODID:-//One Way Street Tokyo - ECPv6.6.2//NONSGML v1.0//EN
CALSCALE:GREGORIAN
METHOD:PUBLISH
X-ORIGINAL-URL:https://one-way-street.com/en
X-WR-CALDESC:Events for One Way Street Tokyo
REFRESH-INTERVAL;VALUE=DURATION:PT1H
X-Robots-Tag:noindex
X-PUBLISHED-TTL:PT1H
BEGIN:VTIMEZONE
TZID:Asia/Tokyo
BEGIN:STANDARD
TZOFFSETFROM:+0900
TZOFFSETTO:+0900
TZNAME:JST
DTSTART:20250101T000000
END:STANDARD
END:VTIMEZONE
BEGIN:VEVENT
DTSTART;VALUE=DATE:20251104
DTEND;VALUE=DATE:20251109
DTSTAMP:20260423T100620
CREATED:20251029T074934Z
LAST-MODIFIED:20251102T093548Z
UID:9327-1762214400-1762646399@one-way-street.com
SUMMARY:[:zh]【艺术空间】《吾谷物象》——周克吾谷东京个展[:]
DESCRIPTION:Sorry\, this entry is only available in 中文.
URL:https://one-way-street.com/en/event/exhibition-20251105/
LOCATION:One Way Street Tokyo\, 東京都中央区銀座1丁目6−1\, 東京\, Japan
ATTACH;FMTTYPE=image/png:https://one-way-street.com/wp-content/uploads/2025/10/11.5-7周克吾谷-1.png
END:VEVENT
END:VCALENDAR