BEGIN:VCALENDAR
VERSION:2.0
PRODID:-//One Way Street Tokyo - ECPv6.6.2//NONSGML v1.0//EN
CALSCALE:GREGORIAN
METHOD:PUBLISH
X-ORIGINAL-URL:https://one-way-street.com/en
X-WR-CALDESC:Events for One Way Street Tokyo
REFRESH-INTERVAL;VALUE=DURATION:PT1H
X-Robots-Tag:noindex
X-PUBLISHED-TTL:PT1H
BEGIN:VTIMEZONE
TZID:Asia/Tokyo
BEGIN:STANDARD
TZOFFSETFROM:+0900
TZOFFSETTO:+0900
TZNAME:JST
DTSTART:20250101T000000
END:STANDARD
END:VTIMEZONE
BEGIN:VEVENT
DTSTART;TZID=Asia/Tokyo:20251017T183000
DTEND;TZID=Asia/Tokyo:20251017T200000
DTSTAMP:20260423T113307
CREATED:20251005T064102Z
LAST-MODIFIED:20251015T104335Z
UID:9008-1760725800-1760731200@one-way-street.com
SUMMARY:[:zh]Asian Talk 184 “特朗普时代”下的东亚未来[:en]Asian Talk 184 The Future of East Asia in the Age of Trump[:]
DESCRIPTION:【New Event】\nAsian Talk 184\nThe Future of East Asia in the Age of Trump\n  \n  \n【Event Introduction】\nJournalist Chang Che and writer Ian Buruma discuss how East Asia has responded to the Trump years and the role the region will play in the decade ahead. \nThis conversation kicks off their new podcast exploring the forces shaping East Asia’s future. \n  \n【Speaker Bio】\n \nIan Buruma \nIan Buruma is a writer\, editor\, and historian of modern East Asia. \nHe is the author of Wages of Guilt: Memories of War in Germany and Japan\, The China Lover\, and Year Zero: A History of 1945\, and has written extensively on Japanese and Chinese history\, politics\, and culture. \n  \n  \n \nChang Che \nChang Che is a writer and journalist\, contributing to The New Yorker and The Guardian. \n\n\nhttps://changnche.com/\n\n\n\n\n\n\n\n\n\n\n\n\n\n\n\n\n\n【Event and Registration Details】\n\n\n\n\n\n\n\nGuest: Ian Buruma\, Chang Che \nDate & Time:  October 17\, 2025\, 18:30–20:00\, Friday \nVenue: One Way Street Bookstore – Tokyo Ginza1-6-1 Ginza\, Chuo-ku\, Tokyo \nFormat: Talk in English/ Free seating (40 seats available) \nSeating is on a first-come\, first-served basis. Please arrive with enough time in advance. \n\n\n\n\n\n\n\n———————————————————————————————————— \n【General Admission Ticket】 \nFee: 1\,500 yen \nClick “Get Tickets” at the top of the page to access the reservation page. \nFill in the required information and complete the payment. \n*Please note: Tickets cannot be canceled\, refunded\, or transferred after purchase. Make sure your schedule is confirmed before booking. \nDue to system limitations\, the confirmation email may not be delivered to your inbox. \nIf you are unsure whether your reservation was successful\, please call us for confirmation. \n【Same-Day Ticket】 \nFee: 1\,500 yen \nAvailable for purchase at the first-floor counter of the venue on the day of the event. \n【Annual Membership Ticket】 \nAnnual members of One Way Street Bookstore · Tokyo Ginza can attend this event free of charge. \nClick “Going” below to access the reservation page. Fill in the required information to complete your registration. \nOn the day of the event\, please present your membership card to the staff for identity verification before entering. \n———————————————————————————————————— \nTo all customers attending in person: \nDoors will open 30 minutes before the event begins. \nIf you have any questions\, feel free to call us at 03-6263-0116. \n———————————————————————————————————— \n【Scan the QR code to become an Annual Member of One Way Street Bookstore · Tokyo Ginza】 \n \nMembership Fee: 33\,000 yen/year (tax included) \n【Membership Benefits】 \nExclusive Annual Membership Card \n12 Free Drink Vouchers (any drink) \nFree participation in bookstore events \n30% off purchases of Simplified Chinese books
URL:https://one-way-street.com/en/event/asian-talk-184/
LOCATION:One Way Street Tokyo\, 東京都中央区銀座1丁目6−1\, 東京\, Japan
ATTACH;FMTTYPE=image/png:https://one-way-street.com/wp-content/uploads/2025/10/1017-poster.png
END:VEVENT
END:VCALENDAR