BEGIN:VCALENDAR
VERSION:2.0
PRODID:-//One Way Street Tokyo - ECPv6.6.2//NONSGML v1.0//EN
CALSCALE:GREGORIAN
METHOD:PUBLISH
X-ORIGINAL-URL:https://one-way-street.com/en
X-WR-CALDESC:Events for One Way Street Tokyo
REFRESH-INTERVAL;VALUE=DURATION:PT1H
X-Robots-Tag:noindex
X-PUBLISHED-TTL:PT1H
BEGIN:VTIMEZONE
TZID:Asia/Tokyo
BEGIN:STANDARD
TZOFFSETFROM:+0900
TZOFFSETTO:+0900
TZNAME:JST
DTSTART:20250101T000000
END:STANDARD
END:VTIMEZONE
BEGIN:VEVENT
DTSTART;TZID=Asia/Tokyo:20251004T143000
DTEND;TZID=Asia/Tokyo:20251004T160000
DTSTAMP:20260423T113315
CREATED:20250926T082402Z
LAST-MODIFIED:20250927T095413Z
UID:8915-1759588200-1759593600@one-way-street.com
SUMMARY:[:zh]Asian Talk 183 通过电影，进入中国文化的堂奥 ---刈间文俊先生谈中国电影和中国文化---[:ja]Asian Talk 183 映画を通して、中国文化の醍醐味を知る ――刈間文俊先生が語る中国映画と文化―—[:]
DESCRIPTION:Sorry\, this entry is only available in 中文 and Japanese.
URL:https://one-way-street.com/en/event/asian-talk183/
LOCATION:One Way Street Tokyo\, 東京都中央区銀座1丁目6−1\, 東京\, Japan
ATTACH;FMTTYPE=image/png:https://one-way-street.com/wp-content/uploads/2025/09/default-42.png
END:VEVENT
END:VCALENDAR