BEGIN:VCALENDAR
VERSION:2.0
PRODID:-//One Way Street Tokyo - ECPv6.6.2//NONSGML v1.0//EN
CALSCALE:GREGORIAN
METHOD:PUBLISH
X-ORIGINAL-URL:https://one-way-street.com/en
X-WR-CALDESC:Events for One Way Street Tokyo
REFRESH-INTERVAL;VALUE=DURATION:PT1H
X-Robots-Tag:noindex
X-PUBLISHED-TTL:PT1H
BEGIN:VTIMEZONE
TZID:Asia/Tokyo
BEGIN:STANDARD
TZOFFSETFROM:+0900
TZOFFSETTO:+0900
TZNAME:JST
DTSTART:20250101T000000
END:STANDARD
END:VTIMEZONE
BEGIN:VEVENT
DTSTART;TZID=Asia/Tokyo:20250913T143000
DTEND;TZID=Asia/Tokyo:20250913T160000
DTSTAMP:20260423T160742
CREATED:20250831T073532Z
LAST-MODIFIED:20250901T081000Z
UID:8714-1757773800-1757779200@one-way-street.com
SUMMARY:[:zh]Asian Talk 181  日中出版文化交流亲历记——兼谈新书《日本政治学出版の舞台裏 編集者竹中英俊の闘い》－[:ja]Asian Talk 181  体験的日中出版文化交流史：『日本政治学出版の舞台裏』を出版して[:]
DESCRIPTION:Sorry\, this entry is only available in 中文 and Japanese.
URL:https://one-way-street.com/en/event/asian-talk-181/
LOCATION:One Way Street Tokyo\, 東京都中央区銀座1丁目6−1\, 東京\, Japan
ATTACH;FMTTYPE=image/png:https://one-way-street.com/wp-content/uploads/2025/08/単向街書店　2025年9月13日　体験的日中出版文化交流史　ポスター.png
END:VEVENT
END:VCALENDAR