BEGIN:VCALENDAR
VERSION:2.0
PRODID:-//One Way Street Tokyo - ECPv6.6.2//NONSGML v1.0//EN
CALSCALE:GREGORIAN
METHOD:PUBLISH
X-WR-CALNAME:One Way Street Tokyo
X-ORIGINAL-URL:https://one-way-street.com/en
X-WR-CALDESC:Events for One Way Street Tokyo
REFRESH-INTERVAL;VALUE=DURATION:PT1H
X-Robots-Tag:noindex
X-PUBLISHED-TTL:PT1H
BEGIN:VTIMEZONE
TZID:Asia/Tokyo
BEGIN:STANDARD
TZOFFSETFROM:+0900
TZOFFSETTO:+0900
TZNAME:JST
DTSTART:20250101T000000
END:STANDARD
END:VTIMEZONE
BEGIN:VEVENT
DTSTART;VALUE=DATE:20250720
DTEND;VALUE=DATE:20250728
DTSTAMP:20260423T184923
CREATED:20250718T115756Z
LAST-MODIFIED:20250718T125758Z
UID:8447-1752969600-1753660799@one-way-street.com
SUMMARY:[:zh]【艺术空间】精致污染——四人展[:en]【ART IN ONE-WAY】Exhibition：Exquisite Pollution[:]
DESCRIPTION:【ART IN ONE-WAY】\nExquisite Pollution\nArtists：LeiLei Chen & BeiBei Chen\, Sandra R Hansen\, Xiwei Zhang \nCurator：Jinghua Lan \n2025.7.20 SUN – 7.27 SUN \n  \n【Gallery Talk】\nGuest: YuXin Pei\, Sandra R. Hansen \nDate & Time: Sunday\, July 20\, 2025\, 3:40 PM – 5:10 PM \nVenue: One Way Street Bookstore\, 1-6-1 Ginza\, Chuo-ku\, Tokyo \nAdmission: Free \n  \n【Artist Statements】\n \nLeilei Chen \n\n\n\n\n\n\n\n\n\nArtist and university lecturer. \nHolds an MFA from Kendall College of Art and Design in the United States and a Master’s degree in Art History from the Academy of Arts & Design\, Tsinghua University. \nCurrently teaches Art Education in the Department of Visual and Media Arts at Grand Valley State University\, USA. Previously taught Illustration at Kendall College of Art and Design at Ferris State University\, and also taught at the School of Culture and Communication at Liaoning University of Technology in China. Formerly served as Special Representative to the U.S. for UNESCO Beijing. \n\n\n\n\n\n\n\n\n\n\n  \n \nBeibei Chen \n\n\n\n\n\n\n\n\n\nArtist\, President of the Art Institute of Michigan\, and university lecturer. \nHolds an MFA from Kendall College of Art and Design (USA)\, a Master’s degree in Art Studies from the School of Arts at Peking University\, and a Master’s degree in Urban Design from the University of South Florida. \nCurrently serves as President of the Art Institute of Michigan. Previously taught at Liaoning University of Technology for over 10 years. \n\n\n\n\n\n\n\n\n\n\n  \n  \n \n\n\n\n\n\n\n\n\n\nSandra Hansen \nSandra Hansen became an environmental artist in 2014 after an agricultural disaster in Lake Erie killed thousands of fish. Her alarming research on water pollution showed how plastics got into our drinking water\, fish stomachs\, and strangled fish and sea creatures with nets\, ropes\, and plastics in the rivers\, lakes\, and seas. Hansen switched from oil painting to paper making and began making large papers to explain the immensity of the issue of plastics in water. Many of her papers included plastics she found on beaches around the world. Hansen’s papers grew ever larger- first to 7 feet then\, 16 feet. Her largest piece is a 38-foot\, life-size humpback whale. Hansen’s work grew into an installation where viewers walk through an underwater-like space with paper sea creatures caught in plastic. \nHansen lives in Holland\, Michigan. She attended Kendall College of Art and Design for both undergraduate and graduate work. She has traveled to 30 countries for artist residencies\, teaching\, exhibitions\, vacations\, and museums. \n\n\n\n\n\n\n\n\n\n  \n  \n \nXiwei Zhang \nAt 16 years old\, currently studying at Interlochen Arts Academy in Michigan\, USA. \nRecipient of the Gold Key\, Silver Key\, and Honorable Mention in the 2024 Scholastic Art & Writing Awards. \n  \n  \n  \n【Gallery Talk Guests Statements】\n \nYuxin Pei \nGender studies expert\, Ph.D. supervisor at a top-tier (Project 985) university \n  \n  \n \nSandra Hansen \n  \n  \n  \n【Selected Works】\n \nBy LeiLei Chen & BeiBei Chen \n  \n \nBy LeiLei Chen & BeiBei Chen \n  \n  \n \nPeacock River \nSandra Hansen \n82*36cm\, Handmade Paper\, Oil Pastels\, and Found Objects \n  \n  \n \nBy Xiwei Zhang \n 
URL:https://one-way-street.com/en/event/exhibition-20250720/
LOCATION:One Way Street Tokyo\, 東京都中央区銀座1丁目6−1\, 東京\, Japan
ATTACH;FMTTYPE=image/png:https://one-way-street.com/wp-content/uploads/2025/07/イベントポスター（2025年7月）-8.png
END:VEVENT
BEGIN:VEVENT
DTSTART;TZID=Asia/Tokyo:20250726T143000
DTEND;TZID=Asia/Tokyo:20250726T180000
DTSTAMP:20260423T184923
CREATED:20250701T034725Z
LAST-MODIFIED:20250728T091740Z
UID:8288-1753540200-1753552800@one-way-street.com
SUMMARY:[:zh]Asian Talk 172 赛博玄学的尽头是认知行为心理学[:]
DESCRIPTION:Sorry\, this entry is only available in 中文.
URL:https://one-way-street.com/en/event/asian-talk-172/
LOCATION:One Way Street Tokyo\, 東京都中央区銀座1丁目6−1\, 東京\, Japan
ATTACH;FMTTYPE=image/png:https://one-way-street.com/wp-content/uploads/2025/07/7.26赛博玄学-1.png
END:VEVENT
END:VCALENDAR