BEGIN:VCALENDAR
VERSION:2.0
PRODID:-//One Way Street Tokyo - ECPv6.6.2//NONSGML v1.0//EN
CALSCALE:GREGORIAN
METHOD:PUBLISH
X-WR-CALNAME:One Way Street Tokyo
X-ORIGINAL-URL:https://one-way-street.com/en
X-WR-CALDESC:Events for One Way Street Tokyo
REFRESH-INTERVAL;VALUE=DURATION:PT1H
X-Robots-Tag:noindex
X-PUBLISHED-TTL:PT1H
BEGIN:VTIMEZONE
TZID:Asia/Tokyo
BEGIN:STANDARD
TZOFFSETFROM:+0900
TZOFFSETTO:+0900
TZNAME:JST
DTSTART:20250101T000000
END:STANDARD
END:VTIMEZONE
BEGIN:VEVENT
DTSTART;TZID=Asia/Tokyo:20250713T143000
DTEND;TZID=Asia/Tokyo:20250713T160000
DTSTAMP:20260423T185432
CREATED:20250707T064558Z
LAST-MODIFIED:20250707T085514Z
UID:8325-1752417000-1752422400@one-way-street.com
SUMMARY:[:ja]【パンダステーション】ここで止まって、パンダを見よう：シャンシャン写真展[:]
DESCRIPTION:Sorry\, this entry is only available in Japanese.
URL:https://one-way-street.com/en/event/pandastation-01/
LOCATION:One Way Street Tokyo\, 東京都中央区銀座1丁目6−1\, 東京\, Japan
ATTACH;FMTTYPE=image/jpeg:https://one-way-street.com/wp-content/uploads/2025/07/cgi-bin_mmwebwx-bin_webwxgetmsgimg__MsgID3707439783284232247skey@crypt_2b6780f2_67195a62e467bcebfec3624832ae3961mmweb_appidwx_webfilehelper-scaled.jpg
END:VEVENT
END:VCALENDAR