BEGIN:VCALENDAR
VERSION:2.0
PRODID:-//One Way Street Tokyo - ECPv6.6.2//NONSGML v1.0//EN
CALSCALE:GREGORIAN
METHOD:PUBLISH
X-WR-CALNAME:One Way Street Tokyo
X-ORIGINAL-URL:https://one-way-street.com/en
X-WR-CALDESC:Events for One Way Street Tokyo
REFRESH-INTERVAL;VALUE=DURATION:PT1H
X-Robots-Tag:noindex
X-PUBLISHED-TTL:PT1H
BEGIN:VTIMEZONE
TZID:Asia/Tokyo
BEGIN:STANDARD
TZOFFSETFROM:+0900
TZOFFSETTO:+0900
TZNAME:JST
DTSTART:20250101T000000
END:STANDARD
END:VTIMEZONE
BEGIN:VEVENT
DTSTART;TZID=Asia/Tokyo:20250215T143000
DTEND;TZID=Asia/Tokyo:20250215T160000
DTSTAMP:20260424T023057
CREATED:20250203T093455Z
LAST-MODIFIED:20250210T101544Z
UID:7206-1739629800-1739635200@one-way-street.com
SUMMARY:[:zh]Asian Talk 139 蛭田圭谈汉娜・阿伦特与以赛亚・伯林[:ja]Asian Talk 139 ハンナ・アーレントとアイザイア・バーリンについて語る[:]
DESCRIPTION:Sorry\, this entry is only available in 中文 and Japanese.
URL:https://one-way-street.com/en/event/asian-talk-139/
LOCATION:One Way Street Tokyo\, 東京都中央区銀座1丁目6−1\, 東京\, Japan
ATTACH;FMTTYPE=image/png:https://one-way-street.com/wp-content/uploads/2025/02/2.png
END:VEVENT
END:VCALENDAR