BEGIN:VCALENDAR
VERSION:2.0
PRODID:-//One Way Street Tokyo - ECPv6.6.2//NONSGML v1.0//EN
CALSCALE:GREGORIAN
METHOD:PUBLISH
X-WR-CALNAME:One Way Street Tokyo
X-ORIGINAL-URL:https://one-way-street.com/en
X-WR-CALDESC:Events for One Way Street Tokyo
REFRESH-INTERVAL;VALUE=DURATION:PT1H
X-Robots-Tag:noindex
X-PUBLISHED-TTL:PT1H
BEGIN:VTIMEZONE
TZID:Asia/Tokyo
BEGIN:STANDARD
TZOFFSETFROM:+0900
TZOFFSETTO:+0900
TZNAME:JST
DTSTART:20250101T000000
END:STANDARD
END:VTIMEZONE
BEGIN:VEVENT
DTSTART;TZID=Asia/Tokyo:20250208T173000
DTEND;TZID=Asia/Tokyo:20250208T183000
DTSTAMP:20260424T023100
CREATED:20250120T064228Z
LAST-MODIFIED:20250123T074225Z
UID:7091-1739035800-1739039400@one-way-street.com
SUMMARY:[:en]Auslöschung und Menschenbilder: Die Kunstausstellung von Gerd Leins[:zh]湮灭和人像：Gerd Leins个展[:ja]消去と肖像：Gerd Leins個展[:]
DESCRIPTION:Auslöschung und Menschenbilder:\nDie Kunstausstellung in Gerd Leins\n2025.2.07 FRI – 2.09 SUN \nKurator: Lan Jinghua \n\n  \nKünstlerbiografie\n \nGerd Leins \nHamburger Künstler\, Poet und Inhaber der Z & M Plattform \nInstagram: @gerd_leins \n  \nProfessional Experience\n18th\, Mar 2018      Interview from the famous journalist & editor Ms. Yinmin Chen from Hongkong China about the Art Theme “Extinction” \nLink:https://theinitium.com/article/20180311-culture-shengsiguan-berlinartist?code=IjIwMTgwMzExLWN1bHR1cmUtc2hlbmdzaWd1YW4tYmVybGluYXJ0aXN0Ig%3A1evPI1%3AmbVHtkOpT8XZlZdy2hFS8IwFnfw \n10th\, Apr 2018      Solo exhibition “Extinction” by Shanshan Gallery in Montpellier\, France \n5th\, Jul 2018       Together with artist Shuk Orani conducted art program “TRANSCENDENCE and TRANSFORMATION” in Hamburg \n8th\, Aug2019      Joint exhibition “Scream and Extinction”—Gerd Leins with Tutou Jueren Lixiaoqiang” by Lancini Gallery in Berlin \nVedio link: https://youtu.be/S-_Sklq6g-A?feature=shared \n20th\, Jun 2020     Joint exhibition “L’ART EN SENS INVERSE 2.0—Gerd Leins with Ni Shaofeng) by Unart gallery in Hamburg \nlink: https://mp.weixin.qq.com/s/EhIcx1NClQwQmGTqILE-hw \nhttps://m.toutiao.com/article/6841163489734558215/?wxshare_count=2 \n14th\, Jul 2020     Joint exhibition “L’ART EN SENS INVERSE 3.0—Gerd Leins with Ni Shaofeng \nlink: https://mp.weixin.qq.com/s/EhIcx1NClQwQmGTqILE-hw \nOct 2020        Three pictures from “Extinction” are collected by “The THIRD SESSION OF QINGDAO INTERNATIONAL COMTEMPORARY ART EXHIBITION”\, published by Qingdao Press \nLink: https://mp.weixin.qq.com/s/lBHcnKEbL1O4UNzUQzMSKg \n14th\, Jun 2021    Online interview with Gelu (Chenhuiying) “Conversation with German artist Gerd Leins \nlink: https://mp.weixin.qq.com/s/P1gtaTVrvsgKVoCHWRrt-g \n23rd\, Oct 2021    Joint exhibition “L’ART EN SENS INVERSE 3.0—Gerd Leins with Ni Shaofeng by Gelu Art Center in Beijing \nlink: \nhttps://mp.weixin.qq.com/s/KtIAUqn1fLgA-U1FP4sitA \nhttps://www.artnewsnet.com/2021/11/10/33212/ \n9th\, Jul 2022     Exhibition by the third session of Chongqing International Contemporary Art \nlink:https://youtu.be/xvkFosmxbck?feature=shared \nhttps://youtu.be/ulbKg0rX7U8?feature=shared \nAug 2022       Joint Exhibition “Power on Canvas” by Pashmin Gallery in Hamburg \n30th\, Mar 2023   Group Exhibition “Invitation to Midissage” by Hamburg Art Gallery \n24th\, Jun 2023    Joint Exhibition “?!?!?!?!?!?!?” by Teslahaus. \nBesides the latest paintings from Gerd Leins\, there was special performance about Recitation of Poems. All the recited poems are from the poetry book of Gerd Leins\, which are published in 2022. They are《Erinnern Sie mich an mich》 and 《Notizen vom Jenseits meiner Wirklichkeit》 \n23th\, Oct 2023   As special guest attended the Sino German Bilateral Academic Seminar of China Northwest Minzu University. At the same time there was an Art Exhibition in the University. \nhttps://www.xbmu.edu.cn/xwcb/info/1011/20491.htm \n23th\, Oct 2024   Together with the famous Chinese Poet Yan Xi attended “To Rilke”Poetry Conference at Ge Lu Space\, Beijing \nhttps://mail.google.com/mail/u/0/#sent/FMfcgzQZSjdHLgMqZVplBCnRKrSgbKDs \n4th\, Nov 2024     Joint Exhibition at Drama Spirit in 798 Art District and Ge Lu Space Link \nhttps://mail.google.com/mail/u/0/#sent/FMfcgzQZSjdHLgMqZVplBCnRKrSgbKDs \nFor more information\, please kindly refer to Gerd Leins official website. \nhttps://gerd-leins.de \n\n  \nEinführung in die Ausstellung\nSerie Auslöschung\nAnmerkung: Bei den hier gezeigten Bildern handelt es sich um kleine Beispiele (siehe Fotos) \nDer endgültige Verlust des „eigenen Selbst“ ist zentrales Thema dieser Serie. Er sieht das\nMenschsein als Spanne zwischen dem Nichts – in der Zeit – das eigene Bewusstsein ist. \nDiese Zeit ist eine einsame Zeit – nur durch die Anderen erhalten wir Selbst- Existenz und nur\nsolange die Anderen existieren\, existieren wir. \nDabei unterliegen die Informationen\, Gedanken\, Erinnerungen\, die Grundlage unseres\nBewusstseins sind\, einem post mortem Transformationsprozess. \nDer Titel seines seriellen Werkes „Auslöschung“ greift diesen Transformationsprozess auf. \nDie Todesanzeige ist der Ausgangspunkt. Sie informiert uns über den Tod einer Person. \nIn „Phase 1“ werden die Namen und weitere Daten mit schwarzer Farbe unkenntlich gemacht. \nSchwarz symbolisiert das Nichts\, zu dem die Person geworden ist. \nDer Betrachter kann den Inhalt der Information noch erkennen. \nIn „Phase 2“ werden mit weißer Farbe weitere Teile des Bildes unkenntlich gemacht. \nDie Farbe Weiß symbolisiert das Alles. \nDie meisten Informationen der Todesanzeigen werden in Alles und Nichts transformiert\, es\nentsteht eine neue Information. \nDie ursprüngliche Information bleibt trotzdem erkennbar und so im Bewusstsein. \nDieser Prozess wird in „Phase 3“ durch weitere\, dünn aufgekratzte schwarze Farbe\, intensiviert. \nVon den ursprünglichen Informationen sind nur noch Fragmente erkennbar. \nDiese Transformation erzeugt auf Abstand eine völlig andere Wahrnehmung\, erst in\nunmittelbarer Nähe erkennen wir noch den Ursprung. \nIn „Phase 4“ werden alle Informationen zu schwarzen Kreuzen auf weißem Untergrund\ntransformiert. \nDie ursprüngliche Information ist völlig „ausgelöscht“. \nDiese Kreuze symbolisieren die von sich selbst erlösten Seelen\, die befreit von jeder \nInformation jetzt nichts mehr sind. \nAber: Wenn es das Nichts gibt\, dann kann es das Nichts nicht geben. \nDie 365 Menschenbilder des Gerd Leins \nAus dem Zyklus „Die Vernichtung der Wahrheit durch die Wirklichkeit“ \nGerd Leins Menschenbilder sind von sich selbst entstellt. Die Augen leer. Die Münder nichts\nmehr sagend. Aus manchen Bildern quillt das Rot. Umrandet von einer Art Heiligenschein\nder sich ins Blau verliert. \nSind es die Farben eine Flagge?\nIm Angesicht des Krieges wird zuerst die Wahrheit vernichtet. Durch eine geschaffene\nWirklichkeit. Und in Wahrheit existiert dann nur noch die Wirklichkeit! Wenn Sie sie dafür\nhalten. \n\nFarben\nfragen nicht\nFarben\nsind Antworten\nFarben\ngeben Anweisung\nMenschen\nbekennen sich\nzu\nFarben\nWir sind\nFarben blind \n\n  \n  \nGaleriegespräch\n2025.2.8 (SAT) 17:30pm-18:30pm \nKostenloser Eintritt \nOnewayStreet Tokyo \n1-6-1\, Ginza\, Chuoku\, Tokyo\, 104-0061 \nTel: 03-6263-0116
URL:https://one-way-street.com/en/event/2025-02-07/
LOCATION:One Way Street Tokyo\, 東京都中央区銀座1丁目6−1\, 東京\, Japan
ATTACH;FMTTYPE=image/png:https://one-way-street.com/wp-content/uploads/2025/01/イベントポスターのコピー-4.png
END:VEVENT
END:VCALENDAR