BEGIN:VCALENDAR
VERSION:2.0
PRODID:-//One Way Street Tokyo - ECPv6.6.2//NONSGML v1.0//EN
CALSCALE:GREGORIAN
METHOD:PUBLISH
X-WR-CALNAME:One Way Street Tokyo
X-ORIGINAL-URL:https://one-way-street.com/en
X-WR-CALDESC:Events for One Way Street Tokyo
REFRESH-INTERVAL;VALUE=DURATION:PT1H
X-Robots-Tag:noindex
X-PUBLISHED-TTL:PT1H
BEGIN:VTIMEZONE
TZID:Asia/Tokyo
BEGIN:STANDARD
TZOFFSETFROM:+0900
TZOFFSETTO:+0900
TZNAME:JST
DTSTART:20240101T000000
END:STANDARD
END:VTIMEZONE
BEGIN:VEVENT
DTSTART;TZID=Asia/Tokyo:20241005T143000
DTEND;TZID=Asia/Tokyo:20241005T160000
DTSTAMP:20260424T084858
CREATED:20240924T010548Z
LAST-MODIFIED:20240930T084206Z
UID:5857-1728138600-1728144000@one-way-street.com
SUMMARY:[:zh]Asian Talk096 龍行天下 -白于郊　銀座個展-[:ja]Asian Talk096 龍行天下 -白于郊　銀座個展-[:]
DESCRIPTION:Sorry\, this entry is only available in 中文 and Japanese.
URL:https://one-way-street.com/en/event/asian-talk-096/
LOCATION:One Way Street Tokyo\, 東京都中央区銀座1丁目6−1\, 東京\, Japan
ATTACH;FMTTYPE=image/png:https://one-way-street.com/wp-content/uploads/2024/09/イベントポスター-1.png
END:VEVENT
END:VCALENDAR