BEGIN:VCALENDAR
VERSION:2.0
PRODID:-//One Way Street Tokyo - ECPv6.6.2//NONSGML v1.0//EN
CALSCALE:GREGORIAN
METHOD:PUBLISH
X-WR-CALNAME:One Way Street Tokyo
X-ORIGINAL-URL:https://one-way-street.com/en
X-WR-CALDESC:Events for One Way Street Tokyo
REFRESH-INTERVAL;VALUE=DURATION:PT1H
X-Robots-Tag:noindex
X-PUBLISHED-TTL:PT1H
BEGIN:VTIMEZONE
TZID:Asia/Tokyo
BEGIN:STANDARD
TZOFFSETFROM:+0900
TZOFFSETTO:+0900
TZNAME:JST
DTSTART:20240101T000000
END:STANDARD
END:VTIMEZONE
BEGIN:VEVENT
DTSTART;TZID=Asia/Tokyo:20240907T130000
DTEND;TZID=Asia/Tokyo:20240907T140000
DTSTAMP:20260424T102941
CREATED:20240830T083649Z
LAST-MODIFIED:20240830T084244Z
UID:5545-1725714000-1725717600@one-way-street.com
SUMMARY:[:zh]Asian Talk 093 欢愉・东渡 -陳慶慶　東京個展-[:]
DESCRIPTION:Sorry\, this entry is only available in 中文.
URL:https://one-way-street.com/en/event/asian-talk-093/
LOCATION:One Way Street Tokyo\, 東京都中央区銀座1丁目6−1\, 東京\, Japan
ATTACH;FMTTYPE=image/png:https://one-way-street.com/wp-content/uploads/2024/08/at-093-cover.png
END:VEVENT
BEGIN:VEVENT
DTSTART;TZID=Asia/Tokyo:20240907T143000
DTEND;TZID=Asia/Tokyo:20240907T160000
DTSTAMP:20260424T102941
CREATED:20240819T033705Z
LAST-MODIFIED:20240820T052444Z
UID:5386-1725719400-1725724800@one-way-street.com
SUMMARY:[:ja]Asian Talk 085  飛躍する中国文具の世界～手書きに魅了される人々～[:]
DESCRIPTION:Sorry\, this entry is only available in Japanese.
URL:https://one-way-street.com/en/event/asian-talk-085/
LOCATION:One Way Street Tokyo\, 東京都中央区銀座1丁目6−1\, 東京\, Japan
ATTACH;FMTTYPE=image/png:https://one-way-street.com/wp-content/uploads/2024/08/at085-cover.png
END:VEVENT
END:VCALENDAR