BEGIN:VCALENDAR
VERSION:2.0
PRODID:-//One Way Street Tokyo - ECPv6.6.2//NONSGML v1.0//EN
CALSCALE:GREGORIAN
METHOD:PUBLISH
X-ORIGINAL-URL:https://one-way-street.com/en
X-WR-CALDESC:Events for One Way Street Tokyo
REFRESH-INTERVAL;VALUE=DURATION:PT1H
X-Robots-Tag:noindex
X-PUBLISHED-TTL:PT1H
BEGIN:VTIMEZONE
TZID:Asia/Tokyo
BEGIN:STANDARD
TZOFFSETFROM:+0900
TZOFFSETTO:+0900
TZNAME:JST
DTSTART:20240101T000000
END:STANDARD
END:VTIMEZONE
BEGIN:VEVENT
DTSTART;TZID=Asia/Tokyo:20240512T150000
DTEND;TZID=Asia/Tokyo:20240512T173000
DTSTAMP:20260424T203550
CREATED:20240420T080543Z
LAST-MODIFIED:20240512T033552Z
UID:4139-1715526000-1715535000@one-way-street.com
SUMMARY:[:zh]中日合作获奖纪录片《唐卡画师之乡》放映暨映后分享会[:ja]ドキュメンタリー『天空チベット タンカ絵師の郷』上映会＆座談会[:]
DESCRIPTION:Sorry\, this entry is only available in 中文 and Japanese.
URL:https://one-way-street.com/en/event/tangkadocumentary/
LOCATION:One Way Street Tokyo\, 東京都中央区銀座1丁目6−1\, 東京\, Japan
ATTACH;FMTTYPE=image/png:https://one-way-street.com/wp-content/uploads/2024/04/WechatIMG230.png
END:VEVENT
END:VCALENDAR