BEGIN:VCALENDAR
VERSION:2.0
PRODID:-//One Way Street Tokyo - ECPv6.6.2//NONSGML v1.0//EN
CALSCALE:GREGORIAN
METHOD:PUBLISH
X-WR-CALNAME:One Way Street Tokyo
X-ORIGINAL-URL:https://one-way-street.com/en
X-WR-CALDESC:Events for One Way Street Tokyo
REFRESH-INTERVAL;VALUE=DURATION:PT1H
X-Robots-Tag:noindex
X-PUBLISHED-TTL:PT1H
BEGIN:VTIMEZONE
TZID:Asia/Tokyo
BEGIN:STANDARD
TZOFFSETFROM:+0900
TZOFFSETTO:+0900
TZNAME:JST
DTSTART:20240101T000000
END:STANDARD
END:VTIMEZONE
BEGIN:VEVENT
DTSTART;TZID=Asia/Tokyo:20240427T143000
DTEND;TZID=Asia/Tokyo:20240427T160000
DTSTAMP:20260424T203533
CREATED:20240413T110425Z
LAST-MODIFIED:20240415T030118Z
UID:4084-1714228200-1714233600@one-way-street.com
SUMMARY:[:ja]神保町街歩き-この街を通しアジア各国文化を知る-[:]
DESCRIPTION:Sorry\, this entry is only available in Japanese.
URL:https://one-way-street.com/en/event/jinbochotalk/
LOCATION:One Way Street Tokyo\, 東京都中央区銀座1丁目6−1\, 東京\, Japan
ATTACH;FMTTYPE=image/png:https://one-way-street.com/wp-content/uploads/2024/04/401713064209_.pic_hd.png
END:VEVENT
END:VCALENDAR