BEGIN:VCALENDAR
VERSION:2.0
PRODID:-//One Way Street Tokyo - ECPv6.6.2//NONSGML v1.0//EN
CALSCALE:GREGORIAN
METHOD:PUBLISH
X-ORIGINAL-URL:https://one-way-street.com/en
X-WR-CALDESC:Events for One Way Street Tokyo
REFRESH-INTERVAL;VALUE=DURATION:PT1H
X-Robots-Tag:noindex
X-PUBLISHED-TTL:PT1H
BEGIN:VTIMEZONE
TZID:Asia/Tokyo
BEGIN:STANDARD
TZOFFSETFROM:+0900
TZOFFSETTO:+0900
TZNAME:JST
DTSTART:20240101T000000
END:STANDARD
END:VTIMEZONE
BEGIN:VEVENT
DTSTART;TZID=Asia/Tokyo:20240406T150000
DTEND;TZID=Asia/Tokyo:20240406T170000
DTSTAMP:20260424T203556
CREATED:20240312T040744Z
LAST-MODIFIED:20240316T021319Z
UID:3748-1712415600-1712422800@one-way-street.com
SUMMARY:[:zh]#Asian Talk 046 从身体到“生”的世界——作为女性与作为艺术家的“我”[:]
DESCRIPTION:Sorry\, this entry is only available in 中文.
URL:https://one-way-street.com/en/event/at046zhh/
LOCATION:One Way Street Tokyo\, 東京都中央区銀座1丁目6−1\, 東京\, Japan
ATTACH;FMTTYPE=image/png:https://one-way-street.com/wp-content/uploads/2024/03/5171710498655_.pic_.png
END:VEVENT
BEGIN:VEVENT
DTSTART;TZID=Asia/Tokyo:20240406T183000
DTEND;TZID=Asia/Tokyo:20240406T200000
DTSTAMP:20260424T203556
CREATED:20240330T043415Z
LAST-MODIFIED:20240406T050148Z
UID:3945-1712428200-1712433600@one-way-street.com
SUMMARY:[:zh]时代人物和他们的启发[:]
DESCRIPTION:Sorry\, this entry is only available in 中文.
URL:https://one-way-street.com/en/event/sdrwhtmdqf/
LOCATION:One Way Street Tokyo\, 東京都中央区銀座1丁目6−1\, 東京\, Japan
ATTACH;FMTTYPE=image/png:https://one-way-street.com/wp-content/uploads/2024/03/WechatIMG24.png
END:VEVENT
END:VCALENDAR