BEGIN:VCALENDAR
VERSION:2.0
PRODID:-//One Way Street Tokyo - ECPv6.6.2//NONSGML v1.0//EN
CALSCALE:GREGORIAN
METHOD:PUBLISH
X-ORIGINAL-URL:https://one-way-street.com/en
X-WR-CALDESC:Events for One Way Street Tokyo
REFRESH-INTERVAL;VALUE=DURATION:PT1H
X-Robots-Tag:noindex
X-PUBLISHED-TTL:PT1H
BEGIN:VTIMEZONE
TZID:Asia/Tokyo
BEGIN:STANDARD
TZOFFSETFROM:+0900
TZOFFSETTO:+0900
TZNAME:JST
DTSTART:20240101T000000
END:STANDARD
END:VTIMEZONE
BEGIN:VEVENT
DTSTART;TZID=Asia/Tokyo:20240210T143000
DTEND;TZID=Asia/Tokyo:20240210T160000
DTSTAMP:20260424T202040
CREATED:20240122T101900Z
LAST-MODIFIED:20240130T021655Z
UID:2919-1707575400-1707580800@one-way-street.com
SUMMARY:[:zh]从看见到发现 —— 第三种智慧[:]
DESCRIPTION:Sorry\, this entry is only available in 中文.
URL:https://one-way-street.com/en/event/ckjdfx/
LOCATION:One Way Street Tokyo\, 東京都中央区銀座1丁目6−1\, 東京\, Japan
ATTACH;FMTTYPE=image/png:https://one-way-street.com/wp-content/uploads/2024/01/WechatIMG72.png
END:VEVENT
BEGIN:VEVENT
DTSTART;TZID=Asia/Tokyo:20240210T170000
DTEND;TZID=Asia/Tokyo:20240210T203000
DTSTAMP:20260424T202040
CREATED:20240129T112530Z
LAST-MODIFIED:20240204T023645Z
UID:3147-1707584400-1707597000@one-way-street.com
SUMMARY:[:zh]聊聊华人的家宴、一起包饺子[:ja]家宴について話し合い、一緒に餃子を包みましょう[:]
DESCRIPTION:Sorry\, this entry is only available in 中文 and Japanese.
URL:https://one-way-street.com/en/event/dushenzhiye/
LOCATION:One Way Street Tokyo\, 東京都中央区銀座1丁目6−1\, 東京\, Japan
ATTACH;FMTTYPE=image/png:https://one-way-street.com/wp-content/uploads/2024/01/WechatIMG1054.png
END:VEVENT
END:VCALENDAR