BEGIN:VCALENDAR
VERSION:2.0
PRODID:-//One Way Street Tokyo - ECPv6.6.2//NONSGML v1.0//EN
CALSCALE:GREGORIAN
METHOD:PUBLISH
X-WR-CALNAME:One Way Street Tokyo
X-ORIGINAL-URL:https://one-way-street.com/en
X-WR-CALDESC:Events for One Way Street Tokyo
REFRESH-INTERVAL;VALUE=DURATION:PT1H
X-Robots-Tag:noindex
X-PUBLISHED-TTL:PT1H
BEGIN:VTIMEZONE
TZID:Asia/Tokyo
BEGIN:STANDARD
TZOFFSETFROM:+0900
TZOFFSETTO:+0900
TZNAME:JST
DTSTART:20240101T000000
END:STANDARD
END:VTIMEZONE
BEGIN:VEVENT
DTSTART;TZID=Asia/Tokyo:20240128T143000
DTEND;TZID=Asia/Tokyo:20240128T160000
DTSTAMP:20260424T185003
CREATED:20231227T042133Z
LAST-MODIFIED:20240118T022951Z
UID:2503-1706452200-1706457600@one-way-street.com
SUMMARY:[:zh]#Asian Talk 036 从亚洲与欧洲的两个角度思考“批评”的社会意义[:ja]#Asian Talk 036 批判は今日においてどのような意義を持っているか――アジアとヨーロッパの視点から·[:]
DESCRIPTION:
URL:https://one-way-street.com/en/event/at036/
LOCATION:One Way Street Tokyo\, 東京都中央区銀座1丁目6−1\, 東京\, Japan
ATTACH;FMTTYPE=image/jpeg:https://one-way-street.com/wp-content/uploads/2023/12/WechatIMG2036.jpeg
END:VEVENT
END:VCALENDAR