BEGIN:VCALENDAR
VERSION:2.0
PRODID:-//One Way Street Tokyo - ECPv6.6.2//NONSGML v1.0//EN
CALSCALE:GREGORIAN
METHOD:PUBLISH
X-WR-CALNAME:One Way Street Tokyo
X-ORIGINAL-URL:https://one-way-street.com/en
X-WR-CALDESC:Events for One Way Street Tokyo
REFRESH-INTERVAL;VALUE=DURATION:PT1H
X-Robots-Tag:noindex
X-PUBLISHED-TTL:PT1H
BEGIN:VTIMEZONE
TZID:Asia/Tokyo
BEGIN:STANDARD
TZOFFSETFROM:+0900
TZOFFSETTO:+0900
TZNAME:JST
DTSTART:20230101T000000
END:STANDARD
END:VTIMEZONE
BEGIN:VEVENT
DTSTART;TZID=Asia/Tokyo:20231216T140000
DTEND;TZID=Asia/Tokyo:20231216T160000
DTSTAMP:20260424T214907
CREATED:20231203T035544Z
LAST-MODIFIED:20231204T085351Z
UID:2142-1702735200-1702742400@one-way-street.com
SUMMARY:[:zh]#Asian Talk 028 纺织美：从中国、日本的审美意识出发，思考“未来之美”[:ja]＃Asian Talk 028 美を紡ぐ：中国と日本の美意識から考える「未来の美」[:]
DESCRIPTION:Sorry\, this entry is only available in 中文 and Japanese.
URL:https://one-way-street.com/en/event/owsxpola/
LOCATION:One Way Street Tokyo\, 東京都中央区銀座1丁目6−1\, 東京\, Japan
END:VEVENT
END:VCALENDAR