BEGIN:VCALENDAR
VERSION:2.0
PRODID:-//One Way Street Tokyo - ECPv6.6.2//NONSGML v1.0//EN
CALSCALE:GREGORIAN
METHOD:PUBLISH
X-ORIGINAL-URL:https://one-way-street.com/en
X-WR-CALDESC:Events for One Way Street Tokyo
REFRESH-INTERVAL;VALUE=DURATION:PT1H
X-Robots-Tag:noindex
X-PUBLISHED-TTL:PT1H
BEGIN:VTIMEZONE
TZID:Asia/Tokyo
BEGIN:STANDARD
TZOFFSETFROM:+0900
TZOFFSETTO:+0900
TZNAME:JST
DTSTART:20230101T000000
END:STANDARD
END:VTIMEZONE
BEGIN:VEVENT
DTSTART;TZID=Asia/Tokyo:20230924T143000
DTEND;TZID=Asia/Tokyo:20230924T160000
DTSTAMP:20260425T003713
CREATED:20230913T081015Z
LAST-MODIFIED:20230923T080725Z
UID:233-1695565800-1695571200@one-way-street.com
SUMMARY:[:zh]心 — 药师寺宽邦弹唱会[:ja]心 — 药师寺宽邦弹唱会[:]
DESCRIPTION:Sorry\, this entry is only available in 中文 and Japanese.
URL:https://one-way-street.com/en/event/%e4%b8%ad%e6%96%87-%e5%bf%83-%e8%8d%af%e5%b8%88%e5%af%ba%e5%ae%bd%e9%82%a6%e5%bc%b9%e5%94%b1%e4%bc%9a/
LOCATION:One Way Street Tokyo\, 東京都中央区銀座1丁目6−1\, 東京\, Japan
ATTACH;FMTTYPE=image/png:https://one-way-street.com/wp-content/uploads/2023/09/20230913-东京店海报-药师寺宽邦-03-1.png
END:VEVENT
END:VCALENDAR